BEGIN:VCALENDAR
VERSION:2.0
PRODID:-//Ayuntamiento - ECPv6.15.15//NONSGML v1.0//EN
CALSCALE:GREGORIAN
METHOD:PUBLISH
X-ORIGINAL-URL:https://www.losmontesinos.es
X-WR-CALDESC:Eventos para Ayuntamiento
REFRESH-INTERVAL;VALUE=DURATION:PT1H
X-Robots-Tag:noindex
X-PUBLISHED-TTL:PT1H
BEGIN:VTIMEZONE
TZID:Europe/Madrid
BEGIN:DAYLIGHT
TZOFFSETFROM:+0100
TZOFFSETTO:+0200
TZNAME:CEST
DTSTART:20180325T010000
END:DAYLIGHT
BEGIN:STANDARD
TZOFFSETFROM:+0200
TZOFFSETTO:+0100
TZNAME:CET
DTSTART:20181028T010000
END:STANDARD
BEGIN:DAYLIGHT
TZOFFSETFROM:+0100
TZOFFSETTO:+0200
TZNAME:CEST
DTSTART:20190331T010000
END:DAYLIGHT
BEGIN:STANDARD
TZOFFSETFROM:+0200
TZOFFSETTO:+0100
TZNAME:CET
DTSTART:20191027T010000
END:STANDARD
BEGIN:DAYLIGHT
TZOFFSETFROM:+0100
TZOFFSETTO:+0200
TZNAME:CEST
DTSTART:20200329T010000
END:DAYLIGHT
BEGIN:STANDARD
TZOFFSETFROM:+0200
TZOFFSETTO:+0100
TZNAME:CET
DTSTART:20201025T010000
END:STANDARD
END:VTIMEZONE
BEGIN:VEVENT
DTSTART;TZID=Europe/Madrid:20190420T230000
DTEND;TZID=Europe/Madrid:20190420T235900
DTSTAMP:20260424T064200
CREATED:20190311T091146Z
LAST-MODIFIED:20190311T091146Z
UID:10004287-1555801200-1555804740@www.losmontesinos.es
SUMMARY:EASTER EVENTS 2019
DESCRIPTION:START OF THE THREE HOLY DAYS OF EASTER \nEASTER SATURDAY \n11.00 pm –> SOLEMN EASTER VIGIL. During wich a celebration of the baptism of the children will take place.
URL:https://www.losmontesinos.es/event/semana-santa-2019-15-2/
LOCATION:Iglesia Parroquial de Los Montesinos\, Plaza del Ayuntamiento\, 2\, Los Montesinos\, Alicante\, 03187\, España
ATTACH;FMTTYPE=image/jpeg:https://www.losmontesinos.es/wp-content/uploads/2019/03/Cartel-Semana-Santa-2019.jpg
END:VEVENT
BEGIN:VEVENT
DTSTART;TZID=Europe/Madrid:20190420T230000
DTEND;TZID=Europe/Madrid:20190420T235900
DTSTAMP:20260424T064200
CREATED:20190311T091146Z
LAST-MODIFIED:20190311T091146Z
UID:10004288-1555801200-1555804740@www.losmontesinos.es
SUMMARY:SEMANA SANTA 2019
DESCRIPTION:INICIO DEL SANTO TRIDUO PASCUAL \nSÁBADO SANTO \nA las 23.00 horas –> SOLEMNE VIGILIA PASCUAL.
URL:https://www.losmontesinos.es/event/semana-santa-2019-15-3/
LOCATION:Iglesia Parroquial de Los Montesinos\, Plaza del Ayuntamiento\, 2\, Los Montesinos\, Alicante\, 03187\, España
CATEGORIES:Semana Santa
ATTACH;FMTTYPE=image/jpeg:https://www.losmontesinos.es/wp-content/uploads/2019/03/Cartel-Semana-Santa-2019.jpg
END:VEVENT
BEGIN:VEVENT
DTSTART;TZID=Europe/Madrid:20190420T230000
DTEND;TZID=Europe/Madrid:20190420T235900
DTSTAMP:20260424T064200
CREATED:20190311T091146Z
LAST-MODIFIED:20190311T091146Z
UID:10004289-1555801200-1555804740@www.losmontesinos.es
SUMMARY:EASTER EVENTS 2019
DESCRIPTION:START OF THE THREE HOLY DAYS OF EASTER \nEASTER SATURDAY \n11.00 pm –> SOLEMN EASTER VIGIL. During wich a celebration of the baptism of the children will take place.
URL:https://www.losmontesinos.es/event/semana-santa-2019-15-4/
LOCATION:Iglesia Parroquial de Los Montesinos\, Plaza del Ayuntamiento\, 2\, Los Montesinos\, Alicante\, 03187\, España
ATTACH;FMTTYPE=image/jpeg:https://www.losmontesinos.es/wp-content/uploads/2019/03/Cartel-Semana-Santa-2019.jpg
END:VEVENT
BEGIN:VEVENT
DTSTART;TZID=Europe/Madrid:20190420T230000
DTEND;TZID=Europe/Madrid:20190420T235900
DTSTAMP:20260424T064200
CREATED:20190311T091146Z
LAST-MODIFIED:20190311T091146Z
UID:10004290-1555801200-1555804740@www.losmontesinos.es
SUMMARY:SEMANA SANTA 2019
DESCRIPTION:INICIO DEL SANTO TRIDUO PASCUAL \nSÁBADO SANTO \nA las 23.00 horas –> SOLEMNE VIGILIA PASCUAL.
URL:https://www.losmontesinos.es/event/semana-santa-2019-15-5/
LOCATION:Iglesia Parroquial de Los Montesinos\, Plaza del Ayuntamiento\, 2\, Los Montesinos\, Alicante\, 03187\, España
CATEGORIES:Semana Santa
ATTACH;FMTTYPE=image/jpeg:https://www.losmontesinos.es/wp-content/uploads/2019/03/Cartel-Semana-Santa-2019.jpg
END:VEVENT
BEGIN:VEVENT
DTSTART;TZID=Europe/Madrid:20190420T230000
DTEND;TZID=Europe/Madrid:20190420T235900
DTSTAMP:20260424T064200
CREATED:20190311T091146Z
LAST-MODIFIED:20190311T091146Z
UID:10003681-1555801200-1555804740@www.losmontesinos.es
SUMMARY:EASTER EVENTS 2019
DESCRIPTION:START OF THE THREE HOLY DAYS OF EASTER \nEASTER SATURDAY \n11.00 pm –> SOLEMN EASTER VIGIL. During wich a celebration of the baptism of the children will take place.
URL:https://www.losmontesinos.es/event/semana-santa-2019-15-6/
LOCATION:Iglesia Parroquial de Los Montesinos\, Plaza del Ayuntamiento\, 2\, Los Montesinos\, Alicante\, 03187\, España
ATTACH;FMTTYPE=image/jpeg:https://www.losmontesinos.es/wp-content/uploads/2019/03/Cartel-Semana-Santa-2019.jpg
END:VEVENT
BEGIN:VEVENT
DTSTART;TZID=Europe/Madrid:20190419T100000
DTEND;TZID=Europe/Madrid:20190419T230000
DTSTAMP:20260424T064200
CREATED:20190311T090718Z
LAST-MODIFIED:20190311T090718Z
UID:10003680-1555668000-1555714800@www.losmontesinos.es
SUMMARY:SEMANA SANTA 2019
DESCRIPTION:INICIO DEL SANTO TRIDUO PASCUAL \nVIERNES SANTO \nA las 10.00 horas –> Vía Crucis de Pasión hasta la Iglesia de La Marquesa. \nA las 17.30 horas –> Celebración de la PASIÓN DEL SEÑOR. \nA las 22.00 horas –> PROCESIÓN DEL SANTO ENTIERRO. El itinerario será: Plaza del Ayuntamiento\, La Marquesa\, San Miguel\, Avda. del Mar\, San Lucas\, La Marquesa e Iglesia. \nDurante toda la noche\, se establecerán turnos de vela ante el Monumento.
URL:https://www.losmontesinos.es/event/semana-santa-2019-14/
LOCATION:Iglesia Parroquial de Los Montesinos\, Plaza del Ayuntamiento\, 2\, Los Montesinos\, Alicante\, 03187\, España
CATEGORIES:Semana Santa
ATTACH;FMTTYPE=image/jpeg:https://www.losmontesinos.es/wp-content/uploads/2019/03/Cartel-Semana-Santa-2019.jpg
END:VEVENT
BEGIN:VEVENT
DTSTART;TZID=Europe/Madrid:20190419T100000
DTEND;TZID=Europe/Madrid:20190419T230000
DTSTAMP:20260424T064200
CREATED:20190311T090718Z
LAST-MODIFIED:20190311T090718Z
UID:10004281-1555668000-1555714800@www.losmontesinos.es
SUMMARY:EASTER EVENTS 2019
DESCRIPTION:START OF THE THREE HOLY DAYS OF EASTER \nEASTER FRIDAY \n10.00 am –> Celebration of ‘The Station of the Cross’  of the Passion. To The Parish of La Marquesa. \n5.30 pm –> CELEBRATION OF THE PASSION OF CHRIST. \n10.00 pm –> PROCESSION OF THE HOLY BURIAL. 
URL:https://www.losmontesinos.es/event/semana-santa-2019-14-2/
LOCATION:Iglesia Parroquial de Los Montesinos\, Plaza del Ayuntamiento\, 2\, Los Montesinos\, Alicante\, 03187\, España
ATTACH;FMTTYPE=image/jpeg:https://www.losmontesinos.es/wp-content/uploads/2019/03/Cartel-Semana-Santa-2019.jpg
END:VEVENT
BEGIN:VEVENT
DTSTART;TZID=Europe/Madrid:20190419T100000
DTEND;TZID=Europe/Madrid:20190419T230000
DTSTAMP:20260424T064200
CREATED:20190311T090718Z
LAST-MODIFIED:20190311T090718Z
UID:10004282-1555668000-1555714800@www.losmontesinos.es
SUMMARY:SEMANA SANTA 2019
DESCRIPTION:INICIO DEL SANTO TRIDUO PASCUAL \nVIERNES SANTO \nA las 10.00 horas –> Vía Crucis de Pasión hasta la Iglesia de La Marquesa. \nA las 17.30 horas –> Celebración de la PASIÓN DEL SEÑOR. \nA las 22.00 horas –> PROCESIÓN DEL SANTO ENTIERRO. El itinerario será: Plaza del Ayuntamiento\, La Marquesa\, San Miguel\, Avda. del Mar\, San Lucas\, La Marquesa e Iglesia. \nDurante toda la noche\, se establecerán turnos de vela ante el Monumento.
URL:https://www.losmontesinos.es/event/semana-santa-2019-14-3/
LOCATION:Iglesia Parroquial de Los Montesinos\, Plaza del Ayuntamiento\, 2\, Los Montesinos\, Alicante\, 03187\, España
CATEGORIES:Semana Santa
ATTACH;FMTTYPE=image/jpeg:https://www.losmontesinos.es/wp-content/uploads/2019/03/Cartel-Semana-Santa-2019.jpg
END:VEVENT
BEGIN:VEVENT
DTSTART;TZID=Europe/Madrid:20190419T100000
DTEND;TZID=Europe/Madrid:20190419T230000
DTSTAMP:20260424T064200
CREATED:20190311T090718Z
LAST-MODIFIED:20190311T090718Z
UID:10004283-1555668000-1555714800@www.losmontesinos.es
SUMMARY:EASTER EVENTS 2019
DESCRIPTION:START OF THE THREE HOLY DAYS OF EASTER \nEASTER FRIDAY \n10.00 am –> Celebration of ‘The Station of the Cross’  of the Passion. To The Parish of La Marquesa. \n5.30 pm –> CELEBRATION OF THE PASSION OF CHRIST. \n10.00 pm –> PROCESSION OF THE HOLY BURIAL. 
URL:https://www.losmontesinos.es/event/semana-santa-2019-14-4/
LOCATION:Iglesia Parroquial de Los Montesinos\, Plaza del Ayuntamiento\, 2\, Los Montesinos\, Alicante\, 03187\, España
ATTACH;FMTTYPE=image/jpeg:https://www.losmontesinos.es/wp-content/uploads/2019/03/Cartel-Semana-Santa-2019.jpg
END:VEVENT
BEGIN:VEVENT
DTSTART;TZID=Europe/Madrid:20190419T100000
DTEND;TZID=Europe/Madrid:20190419T230000
DTSTAMP:20260424T064200
CREATED:20190311T090718Z
LAST-MODIFIED:20190311T090718Z
UID:10004284-1555668000-1555714800@www.losmontesinos.es
SUMMARY:SEMANA SANTA 2019
DESCRIPTION:INICIO DEL SANTO TRIDUO PASCUAL \nVIERNES SANTO \nA las 10.00 horas –> Vía Crucis de Pasión hasta la Iglesia de La Marquesa. \nA las 17.30 horas –> Celebración de la PASIÓN DEL SEÑOR. \nA las 22.00 horas –> PROCESIÓN DEL SANTO ENTIERRO. El itinerario será: Plaza del Ayuntamiento\, La Marquesa\, San Miguel\, Avda. del Mar\, San Lucas\, La Marquesa e Iglesia. \nDurante toda la noche\, se establecerán turnos de vela ante el Monumento.
URL:https://www.losmontesinos.es/event/semana-santa-2019-14-5/
LOCATION:Iglesia Parroquial de Los Montesinos\, Plaza del Ayuntamiento\, 2\, Los Montesinos\, Alicante\, 03187\, España
CATEGORIES:Semana Santa
ATTACH;FMTTYPE=image/jpeg:https://www.losmontesinos.es/wp-content/uploads/2019/03/Cartel-Semana-Santa-2019.jpg
END:VEVENT
BEGIN:VEVENT
DTSTART;TZID=Europe/Madrid:20190419T100000
DTEND;TZID=Europe/Madrid:20190419T230000
DTSTAMP:20260424T064200
CREATED:20190311T090718Z
LAST-MODIFIED:20190311T090718Z
UID:10004285-1555668000-1555714800@www.losmontesinos.es
SUMMARY:EASTER EVENTS 2019
DESCRIPTION:START OF THE THREE HOLY DAYS OF EASTER \nEASTER FRIDAY \n10.00 am –> Celebration of ‘The Station of the Cross’  of the Passion. To The Parish of La Marquesa. \n5.30 pm –> CELEBRATION OF THE PASSION OF CHRIST. \n10.00 pm –> PROCESSION OF THE HOLY BURIAL. 
URL:https://www.losmontesinos.es/event/semana-santa-2019-14-6/
LOCATION:Iglesia Parroquial de Los Montesinos\, Plaza del Ayuntamiento\, 2\, Los Montesinos\, Alicante\, 03187\, España
ATTACH;FMTTYPE=image/jpeg:https://www.losmontesinos.es/wp-content/uploads/2019/03/Cartel-Semana-Santa-2019.jpg
END:VEVENT
BEGIN:VEVENT
DTSTART;TZID=Europe/Madrid:20190418T180000
DTEND;TZID=Europe/Madrid:20190418T235900
DTSTAMP:20260424T064200
CREATED:20190311T084310Z
LAST-MODIFIED:20190311T084310Z
UID:10003674-1555610400-1555631940@www.losmontesinos.es
SUMMARY:SEMANA SANTA 2019
DESCRIPTION:INICIO DEL SANTO TRIDUO PASCUAL \nJUEVES SANTO \nA las 18.00 horas –> Misa Vespertina de la CENA DEL SEÑOR. \nA las 21.00 horas –> HORA SANTA en la Parroquia. \nA las 22.00 horas –> PROCESIÓN DEL SILENCIO. El itinerario será: Plaza del Ayuntamiento\, La Marquesa\, San Miguel\, Avda. del Mar\, San Lucas\, La Marquesa\, Iglesia. \nDurante toda la noche se establecerán turnos de vela ante el Monumento.
URL:https://www.losmontesinos.es/event/semana-santa-2019-13/
LOCATION:Iglesia Parroquial de Los Montesinos\, Plaza del Ayuntamiento\, 2\, Los Montesinos\, Alicante\, 03187\, España
CATEGORIES:Semana Santa
ATTACH;FMTTYPE=image/jpeg:https://www.losmontesinos.es/wp-content/uploads/2019/03/Cartel-Semana-Santa-2019.jpg
END:VEVENT
BEGIN:VEVENT
DTSTART;TZID=Europe/Madrid:20190418T180000
DTEND;TZID=Europe/Madrid:20190418T235900
DTSTAMP:20260424T064200
CREATED:20190311T084310Z
LAST-MODIFIED:20190311T084310Z
UID:10003675-1555610400-1555631940@www.losmontesinos.es
SUMMARY:EASTER EVENTS 2019
DESCRIPTION:START OF THE THREE HOLY DAYS OF EASTER \nEASTER THURSDAY \n6.00 pm –> Mass of the Last Supper. \n9.00 pm –> Holy Hour of the Parish. \n10.00 pm –> SILENT PROCESSION.  \nDuring the night\,will be a vigil for the warship the Holy Sacrament.
URL:https://www.losmontesinos.es/event/semana-santa-2019-13-2/
LOCATION:Iglesia Parroquial de Los Montesinos\, Plaza del Ayuntamiento\, 2\, Los Montesinos\, Alicante\, 03187\, España
ATTACH;FMTTYPE=image/jpeg:https://www.losmontesinos.es/wp-content/uploads/2019/03/Cartel-Semana-Santa-2019.jpg
END:VEVENT
BEGIN:VEVENT
DTSTART;TZID=Europe/Madrid:20190418T180000
DTEND;TZID=Europe/Madrid:20190418T235900
DTSTAMP:20260424T064200
CREATED:20190311T084310Z
LAST-MODIFIED:20190311T084310Z
UID:10003676-1555610400-1555631940@www.losmontesinos.es
SUMMARY:SEMANA SANTA 2019
DESCRIPTION:INICIO DEL SANTO TRIDUO PASCUAL \nJUEVES SANTO \nA las 18.00 horas –> Misa Vespertina de la CENA DEL SEÑOR. \nA las 21.00 horas –> HORA SANTA en la Parroquia. \nA las 22.00 horas –> PROCESIÓN DEL SILENCIO. El itinerario será: Plaza del Ayuntamiento\, La Marquesa\, San Miguel\, Avda. del Mar\, San Lucas\, La Marquesa\, Iglesia. \nDurante toda la noche se establecerán turnos de vela ante el Monumento.
URL:https://www.losmontesinos.es/event/semana-santa-2019-13-3/
LOCATION:Iglesia Parroquial de Los Montesinos\, Plaza del Ayuntamiento\, 2\, Los Montesinos\, Alicante\, 03187\, España
CATEGORIES:Semana Santa
ATTACH;FMTTYPE=image/jpeg:https://www.losmontesinos.es/wp-content/uploads/2019/03/Cartel-Semana-Santa-2019.jpg
END:VEVENT
BEGIN:VEVENT
DTSTART;TZID=Europe/Madrid:20190418T180000
DTEND;TZID=Europe/Madrid:20190418T235900
DTSTAMP:20260424T064200
CREATED:20190311T084310Z
LAST-MODIFIED:20190311T084310Z
UID:10003677-1555610400-1555631940@www.losmontesinos.es
SUMMARY:EASTER EVENTS 2019
DESCRIPTION:START OF THE THREE HOLY DAYS OF EASTER \nEASTER THURSDAY \n6.00 pm –> Mass of the Last Supper. \n9.00 pm –> Holy Hour of the Parish. \n10.00 pm –> SILENT PROCESSION.  \nDuring the night\,will be a vigil for the warship the Holy Sacrament.
URL:https://www.losmontesinos.es/event/semana-santa-2019-13-4/
LOCATION:Iglesia Parroquial de Los Montesinos\, Plaza del Ayuntamiento\, 2\, Los Montesinos\, Alicante\, 03187\, España
ATTACH;FMTTYPE=image/jpeg:https://www.losmontesinos.es/wp-content/uploads/2019/03/Cartel-Semana-Santa-2019.jpg
END:VEVENT
BEGIN:VEVENT
DTSTART;TZID=Europe/Madrid:20190418T180000
DTEND;TZID=Europe/Madrid:20190418T235900
DTSTAMP:20260424T064200
CREATED:20190311T084310Z
LAST-MODIFIED:20190311T084310Z
UID:10003678-1555610400-1555631940@www.losmontesinos.es
SUMMARY:SEMANA SANTA 2019
DESCRIPTION:INICIO DEL SANTO TRIDUO PASCUAL \nJUEVES SANTO \nA las 18.00 horas –> Misa Vespertina de la CENA DEL SEÑOR. \nA las 21.00 horas –> HORA SANTA en la Parroquia. \nA las 22.00 horas –> PROCESIÓN DEL SILENCIO. El itinerario será: Plaza del Ayuntamiento\, La Marquesa\, San Miguel\, Avda. del Mar\, San Lucas\, La Marquesa\, Iglesia. \nDurante toda la noche se establecerán turnos de vela ante el Monumento.
URL:https://www.losmontesinos.es/event/semana-santa-2019-13-5/
LOCATION:Iglesia Parroquial de Los Montesinos\, Plaza del Ayuntamiento\, 2\, Los Montesinos\, Alicante\, 03187\, España
CATEGORIES:Semana Santa
ATTACH;FMTTYPE=image/jpeg:https://www.losmontesinos.es/wp-content/uploads/2019/03/Cartel-Semana-Santa-2019.jpg
END:VEVENT
BEGIN:VEVENT
DTSTART;TZID=Europe/Madrid:20190418T180000
DTEND;TZID=Europe/Madrid:20190418T235900
DTSTAMP:20260424T064201
CREATED:20190311T084310Z
LAST-MODIFIED:20190311T084310Z
UID:10003679-1555610400-1555631940@www.losmontesinos.es
SUMMARY:EASTER EVENTS 2019
DESCRIPTION:START OF THE THREE HOLY DAYS OF EASTER \nEASTER THURSDAY \n6.00 pm –> Mass of the Last Supper. \n9.00 pm –> Holy Hour of the Parish. \n10.00 pm –> SILENT PROCESSION.  \nDuring the night\,will be a vigil for the warship the Holy Sacrament.
URL:https://www.losmontesinos.es/event/semana-santa-2019-13-6/
LOCATION:Iglesia Parroquial de Los Montesinos\, Plaza del Ayuntamiento\, 2\, Los Montesinos\, Alicante\, 03187\, España
ATTACH;FMTTYPE=image/jpeg:https://www.losmontesinos.es/wp-content/uploads/2019/03/Cartel-Semana-Santa-2019.jpg
END:VEVENT
BEGIN:VEVENT
DTSTART;TZID=Europe/Madrid:20190417T180000
DTEND;TZID=Europe/Madrid:20190417T193000
DTSTAMP:20260424T064201
CREATED:20190311T083723Z
LAST-MODIFIED:20190311T083723Z
UID:10004278-1555524000-1555529400@www.losmontesinos.es
SUMMARY:SEMANA SANTA 2019
DESCRIPTION:A las 18.00 horas –> Celebración de la Penitencia (confesiones). \nA las 18.30 horas –> Santa Misa
URL:https://www.losmontesinos.es/event/semana-santa-2019-12/
LOCATION:Iglesia Parroquial de Los Montesinos\, Plaza del Ayuntamiento\, 2\, Los Montesinos\, Alicante\, 03187\, España
CATEGORIES:Semana Santa
ATTACH;FMTTYPE=image/jpeg:https://www.losmontesinos.es/wp-content/uploads/2019/03/Cartel-Semana-Santa-2019.jpg
END:VEVENT
BEGIN:VEVENT
DTSTART;TZID=Europe/Madrid:20190417T180000
DTEND;TZID=Europe/Madrid:20190417T193000
DTSTAMP:20260424T064201
CREATED:20190311T083723Z
LAST-MODIFIED:20190311T083723Z
UID:10004279-1555524000-1555529400@www.losmontesinos.es
SUMMARY:EASTER EVENT 2019
DESCRIPTION:6.00 pm –> Celebration of Penance (confessions). \n6.30 pm –> Holy Mass.
URL:https://www.losmontesinos.es/event/semana-santa-2019-12-2/
LOCATION:Iglesia Parroquial de Los Montesinos\, Plaza del Ayuntamiento\, 2\, Los Montesinos\, Alicante\, 03187\, España
ATTACH;FMTTYPE=image/jpeg:https://www.losmontesinos.es/wp-content/uploads/2019/03/Cartel-Semana-Santa-2019.jpg
END:VEVENT
BEGIN:VEVENT
DTSTART;TZID=Europe/Madrid:20190417T180000
DTEND;TZID=Europe/Madrid:20190417T193000
DTSTAMP:20260424T064201
CREATED:20190311T083723Z
LAST-MODIFIED:20190311T083723Z
UID:10004280-1555524000-1555529400@www.losmontesinos.es
SUMMARY:SEMANA SANTA 2019
DESCRIPTION:A las 18.00 horas –> Celebración de la Penitencia (confesiones). \nA las 18.30 horas –> Santa Misa
URL:https://www.losmontesinos.es/event/semana-santa-2019-12-3/
LOCATION:Iglesia Parroquial de Los Montesinos\, Plaza del Ayuntamiento\, 2\, Los Montesinos\, Alicante\, 03187\, España
CATEGORIES:Semana Santa
ATTACH;FMTTYPE=image/jpeg:https://www.losmontesinos.es/wp-content/uploads/2019/03/Cartel-Semana-Santa-2019.jpg
END:VEVENT
BEGIN:VEVENT
DTSTART;TZID=Europe/Madrid:20190417T180000
DTEND;TZID=Europe/Madrid:20190417T193000
DTSTAMP:20260424T064201
CREATED:20190311T083723Z
LAST-MODIFIED:20190311T083723Z
UID:10003671-1555524000-1555529400@www.losmontesinos.es
SUMMARY:EASTER EVENT 2019
DESCRIPTION:6.00 pm –> Celebration of Penance (confessions). \n6.30 pm –> Holy Mass.
URL:https://www.losmontesinos.es/event/semana-santa-2019-12-4/
LOCATION:Iglesia Parroquial de Los Montesinos\, Plaza del Ayuntamiento\, 2\, Los Montesinos\, Alicante\, 03187\, España
ATTACH;FMTTYPE=image/jpeg:https://www.losmontesinos.es/wp-content/uploads/2019/03/Cartel-Semana-Santa-2019.jpg
END:VEVENT
BEGIN:VEVENT
DTSTART;TZID=Europe/Madrid:20190417T180000
DTEND;TZID=Europe/Madrid:20190417T193000
DTSTAMP:20260424T064201
CREATED:20190311T083723Z
LAST-MODIFIED:20190311T083723Z
UID:10003672-1555524000-1555529400@www.losmontesinos.es
SUMMARY:SEMANA SANTA 2019
DESCRIPTION:A las 18.00 horas –> Celebración de la Penitencia (confesiones). \nA las 18.30 horas –> Santa Misa
URL:https://www.losmontesinos.es/event/semana-santa-2019-12-5/
LOCATION:Iglesia Parroquial de Los Montesinos\, Plaza del Ayuntamiento\, 2\, Los Montesinos\, Alicante\, 03187\, España
CATEGORIES:Semana Santa
ATTACH;FMTTYPE=image/jpeg:https://www.losmontesinos.es/wp-content/uploads/2019/03/Cartel-Semana-Santa-2019.jpg
END:VEVENT
BEGIN:VEVENT
DTSTART;TZID=Europe/Madrid:20190417T180000
DTEND;TZID=Europe/Madrid:20190417T193000
DTSTAMP:20260424T064201
CREATED:20190311T083723Z
LAST-MODIFIED:20190311T083723Z
UID:10003673-1555524000-1555529400@www.losmontesinos.es
SUMMARY:EASTER EVENT 2019
DESCRIPTION:6.00 pm –> Celebration of Penance (confessions). \n6.30 pm –> Holy Mass.
URL:https://www.losmontesinos.es/event/semana-santa-2019-12-6/
LOCATION:Iglesia Parroquial de Los Montesinos\, Plaza del Ayuntamiento\, 2\, Los Montesinos\, Alicante\, 03187\, España
ATTACH;FMTTYPE=image/jpeg:https://www.losmontesinos.es/wp-content/uploads/2019/03/Cartel-Semana-Santa-2019.jpg
END:VEVENT
BEGIN:VEVENT
DTSTART;TZID=Europe/Madrid:20190416T220000
DTEND;TZID=Europe/Madrid:20190416T235900
DTSTAMP:20260424T064201
CREATED:20190308T133605Z
LAST-MODIFIED:20190308T133605Z
UID:10004272-1555452000-1555459140@www.losmontesinos.es
SUMMARY:SEMANA SANTA 2019
DESCRIPTION:A las 22.00 horas –> Celebración del ‘Vía Crucis’ por las calles de nuestro pueblo.
URL:https://www.losmontesinos.es/event/semana-santa-2019-11/
LOCATION:Iglesia Parroquial de Los Montesinos\, Plaza del Ayuntamiento\, 2\, Los Montesinos\, Alicante\, 03187\, España
CATEGORIES:Semana Santa
ATTACH;FMTTYPE=image/jpeg:https://www.losmontesinos.es/wp-content/uploads/2019/03/Cartel-Semana-Santa-2019.jpg
END:VEVENT
BEGIN:VEVENT
DTSTART;TZID=Europe/Madrid:20190416T220000
DTEND;TZID=Europe/Madrid:20190416T235900
DTSTAMP:20260424T064201
CREATED:20190308T133605Z
LAST-MODIFIED:20190308T133605Z
UID:10004273-1555452000-1555459140@www.losmontesinos.es
SUMMARY:EASTER EVENTS 2019
DESCRIPTION:10.00 pm –> Celebration of ‘The Station of the Cross’ through the streets of our village. 
URL:https://www.losmontesinos.es/event/semana-santa-2019-11-2/
LOCATION:Iglesia Parroquial de Los Montesinos\, Plaza del Ayuntamiento\, 2\, Los Montesinos\, Alicante\, 03187\, España
ATTACH;FMTTYPE=image/jpeg:https://www.losmontesinos.es/wp-content/uploads/2019/03/Cartel-Semana-Santa-2019.jpg
END:VEVENT
BEGIN:VEVENT
DTSTART;TZID=Europe/Madrid:20190416T220000
DTEND;TZID=Europe/Madrid:20190416T235900
DTSTAMP:20260424T064201
CREATED:20190308T133605Z
LAST-MODIFIED:20190308T133605Z
UID:10004274-1555452000-1555459140@www.losmontesinos.es
SUMMARY:SEMANA SANTA 2019
DESCRIPTION:A las 22.00 horas –> Celebración del ‘Vía Crucis’ por las calles de nuestro pueblo.
URL:https://www.losmontesinos.es/event/semana-santa-2019-11-3/
LOCATION:Iglesia Parroquial de Los Montesinos\, Plaza del Ayuntamiento\, 2\, Los Montesinos\, Alicante\, 03187\, España
CATEGORIES:Semana Santa
ATTACH;FMTTYPE=image/jpeg:https://www.losmontesinos.es/wp-content/uploads/2019/03/Cartel-Semana-Santa-2019.jpg
END:VEVENT
BEGIN:VEVENT
DTSTART;TZID=Europe/Madrid:20190416T220000
DTEND;TZID=Europe/Madrid:20190416T235900
DTSTAMP:20260424T064201
CREATED:20190308T133605Z
LAST-MODIFIED:20190308T133605Z
UID:10004275-1555452000-1555459140@www.losmontesinos.es
SUMMARY:EASTER EVENTS 2019
DESCRIPTION:10.00 pm –> Celebration of ‘The Station of the Cross’ through the streets of our village. 
URL:https://www.losmontesinos.es/event/semana-santa-2019-11-4/
LOCATION:Iglesia Parroquial de Los Montesinos\, Plaza del Ayuntamiento\, 2\, Los Montesinos\, Alicante\, 03187\, España
ATTACH;FMTTYPE=image/jpeg:https://www.losmontesinos.es/wp-content/uploads/2019/03/Cartel-Semana-Santa-2019.jpg
END:VEVENT
BEGIN:VEVENT
DTSTART;TZID=Europe/Madrid:20190416T220000
DTEND;TZID=Europe/Madrid:20190416T235900
DTSTAMP:20260424T064201
CREATED:20190308T133605Z
LAST-MODIFIED:20190308T133605Z
UID:10004276-1555452000-1555459140@www.losmontesinos.es
SUMMARY:SEMANA SANTA 2019
DESCRIPTION:A las 22.00 horas –> Celebración del ‘Vía Crucis’ por las calles de nuestro pueblo.
URL:https://www.losmontesinos.es/event/semana-santa-2019-11-5/
LOCATION:Iglesia Parroquial de Los Montesinos\, Plaza del Ayuntamiento\, 2\, Los Montesinos\, Alicante\, 03187\, España
CATEGORIES:Semana Santa
ATTACH;FMTTYPE=image/jpeg:https://www.losmontesinos.es/wp-content/uploads/2019/03/Cartel-Semana-Santa-2019.jpg
END:VEVENT
BEGIN:VEVENT
DTSTART;TZID=Europe/Madrid:20190416T220000
DTEND;TZID=Europe/Madrid:20190416T235900
DTSTAMP:20260424T064201
CREATED:20190308T133605Z
LAST-MODIFIED:20190308T133605Z
UID:10004277-1555452000-1555459140@www.losmontesinos.es
SUMMARY:EASTER EVENTS 2019
DESCRIPTION:10.00 pm –> Celebration of ‘The Station of the Cross’ through the streets of our village. 
URL:https://www.losmontesinos.es/event/semana-santa-2019-11-6/
LOCATION:Iglesia Parroquial de Los Montesinos\, Plaza del Ayuntamiento\, 2\, Los Montesinos\, Alicante\, 03187\, España
ATTACH;FMTTYPE=image/jpeg:https://www.losmontesinos.es/wp-content/uploads/2019/03/Cartel-Semana-Santa-2019.jpg
END:VEVENT
BEGIN:VEVENT
DTSTART;TZID=Europe/Madrid:20190412T210000
DTEND;TZID=Europe/Madrid:20190412T220000
DTSTAMP:20260424T064201
CREATED:20190308T130034Z
LAST-MODIFIED:20190308T130034Z
UID:10004270-1555102800-1555106400@www.losmontesinos.es
SUMMARY:SEMANA SANTA 2019
DESCRIPTION:A las 21.00 horas –> En la Iglesia Parroquial celebración de la SANTA MISA por los cofrades vivos y difuntos de la Cofradía de la Virgen de los Dolores. \nAl finalizar se realizará el ‘besa pies’ con la imposición de insignias a los nuevos cofrades.
URL:https://www.losmontesinos.es/event/semana-santa-2019-9/
LOCATION:Iglesia Parroquial de Los Montesinos\, Plaza del Ayuntamiento\, 2\, Los Montesinos\, Alicante\, 03187\, España
CATEGORIES:Semana Santa
ATTACH;FMTTYPE=image/jpeg:https://www.losmontesinos.es/wp-content/uploads/2019/03/Cartel-Semana-Santa-2019.jpg
END:VEVENT
END:VCALENDAR