BEGIN:VCALENDAR
VERSION:2.0
PRODID:-//Ayuntamiento - ECPv6.15.15//NONSGML v1.0//EN
CALSCALE:GREGORIAN
METHOD:PUBLISH
X-WR-CALNAME:Ayuntamiento
X-ORIGINAL-URL:https://www.losmontesinos.es
X-WR-CALDESC:Eventos para Ayuntamiento
REFRESH-INTERVAL;VALUE=DURATION:PT1H
X-Robots-Tag:noindex
X-PUBLISHED-TTL:PT1H
BEGIN:VTIMEZONE
TZID:Europe/Madrid
BEGIN:DAYLIGHT
TZOFFSETFROM:+0100
TZOFFSETTO:+0200
TZNAME:CEST
DTSTART:20180325T010000
END:DAYLIGHT
BEGIN:STANDARD
TZOFFSETFROM:+0200
TZOFFSETTO:+0100
TZNAME:CET
DTSTART:20181028T010000
END:STANDARD
BEGIN:DAYLIGHT
TZOFFSETFROM:+0100
TZOFFSETTO:+0200
TZNAME:CEST
DTSTART:20190331T010000
END:DAYLIGHT
BEGIN:STANDARD
TZOFFSETFROM:+0200
TZOFFSETTO:+0100
TZNAME:CET
DTSTART:20191027T010000
END:STANDARD
BEGIN:DAYLIGHT
TZOFFSETFROM:+0100
TZOFFSETTO:+0200
TZNAME:CEST
DTSTART:20200329T010000
END:DAYLIGHT
BEGIN:STANDARD
TZOFFSETFROM:+0200
TZOFFSETTO:+0100
TZNAME:CET
DTSTART:20201025T010000
END:STANDARD
BEGIN:DAYLIGHT
TZOFFSETFROM:+0100
TZOFFSETTO:+0200
TZNAME:CEST
DTSTART:20210328T010000
END:DAYLIGHT
BEGIN:STANDARD
TZOFFSETFROM:+0200
TZOFFSETTO:+0100
TZNAME:CET
DTSTART:20211031T010000
END:STANDARD
END:VTIMEZONE
BEGIN:VEVENT
DTSTART;TZID=Europe/Madrid:20200408T180000
DTEND;TZID=Europe/Madrid:20200408T200000
DTSTAMP:20260424T010527
CREATED:20200309T112903Z
LAST-MODIFIED:20200309T112903Z
UID:10003942-1586368800-1586376000@www.losmontesinos.es
SUMMARY:**Actos suspendidos** SEMANA SANTA en Los Montesinos
DESCRIPTION:Para más información contactar con la Parroquia. \n____________________________________________________________ \nA las 18.00h.\, Celebración de la Penitencia (confesiones). \nA las 18.30h.\, Santa Misa.
URL:https://www.losmontesinos.es/event/semana-santa-en-los-montesinos-10/
LOCATION:Iglesia Parroquial de Los Montesinos\, Plaza del Ayuntamiento\, 2\, Los Montesinos\, Alicante\, 03187\, España
CATEGORIES:Semana Santa
ATTACH;FMTTYPE=image/jpeg:https://www.losmontesinos.es/wp-content/uploads/2020/03/Cartel-Semana-Santa-2020-Los-Montesinos.jpg
END:VEVENT
BEGIN:VEVENT
DTSTART;TZID=Europe/Madrid:20200408T180000
DTEND;TZID=Europe/Madrid:20200408T200000
DTSTAMP:20260424T010527
CREATED:20200309T112903Z
LAST-MODIFIED:20200309T112903Z
UID:10003943-1586368800-1586376000@www.losmontesinos.es
SUMMARY:**Actos suspendidos** SEMANA SANTA en Los Montesinos
DESCRIPTION:Para más información contactar con la Parroquia. \n____________________________________________________________ \nA las 18.00h.\, Celebración de la Penitencia (confesiones). \nA las 18.30h.\, Santa Misa.
URL:https://www.losmontesinos.es/event/semana-santa-en-los-montesinos-10-2/
LOCATION:Iglesia Parroquial de Los Montesinos\, Plaza del Ayuntamiento\, 2\, Los Montesinos\, Alicante\, 03187\, España
CATEGORIES:Semana Santa
ATTACH;FMTTYPE=image/jpeg:https://www.losmontesinos.es/wp-content/uploads/2020/03/Cartel-Semana-Santa-2020-Los-Montesinos.jpg
END:VEVENT
BEGIN:VEVENT
DTSTART;TZID=Europe/Madrid:20200405T110000
DTEND;TZID=Europe/Madrid:20200405T130000
DTSTAMP:20260424T010527
CREATED:20200309T110419Z
LAST-MODIFIED:20200309T110419Z
UID:10004545-1586084400-1586091600@www.losmontesinos.es
SUMMARY:**Actos suspendidos** SEMANA SANTA en Los Montesinos
DESCRIPTION:Para más información contactar con la Parroquia \n___________________________________________________________________ \nA las 11.00h.\, Bendición y Procesión de Ramos\, en la Plaza de la Constitución. \nRecorrido: Plaza de la Constitución (junto consultorio médico)\, salida por C/ Manuel de Falla\, Avda. del Mar\, Avda. de La Marquesa hasta llegar a la Iglesia donde se celebrará la Santa Misa.
URL:https://www.losmontesinos.es/event/semana-santa-en-los-montesinos-8/
LOCATION:Iglesia Parroquial de Los Montesinos\, Plaza del Ayuntamiento\, 2\, Los Montesinos\, Alicante\, 03187\, España
CATEGORIES:Semana Santa
ATTACH;FMTTYPE=image/jpeg:https://www.losmontesinos.es/wp-content/uploads/2020/03/Cartel-Semana-Santa-2020-Los-Montesinos.jpg
END:VEVENT
BEGIN:VEVENT
DTSTART;TZID=Europe/Madrid:20200405T110000
DTEND;TZID=Europe/Madrid:20200405T130000
DTSTAMP:20260424T010527
CREATED:20200309T110419Z
LAST-MODIFIED:20200309T110419Z
UID:10004546-1586084400-1586091600@www.losmontesinos.es
SUMMARY:**Actos suspendidos** SEMANA SANTA en Los Montesinos
DESCRIPTION:Para más información contactar con la Parroquia \n___________________________________________________________________ \nA las 11.00h.\, Bendición y Procesión de Ramos\, en la Plaza de la Constitución. \nRecorrido: Plaza de la Constitución (junto consultorio médico)\, salida por C/ Manuel de Falla\, Avda. del Mar\, Avda. de La Marquesa hasta llegar a la Iglesia donde se celebrará la Santa Misa.
URL:https://www.losmontesinos.es/event/semana-santa-en-los-montesinos-8/
LOCATION:Iglesia Parroquial de Los Montesinos\, Plaza del Ayuntamiento\, 2\, Los Montesinos\, Alicante\, 03187\, España
CATEGORIES:Semana Santa
ATTACH;FMTTYPE=image/jpeg:https://www.losmontesinos.es/wp-content/uploads/2020/03/Cartel-Semana-Santa-2020-Los-Montesinos.jpg
END:VEVENT
BEGIN:VEVENT
DTSTART;TZID=Europe/Madrid:20200405T110000
DTEND;TZID=Europe/Madrid:20200405T130000
DTSTAMP:20260424T010527
CREATED:20200309T110419Z
LAST-MODIFIED:20200309T110419Z
UID:10004547-1586084400-1586091600@www.losmontesinos.es
SUMMARY:**Actos suspendidos** SEMANA SANTA en Los Montesinos
DESCRIPTION:Para más información contactar con la Parroquia \n___________________________________________________________________ \nA las 11.00h.\, Bendición y Procesión de Ramos\, en la Plaza de la Constitución. \nRecorrido: Plaza de la Constitución (junto consultorio médico)\, salida por C/ Manuel de Falla\, Avda. del Mar\, Avda. de La Marquesa hasta llegar a la Iglesia donde se celebrará la Santa Misa.
URL:https://www.losmontesinos.es/event/semana-santa-en-los-montesinos-8-2/
LOCATION:Iglesia Parroquial de Los Montesinos\, Plaza del Ayuntamiento\, 2\, Los Montesinos\, Alicante\, 03187\, España
CATEGORIES:Semana Santa
ATTACH;FMTTYPE=image/jpeg:https://www.losmontesinos.es/wp-content/uploads/2020/03/Cartel-Semana-Santa-2020-Los-Montesinos.jpg
END:VEVENT
BEGIN:VEVENT
DTSTART;TZID=Europe/Madrid:20200403T210000
DTEND;TZID=Europe/Madrid:20200403T230000
DTSTAMP:20260424T010527
CREATED:20200309T105824Z
LAST-MODIFIED:20200309T105824Z
UID:10004542-1585947600-1585954800@www.losmontesinos.es
SUMMARY:**Actos suspendidos** SEMANA SANTA en Los Montesinos
DESCRIPTION:Para más información contactar con la Parroquia. \n______________________________________________________________ \nA las 21.00h.\, en la Iglesia Parroquial\, celebración de la SANTA MISA por los cofrades vivos y difuntos de la Cofradía de la Virgen de los Dolores. Al finalizar\, se realizará el ‘besa pies’ con la imposición de insignias a los nuevos cofrades.
URL:https://www.losmontesinos.es/event/semana-santa-en-los-montesinos-7/
LOCATION:Iglesia Parroquial de Los Montesinos\, Plaza del Ayuntamiento\, 2\, Los Montesinos\, Alicante\, 03187\, España
CATEGORIES:Semana Santa
ATTACH;FMTTYPE=image/jpeg:https://www.losmontesinos.es/wp-content/uploads/2020/03/Cartel-Semana-Santa-2020-Los-Montesinos.jpg
END:VEVENT
BEGIN:VEVENT
DTSTART;TZID=Europe/Madrid:20200403T210000
DTEND;TZID=Europe/Madrid:20200403T230000
DTSTAMP:20260424T010527
CREATED:20200309T105824Z
LAST-MODIFIED:20200309T105824Z
UID:10004543-1585947600-1585954800@www.losmontesinos.es
SUMMARY:**Actos suspendidos** SEMANA SANTA en Los Montesinos
DESCRIPTION:Para más información contactar con la Parroquia. \n______________________________________________________________ \nA las 21.00h.\, en la Iglesia Parroquial\, celebración de la SANTA MISA por los cofrades vivos y difuntos de la Cofradía de la Virgen de los Dolores. Al finalizar\, se realizará el ‘besa pies’ con la imposición de insignias a los nuevos cofrades.
URL:https://www.losmontesinos.es/event/semana-santa-en-los-montesinos-7/
LOCATION:Iglesia Parroquial de Los Montesinos\, Plaza del Ayuntamiento\, 2\, Los Montesinos\, Alicante\, 03187\, España
CATEGORIES:Semana Santa
ATTACH;FMTTYPE=image/jpeg:https://www.losmontesinos.es/wp-content/uploads/2020/03/Cartel-Semana-Santa-2020-Los-Montesinos.jpg
END:VEVENT
BEGIN:VEVENT
DTSTART;TZID=Europe/Madrid:20200403T210000
DTEND;TZID=Europe/Madrid:20200403T230000
DTSTAMP:20260424T010527
CREATED:20200309T105824Z
LAST-MODIFIED:20200309T105824Z
UID:10004544-1585947600-1585954800@www.losmontesinos.es
SUMMARY:**Actos suspendidos** SEMANA SANTA en Los Montesinos
DESCRIPTION:Para más información contactar con la Parroquia. \n______________________________________________________________ \nA las 21.00h.\, en la Iglesia Parroquial\, celebración de la SANTA MISA por los cofrades vivos y difuntos de la Cofradía de la Virgen de los Dolores. Al finalizar\, se realizará el ‘besa pies’ con la imposición de insignias a los nuevos cofrades.
URL:https://www.losmontesinos.es/event/semana-santa-en-los-montesinos-7-2/
LOCATION:Iglesia Parroquial de Los Montesinos\, Plaza del Ayuntamiento\, 2\, Los Montesinos\, Alicante\, 03187\, España
CATEGORIES:Semana Santa
ATTACH;FMTTYPE=image/jpeg:https://www.losmontesinos.es/wp-content/uploads/2020/03/Cartel-Semana-Santa-2020-Los-Montesinos.jpg
END:VEVENT
BEGIN:VEVENT
DTSTART;TZID=Europe/Madrid:20200402T210000
DTEND;TZID=Europe/Madrid:20200402T230000
DTSTAMP:20260424T010527
CREATED:20200309T105314Z
LAST-MODIFIED:20200309T105314Z
UID:10003939-1585861200-1585868400@www.losmontesinos.es
SUMMARY:**Actos suspendidos** SEMANA SANTA Los Montesinos
DESCRIPTION:Para más información contactar con la Parroquia. \n___________________________________________________________ \nA las 21.00h.\, en la Iglesia Parroquial\, celebración de la SANTA MISA por los cofrades vivos y difuntos de la Cofradía del Cristo Yacente. Al finalizar\, se realizará el ‘besa pies’ con la imposición de insignias a los nuevos cofrades.
URL:https://www.losmontesinos.es/event/semana-santa-los-montesinos/
LOCATION:Iglesia Parroquial de Los Montesinos\, Plaza del Ayuntamiento\, 2\, Los Montesinos\, Alicante\, 03187\, España
CATEGORIES:Semana Santa
ATTACH;FMTTYPE=image/jpeg:https://www.losmontesinos.es/wp-content/uploads/2020/03/Cartel-Semana-Santa-2020-Los-Montesinos.jpg
END:VEVENT
BEGIN:VEVENT
DTSTART;TZID=Europe/Madrid:20200402T210000
DTEND;TZID=Europe/Madrid:20200402T230000
DTSTAMP:20260424T010527
CREATED:20200309T105314Z
LAST-MODIFIED:20200309T105314Z
UID:10003940-1585861200-1585868400@www.losmontesinos.es
SUMMARY:**Actos suspendidos** SEMANA SANTA Los Montesinos
DESCRIPTION:Para más información contactar con la Parroquia. \n___________________________________________________________ \nA las 21.00h.\, en la Iglesia Parroquial\, celebración de la SANTA MISA por los cofrades vivos y difuntos de la Cofradía del Cristo Yacente. Al finalizar\, se realizará el ‘besa pies’ con la imposición de insignias a los nuevos cofrades.
URL:https://www.losmontesinos.es/event/semana-santa-los-montesinos/
LOCATION:Iglesia Parroquial de Los Montesinos\, Plaza del Ayuntamiento\, 2\, Los Montesinos\, Alicante\, 03187\, España
CATEGORIES:Semana Santa
ATTACH;FMTTYPE=image/jpeg:https://www.losmontesinos.es/wp-content/uploads/2020/03/Cartel-Semana-Santa-2020-Los-Montesinos.jpg
END:VEVENT
BEGIN:VEVENT
DTSTART;TZID=Europe/Madrid:20200402T210000
DTEND;TZID=Europe/Madrid:20200402T230000
DTSTAMP:20260424T010527
CREATED:20200309T105314Z
LAST-MODIFIED:20200309T105314Z
UID:10004541-1585861200-1585868400@www.losmontesinos.es
SUMMARY:**Actos suspendidos** SEMANA SANTA Los Montesinos
DESCRIPTION:Para más información contactar con la Parroquia. \n___________________________________________________________ \nA las 21.00h.\, en la Iglesia Parroquial\, celebración de la SANTA MISA por los cofrades vivos y difuntos de la Cofradía del Cristo Yacente. Al finalizar\, se realizará el ‘besa pies’ con la imposición de insignias a los nuevos cofrades.
URL:https://www.losmontesinos.es/event/semana-santa-los-montesinos-2/
LOCATION:Iglesia Parroquial de Los Montesinos\, Plaza del Ayuntamiento\, 2\, Los Montesinos\, Alicante\, 03187\, España
CATEGORIES:Semana Santa
ATTACH;FMTTYPE=image/jpeg:https://www.losmontesinos.es/wp-content/uploads/2020/03/Cartel-Semana-Santa-2020-Los-Montesinos.jpg
END:VEVENT
BEGIN:VEVENT
DTSTART;TZID=Europe/Madrid:20200401T210000
DTEND;TZID=Europe/Madrid:20200401T230000
DTSTAMP:20260424T010527
CREATED:20200309T104904Z
LAST-MODIFIED:20200309T104904Z
UID:10003936-1585774800-1585782000@www.losmontesinos.es
SUMMARY:**Actos suspendidos** SEMANA SANTA en Los Montesinos
DESCRIPTION:Para más información contactar con la Parroquia. \n______________________________________________________ \nA las 21.00h.\, en la Iglesia Parroquial\, celebración de la SANTA MISA por los cofrades vivos y difuntos de la Cofradía del Cristo del Perdón en su Agonía. Al finalizar se realizará el ‘besa pies’ con la imposición de insignias a los nuevos cofrades.
URL:https://www.losmontesinos.es/event/semana-santa-en-los-montesinos-6/
LOCATION:Iglesia Parroquial de Los Montesinos\, Plaza del Ayuntamiento\, 2\, Los Montesinos\, Alicante\, 03187\, España
CATEGORIES:Semana Santa
ATTACH;FMTTYPE=image/jpeg:https://www.losmontesinos.es/wp-content/uploads/2020/03/Cartel-Semana-Santa-2020-Los-Montesinos.jpg
END:VEVENT
BEGIN:VEVENT
DTSTART;TZID=Europe/Madrid:20200401T210000
DTEND;TZID=Europe/Madrid:20200401T230000
DTSTAMP:20260424T010527
CREATED:20200309T104904Z
LAST-MODIFIED:20200309T104904Z
UID:10003937-1585774800-1585782000@www.losmontesinos.es
SUMMARY:**Actos suspendidos** SEMANA SANTA en Los Montesinos
DESCRIPTION:Para más información contactar con la Parroquia. \n______________________________________________________ \nA las 21.00h.\, en la Iglesia Parroquial\, celebración de la SANTA MISA por los cofrades vivos y difuntos de la Cofradía del Cristo del Perdón en su Agonía. Al finalizar se realizará el ‘besa pies’ con la imposición de insignias a los nuevos cofrades.
URL:https://www.losmontesinos.es/event/semana-santa-en-los-montesinos-6/
LOCATION:Iglesia Parroquial de Los Montesinos\, Plaza del Ayuntamiento\, 2\, Los Montesinos\, Alicante\, 03187\, España
CATEGORIES:Semana Santa
ATTACH;FMTTYPE=image/jpeg:https://www.losmontesinos.es/wp-content/uploads/2020/03/Cartel-Semana-Santa-2020-Los-Montesinos.jpg
END:VEVENT
BEGIN:VEVENT
DTSTART;TZID=Europe/Madrid:20200401T210000
DTEND;TZID=Europe/Madrid:20200401T230000
DTSTAMP:20260424T010527
CREATED:20200309T104904Z
LAST-MODIFIED:20200309T104904Z
UID:10003938-1585774800-1585782000@www.losmontesinos.es
SUMMARY:**Actos suspendidos** SEMANA SANTA en Los Montesinos
DESCRIPTION:Para más información contactar con la Parroquia. \n______________________________________________________ \nA las 21.00h.\, en la Iglesia Parroquial\, celebración de la SANTA MISA por los cofrades vivos y difuntos de la Cofradía del Cristo del Perdón en su Agonía. Al finalizar se realizará el ‘besa pies’ con la imposición de insignias a los nuevos cofrades.
URL:https://www.losmontesinos.es/event/semana-santa-en-los-montesinos-6-2/
LOCATION:Iglesia Parroquial de Los Montesinos\, Plaza del Ayuntamiento\, 2\, Los Montesinos\, Alicante\, 03187\, España
CATEGORIES:Semana Santa
ATTACH;FMTTYPE=image/jpeg:https://www.losmontesinos.es/wp-content/uploads/2020/03/Cartel-Semana-Santa-2020-Los-Montesinos.jpg
END:VEVENT
BEGIN:VEVENT
DTSTART;TZID=Europe/Madrid:20200324T100000
DTEND;TZID=Europe/Madrid:20200325T183000
DTSTAMP:20260424T010527
CREATED:20200309T083619Z
LAST-MODIFIED:20200309T083619Z
UID:10004534-1585044000-1585161000@www.losmontesinos.es
SUMMARY:**Actos suspendidos** SEMANA SANTA en Los Montesinos
DESCRIPTION:Para más información contactar con la Parroquia. \n______________________________________________________________ \nDe 10.00 a 12.00 horas\, celebración de las CUARENTA HORAS. \nDe 16.00 a 18.30 horas\, celebración de las CUARENTA HORAS.
URL:https://www.losmontesinos.es/event/semana-santa-en-los-montesinos-2/
LOCATION:Iglesia Parroquial de Los Montesinos\, Plaza del Ayuntamiento\, 2\, Los Montesinos\, Alicante\, 03187\, España
CATEGORIES:Semana Santa
ATTACH;FMTTYPE=image/jpeg:https://www.losmontesinos.es/wp-content/uploads/2020/03/Cartel-Semana-Santa-2020-Los-Montesinos.jpg
END:VEVENT
BEGIN:VEVENT
DTSTART;TZID=Europe/Madrid:20200324T100000
DTEND;TZID=Europe/Madrid:20200325T183000
DTSTAMP:20260424T010527
CREATED:20200309T083619Z
LAST-MODIFIED:20200309T083619Z
UID:10004535-1585044000-1585161000@www.losmontesinos.es
SUMMARY:**Actos suspendidos** SEMANA SANTA en Los Montesinos
DESCRIPTION:Para más información contactar con la Parroquia. \n______________________________________________________________ \nDe 10.00 a 12.00 horas\, celebración de las CUARENTA HORAS. \nDe 16.00 a 18.30 horas\, celebración de las CUARENTA HORAS.
URL:https://www.losmontesinos.es/event/semana-santa-en-los-montesinos-2/
LOCATION:Iglesia Parroquial de Los Montesinos\, Plaza del Ayuntamiento\, 2\, Los Montesinos\, Alicante\, 03187\, España
CATEGORIES:Semana Santa
ATTACH;FMTTYPE=image/jpeg:https://www.losmontesinos.es/wp-content/uploads/2020/03/Cartel-Semana-Santa-2020-Los-Montesinos.jpg
END:VEVENT
BEGIN:VEVENT
DTSTART;TZID=Europe/Madrid:20200324T100000
DTEND;TZID=Europe/Madrid:20200325T183000
DTSTAMP:20260424T010527
CREATED:20200309T083619Z
LAST-MODIFIED:20200309T083619Z
UID:10004536-1585044000-1585161000@www.losmontesinos.es
SUMMARY:**Actos suspendidos** SEMANA SANTA en Los Montesinos
DESCRIPTION:Para más información contactar con la Parroquia. \n______________________________________________________________ \nDe 10.00 a 12.00 horas\, celebración de las CUARENTA HORAS. \nDe 16.00 a 18.30 horas\, celebración de las CUARENTA HORAS.
URL:https://www.losmontesinos.es/event/semana-santa-en-los-montesinos-2-2/
LOCATION:Iglesia Parroquial de Los Montesinos\, Plaza del Ayuntamiento\, 2\, Los Montesinos\, Alicante\, 03187\, España
CATEGORIES:Semana Santa
ATTACH;FMTTYPE=image/jpeg:https://www.losmontesinos.es/wp-content/uploads/2020/03/Cartel-Semana-Santa-2020-Los-Montesinos.jpg
END:VEVENT
BEGIN:VEVENT
DTSTART;TZID=Europe/Madrid:20200229T190000
DTEND;TZID=Europe/Madrid:20200229T200000
DTSTAMP:20260424T010527
CREATED:20200309T094940Z
LAST-MODIFIED:20200309T094940Z
UID:10004540-1583002800-1583006400@www.losmontesinos.es
SUMMARY:**Actos suspendidos** SEMANA SANTA en Los Montesinos
DESCRIPTION:Para más información contactar con la Parroquia. \n_______________________________________________________________ \nEn la Eucaristía de 19.00 h.\, se recibirá la Cruz del Vía Crucis.
URL:https://www.losmontesinos.es/event/semana-santa-en-los-montesinos-4/
LOCATION:Iglesia Parroquial de Los Montesinos\, Plaza del Ayuntamiento\, 2\, Los Montesinos\, Alicante\, 03187\, España
CATEGORIES:Semana Santa
ATTACH;FMTTYPE=image/jpeg:https://www.losmontesinos.es/wp-content/uploads/2020/03/Cartel-Semana-Santa-2020-Los-Montesinos.jpg
END:VEVENT
BEGIN:VEVENT
DTSTART;TZID=Europe/Madrid:20200229T190000
DTEND;TZID=Europe/Madrid:20200229T200000
DTSTAMP:20260424T010527
CREATED:20200309T094940Z
LAST-MODIFIED:20200309T094940Z
UID:10003931-1583002800-1583006400@www.losmontesinos.es
SUMMARY:**Actos suspendidos** SEMANA SANTA en Los Montesinos
DESCRIPTION:Para más información contactar con la Parroquia. \n_______________________________________________________________ \nEn la Eucaristía de 19.00 h.\, se recibirá la Cruz del Vía Crucis.
URL:https://www.losmontesinos.es/event/semana-santa-en-los-montesinos-4/
LOCATION:Iglesia Parroquial de Los Montesinos\, Plaza del Ayuntamiento\, 2\, Los Montesinos\, Alicante\, 03187\, España
CATEGORIES:Semana Santa
ATTACH;FMTTYPE=image/jpeg:https://www.losmontesinos.es/wp-content/uploads/2020/03/Cartel-Semana-Santa-2020-Los-Montesinos.jpg
END:VEVENT
BEGIN:VEVENT
DTSTART;TZID=Europe/Madrid:20200229T190000
DTEND;TZID=Europe/Madrid:20200229T200000
DTSTAMP:20260424T010527
CREATED:20200309T094940Z
LAST-MODIFIED:20200309T094940Z
UID:10003932-1583002800-1583006400@www.losmontesinos.es
SUMMARY:**Actos suspendidos** SEMANA SANTA en Los Montesinos
DESCRIPTION:Para más información contactar con la Parroquia. \n_______________________________________________________________ \nEn la Eucaristía de 19.00 h.\, se recibirá la Cruz del Vía Crucis.
URL:https://www.losmontesinos.es/event/semana-santa-en-los-montesinos-4-2/
LOCATION:Iglesia Parroquial de Los Montesinos\, Plaza del Ayuntamiento\, 2\, Los Montesinos\, Alicante\, 03187\, España
CATEGORIES:Semana Santa
ATTACH;FMTTYPE=image/jpeg:https://www.losmontesinos.es/wp-content/uploads/2020/03/Cartel-Semana-Santa-2020-Los-Montesinos.jpg
END:VEVENT
BEGIN:VEVENT
DTSTART;TZID=Europe/Madrid:20200226T180000
DTEND;TZID=Europe/Madrid:20200226T213000
DTSTAMP:20260424T010527
CREATED:20200309T094430Z
LAST-MODIFIED:20200309T094430Z
UID:10004537-1582740000-1582752600@www.losmontesinos.es
SUMMARY:SEMANA SANTA en Los Montesinos
DESCRIPTION:A las 18.00 h.\, MIÉRCOLES DE CENIZA. Imposición de Ceniza a los niños. \nA las 20.00 h.\, Presentación del Cartel de la Semana Santa. \nA las 20.30 h.\, Celebración de la Eucaristía\, imposición de Ceniza.  Al finalizar se encenderá la Cruz Cuaresmal.
URL:https://www.losmontesinos.es/event/semana-santa-en-los-montesinos-3/
LOCATION:Iglesia Parroquial de Los Montesinos\, Plaza del Ayuntamiento\, 2\, Los Montesinos\, Alicante\, 03187\, España
CATEGORIES:Semana Santa
ATTACH;FMTTYPE=image/jpeg:https://www.losmontesinos.es/wp-content/uploads/2020/03/Cartel-Semana-Santa-2020-Los-Montesinos.jpg
END:VEVENT
BEGIN:VEVENT
DTSTART;TZID=Europe/Madrid:20200226T180000
DTEND;TZID=Europe/Madrid:20200226T213000
DTSTAMP:20260424T010527
CREATED:20200309T094430Z
LAST-MODIFIED:20200309T094430Z
UID:10004538-1582740000-1582752600@www.losmontesinos.es
SUMMARY:SEMANA SANTA en Los Montesinos
DESCRIPTION:A las 18.00 h.\, MIÉRCOLES DE CENIZA. Imposición de Ceniza a los niños. \nA las 20.00 h.\, Presentación del Cartel de la Semana Santa. \nA las 20.30 h.\, Celebración de la Eucaristía\, imposición de Ceniza.  Al finalizar se encenderá la Cruz Cuaresmal.
URL:https://www.losmontesinos.es/event/semana-santa-en-los-montesinos-3/
LOCATION:Iglesia Parroquial de Los Montesinos\, Plaza del Ayuntamiento\, 2\, Los Montesinos\, Alicante\, 03187\, España
CATEGORIES:Semana Santa
ATTACH;FMTTYPE=image/jpeg:https://www.losmontesinos.es/wp-content/uploads/2020/03/Cartel-Semana-Santa-2020-Los-Montesinos.jpg
END:VEVENT
BEGIN:VEVENT
DTSTART;TZID=Europe/Madrid:20200226T180000
DTEND;TZID=Europe/Madrid:20200226T213000
DTSTAMP:20260424T010527
CREATED:20200309T094430Z
LAST-MODIFIED:20200309T094430Z
UID:10004539-1582740000-1582752600@www.losmontesinos.es
SUMMARY:SEMANA SANTA en Los Montesinos
DESCRIPTION:A las 18.00 h.\, MIÉRCOLES DE CENIZA. Imposición de Ceniza a los niños. \nA las 20.00 h.\, Presentación del Cartel de la Semana Santa. \nA las 20.30 h.\, Celebración de la Eucaristía\, imposición de Ceniza.  Al finalizar se encenderá la Cruz Cuaresmal.
URL:https://www.losmontesinos.es/event/semana-santa-en-los-montesinos-3-2/
LOCATION:Iglesia Parroquial de Los Montesinos\, Plaza del Ayuntamiento\, 2\, Los Montesinos\, Alicante\, 03187\, España
CATEGORIES:Semana Santa
ATTACH;FMTTYPE=image/jpeg:https://www.losmontesinos.es/wp-content/uploads/2020/03/Cartel-Semana-Santa-2020-Los-Montesinos.jpg
END:VEVENT
BEGIN:VEVENT
DTSTART;TZID=Europe/Madrid:20200223T160000
DTEND;TZID=Europe/Madrid:20200223T180000
DTSTAMP:20260424T010527
CREATED:20200309T083116Z
LAST-MODIFIED:20200309T083116Z
UID:10004531-1582473600-1582480800@www.losmontesinos.es
SUMMARY:SEMANA SANTA en Los Montesinos
DESCRIPTION:De 16.00 a 18.00 horas\, en la Iglesia Parroquial\, celebración de las CUARENTA HORAS.
URL:https://www.losmontesinos.es/event/semana-santa-en-los-montesinos/
LOCATION:Iglesia Parroquial de Los Montesinos\, Plaza del Ayuntamiento\, 2\, Los Montesinos\, Alicante\, 03187\, España
CATEGORIES:Semana Santa
ATTACH;FMTTYPE=image/jpeg:https://www.losmontesinos.es/wp-content/uploads/2020/03/Cartel-Semana-Santa-2020-Los-Montesinos.jpg
END:VEVENT
BEGIN:VEVENT
DTSTART;TZID=Europe/Madrid:20200223T160000
DTEND;TZID=Europe/Madrid:20200223T180000
DTSTAMP:20260424T010527
CREATED:20200309T083116Z
LAST-MODIFIED:20200309T083116Z
UID:10004532-1582473600-1582480800@www.losmontesinos.es
SUMMARY:SEMANA SANTA en Los Montesinos
DESCRIPTION:De 16.00 a 18.00 horas\, en la Iglesia Parroquial\, celebración de las CUARENTA HORAS.
URL:https://www.losmontesinos.es/event/semana-santa-en-los-montesinos/
LOCATION:Iglesia Parroquial de Los Montesinos\, Plaza del Ayuntamiento\, 2\, Los Montesinos\, Alicante\, 03187\, España
CATEGORIES:Semana Santa
ATTACH;FMTTYPE=image/jpeg:https://www.losmontesinos.es/wp-content/uploads/2020/03/Cartel-Semana-Santa-2020-Los-Montesinos.jpg
END:VEVENT
BEGIN:VEVENT
DTSTART;TZID=Europe/Madrid:20200223T160000
DTEND;TZID=Europe/Madrid:20200223T180000
DTSTAMP:20260424T010527
CREATED:20200309T083116Z
LAST-MODIFIED:20200309T083116Z
UID:10004533-1582473600-1582480800@www.losmontesinos.es
SUMMARY:SEMANA SANTA en Los Montesinos
DESCRIPTION:De 16.00 a 18.00 horas\, en la Iglesia Parroquial\, celebración de las CUARENTA HORAS.
URL:https://www.losmontesinos.es/event/semana-santa-en-los-montesinos-15/
LOCATION:Iglesia Parroquial de Los Montesinos\, Plaza del Ayuntamiento\, 2\, Los Montesinos\, Alicante\, 03187\, España
CATEGORIES:Semana Santa
ATTACH;FMTTYPE=image/jpeg:https://www.losmontesinos.es/wp-content/uploads/2020/03/Cartel-Semana-Santa-2020-Los-Montesinos.jpg
END:VEVENT
BEGIN:VEVENT
DTSTART;TZID=Europe/Madrid:20191207T200000
DTEND;TZID=Europe/Madrid:20191207T213000
DTSTAMP:20260424T010527
CREATED:20191202T092213Z
LAST-MODIFIED:20191202T092213Z
UID:10003838-1575748800-1575754200@www.losmontesinos.es
SUMMARY:NAVIDAD 2019
DESCRIPTION:A las 20.00h.\, Concierto de Navidad benéfico a cargo de la Coral Andante. \nLugar: Parroquia Ntra. Sra\, del Pilar.
URL:https://www.losmontesinos.es/event/navidad-2019/
LOCATION:Iglesia Parroquial de Los Montesinos\, Plaza del Ayuntamiento\, 2\, Los Montesinos\, Alicante\, 03187\, España
CATEGORIES:Navidad
ATTACH;FMTTYPE=image/jpeg:https://www.losmontesinos.es/wp-content/uploads/2019/12/Cartel-Navidad-2019-scaled.jpg
END:VEVENT
BEGIN:VEVENT
DTSTART;TZID=Europe/Madrid:20191207T200000
DTEND;TZID=Europe/Madrid:20191207T213000
DTSTAMP:20260424T010527
CREATED:20191202T092213Z
LAST-MODIFIED:20191202T092213Z
UID:10003839-1575748800-1575754200@www.losmontesinos.es
SUMMARY:NAVIDAD 2019
DESCRIPTION:A las 20.00h.\, Concierto de Navidad benéfico a cargo de la Coral Andante. \nLugar: Parroquia Ntra. Sra\, del Pilar.
URL:https://www.losmontesinos.es/event/navidad-2019/
LOCATION:Iglesia Parroquial de Los Montesinos\, Plaza del Ayuntamiento\, 2\, Los Montesinos\, Alicante\, 03187\, España
CATEGORIES:Navidad
ATTACH;FMTTYPE=image/jpeg:https://www.losmontesinos.es/wp-content/uploads/2019/12/Cartel-Navidad-2019-scaled.jpg
END:VEVENT
BEGIN:VEVENT
DTSTART;TZID=Europe/Madrid:20191207T200000
DTEND;TZID=Europe/Madrid:20191207T213000
DTSTAMP:20260424T010527
CREATED:20191202T092213Z
LAST-MODIFIED:20191202T092213Z
UID:10003840-1575748800-1575754200@www.losmontesinos.es
SUMMARY:NAVIDAD 2019
DESCRIPTION:A las 20.00h.\, Concierto de Navidad benéfico a cargo de la Coral Andante. \nLugar: Parroquia Ntra. Sra\, del Pilar.
URL:https://www.losmontesinos.es/event/navidad-2019-16/
LOCATION:Iglesia Parroquial de Los Montesinos\, Plaza del Ayuntamiento\, 2\, Los Montesinos\, Alicante\, 03187\, España
CATEGORIES:Navidad
ATTACH;FMTTYPE=image/jpeg:https://www.losmontesinos.es/wp-content/uploads/2019/12/Cartel-Navidad-2019-scaled.jpg
END:VEVENT
BEGIN:VEVENT
DTSTART;TZID=Europe/Madrid:20191012T053000
DTEND;TZID=Europe/Madrid:20191012T235900
DTSTAMP:20260424T010527
CREATED:20190927T084400Z
LAST-MODIFIED:20190927T084400Z
UID:10003813-1570858200-1570924740@www.losmontesinos.es
SUMMARY:FIESTAS PATRONALES 2019
DESCRIPTION:5.30h. Tradicional DESPERTÁ. \n12.00h. Misa Solemne en Honor a la Virgen del Pilar. \n20.00h. Procesión en Honor a nuestra Patrona la Santísima Virgen del Pilar. Acto seguido\, CASTILLO DE FUEGOS ARTIFICIALES. \n23.00h. Actuación de MARÍA JESÚS y su acordeón. \n24.00h. Barraca Popular ¡Fin de Fiestas! Actuación del artista internacional CRISTIAN DELUXE.
URL:https://www.losmontesinos.es/event/fiestas-patronales-2019-9/
LOCATION:Iglesia Parroquial de Los Montesinos\, Plaza del Ayuntamiento\, 2\, Los Montesinos\, Alicante\, 03187\, España
CATEGORIES:Fiestas Patronales
ATTACH;FMTTYPE=image/jpeg:https://www.losmontesinos.es/wp-content/uploads/2019/09/Programa-final-Fiestas-Los-Montesinos-20191-1.jpg
END:VEVENT
END:VCALENDAR