BEGIN:VCALENDAR
VERSION:2.0
PRODID:-//Ayuntamiento - ECPv6.15.15//NONSGML v1.0//EN
CALSCALE:GREGORIAN
METHOD:PUBLISH
X-ORIGINAL-URL:https://www.losmontesinos.es
X-WR-CALDESC:Eventos para Ayuntamiento
REFRESH-INTERVAL;VALUE=DURATION:PT1H
X-Robots-Tag:noindex
X-PUBLISHED-TTL:PT1H
BEGIN:VTIMEZONE
TZID:Europe/Madrid
BEGIN:DAYLIGHT
TZOFFSETFROM:+0100
TZOFFSETTO:+0200
TZNAME:CEST
DTSTART:20180325T010000
END:DAYLIGHT
BEGIN:STANDARD
TZOFFSETFROM:+0200
TZOFFSETTO:+0100
TZNAME:CET
DTSTART:20181028T010000
END:STANDARD
BEGIN:DAYLIGHT
TZOFFSETFROM:+0100
TZOFFSETTO:+0200
TZNAME:CEST
DTSTART:20190331T010000
END:DAYLIGHT
BEGIN:STANDARD
TZOFFSETFROM:+0200
TZOFFSETTO:+0100
TZNAME:CET
DTSTART:20191027T010000
END:STANDARD
BEGIN:DAYLIGHT
TZOFFSETFROM:+0100
TZOFFSETTO:+0200
TZNAME:CEST
DTSTART:20200329T010000
END:DAYLIGHT
BEGIN:STANDARD
TZOFFSETFROM:+0200
TZOFFSETTO:+0100
TZNAME:CET
DTSTART:20201025T010000
END:STANDARD
END:VTIMEZONE
BEGIN:VEVENT
DTSTART;TZID=Europe/Madrid:20190411T210000
DTEND;TZID=Europe/Madrid:20190411T220000
DTSTAMP:20260424T120457
CREATED:20190308T125228Z
LAST-MODIFIED:20190308T125228Z
UID:10004265-1555016400-1555020000@www.losmontesinos.es
SUMMARY:EASTER EVENTS 2019
DESCRIPTION:9.00 pm –> In the Parish Church the celebration of the Holy Mass in honour of the Cristo de la Agonía and for the deceased of the confraternity. To conclude\, a ceremony of presentation of insignias to the new memebers of the confraternity.
URL:https://www.losmontesinos.es/event/semana-santa-2019-8-2/
LOCATION:Iglesia Parroquial de Los Montesinos\, Plaza del Ayuntamiento\, 2\, Los Montesinos\, Alicante\, 03187\, España
ATTACH;FMTTYPE=image/jpeg:https://www.losmontesinos.es/wp-content/uploads/2019/03/Cartel-Semana-Santa-2019.jpg
END:VEVENT
BEGIN:VEVENT
DTSTART;TZID=Europe/Madrid:20190411T210000
DTEND;TZID=Europe/Madrid:20190411T220000
DTSTAMP:20260424T120457
CREATED:20190308T125228Z
LAST-MODIFIED:20190308T125228Z
UID:10004266-1555016400-1555020000@www.losmontesinos.es
SUMMARY:SEMANA SANTA 2019
DESCRIPTION:A las 21.00 horas –> En la Iglesia Parroquial celebración de la SANTA MISA por los cofrades vivos y difuntos de la Cofradía del Cristo del Perdón en su Agonía.  \nAl finalizar se realizará el ‘besa pies’ con la imposición de insignias a los nuevos cofrades.
URL:https://www.losmontesinos.es/event/semana-santa-2019-8-3/
LOCATION:Iglesia Parroquial de Los Montesinos\, Plaza del Ayuntamiento\, 2\, Los Montesinos\, Alicante\, 03187\, España
CATEGORIES:Semana Santa
ATTACH;FMTTYPE=image/jpeg:https://www.losmontesinos.es/wp-content/uploads/2019/03/Cartel-Semana-Santa-2019.jpg
END:VEVENT
BEGIN:VEVENT
DTSTART;TZID=Europe/Madrid:20190411T210000
DTEND;TZID=Europe/Madrid:20190411T220000
DTSTAMP:20260424T120457
CREATED:20190308T125228Z
LAST-MODIFIED:20190308T125228Z
UID:10004267-1555016400-1555020000@www.losmontesinos.es
SUMMARY:EASTER EVENTS 2019
DESCRIPTION:9.00 pm –> In the Parish Church the celebration of the Holy Mass in honour of the Cristo de la Agonía and for the deceased of the confraternity. To conclude\, a ceremony of presentation of insignias to the new memebers of the confraternity.
URL:https://www.losmontesinos.es/event/semana-santa-2019-8-4/
LOCATION:Iglesia Parroquial de Los Montesinos\, Plaza del Ayuntamiento\, 2\, Los Montesinos\, Alicante\, 03187\, España
ATTACH;FMTTYPE=image/jpeg:https://www.losmontesinos.es/wp-content/uploads/2019/03/Cartel-Semana-Santa-2019.jpg
END:VEVENT
BEGIN:VEVENT
DTSTART;TZID=Europe/Madrid:20190411T210000
DTEND;TZID=Europe/Madrid:20190411T220000
DTSTAMP:20260424T120457
CREATED:20190308T125228Z
LAST-MODIFIED:20190308T125228Z
UID:10004268-1555016400-1555020000@www.losmontesinos.es
SUMMARY:SEMANA SANTA 2019
DESCRIPTION:A las 21.00 horas –> En la Iglesia Parroquial celebración de la SANTA MISA por los cofrades vivos y difuntos de la Cofradía del Cristo del Perdón en su Agonía.  \nAl finalizar se realizará el ‘besa pies’ con la imposición de insignias a los nuevos cofrades.
URL:https://www.losmontesinos.es/event/semana-santa-2019-8-5/
LOCATION:Iglesia Parroquial de Los Montesinos\, Plaza del Ayuntamiento\, 2\, Los Montesinos\, Alicante\, 03187\, España
CATEGORIES:Semana Santa
ATTACH;FMTTYPE=image/jpeg:https://www.losmontesinos.es/wp-content/uploads/2019/03/Cartel-Semana-Santa-2019.jpg
END:VEVENT
BEGIN:VEVENT
DTSTART;TZID=Europe/Madrid:20190411T210000
DTEND;TZID=Europe/Madrid:20190411T220000
DTSTAMP:20260424T120457
CREATED:20190308T125228Z
LAST-MODIFIED:20190308T125228Z
UID:10004269-1555016400-1555020000@www.losmontesinos.es
SUMMARY:EASTER EVENTS 2019
DESCRIPTION:9.00 pm –> In the Parish Church the celebration of the Holy Mass in honour of the Cristo de la Agonía and for the deceased of the confraternity. To conclude\, a ceremony of presentation of insignias to the new memebers of the confraternity.
URL:https://www.losmontesinos.es/event/semana-santa-2019-8-6/
LOCATION:Iglesia Parroquial de Los Montesinos\, Plaza del Ayuntamiento\, 2\, Los Montesinos\, Alicante\, 03187\, España
ATTACH;FMTTYPE=image/jpeg:https://www.losmontesinos.es/wp-content/uploads/2019/03/Cartel-Semana-Santa-2019.jpg
END:VEVENT
BEGIN:VEVENT
DTSTART;TZID=Europe/Madrid:20190410T210000
DTEND;TZID=Europe/Madrid:20190410T220000
DTSTAMP:20260424T120457
CREATED:20190308T124722Z
LAST-MODIFIED:20190308T124722Z
UID:10003658-1554930000-1554933600@www.losmontesinos.es
SUMMARY:SEMANA SANTA 2019
DESCRIPTION:A las 21.00 horas –> En la Iglesia Parroquial celebración de la SANTA MISA por los cofrades vivos y difuntos de la Cofradía del Cristo Yacente. Al finalizar se realizará el ‘besa pies’ con la imposición de insignias a los nuevos cofrades.
URL:https://www.losmontesinos.es/event/semana-santa-2019-7/
LOCATION:Iglesia Parroquial de Los Montesinos\, Plaza del Ayuntamiento\, 2\, Los Montesinos\, Alicante\, 03187\, España
CATEGORIES:Semana Santa
ATTACH;FMTTYPE=image/jpeg:https://www.losmontesinos.es/wp-content/uploads/2019/03/Cartel-Semana-Santa-2019.jpg
END:VEVENT
BEGIN:VEVENT
DTSTART;TZID=Europe/Madrid:20190410T210000
DTEND;TZID=Europe/Madrid:20190410T220000
DTSTAMP:20260424T120457
CREATED:20190308T124722Z
LAST-MODIFIED:20190308T124722Z
UID:10003659-1554930000-1554933600@www.losmontesinos.es
SUMMARY:EASTER EVENTS 2019
DESCRIPTION:9.00 pm –> In the Parish Church the celebrations of Holy Mass in honour of the Cristo Yacente and the deceased of the confraternity. To conclude\, a ceremony for the presentation of insignias to the new members of the confraternity. 
URL:https://www.losmontesinos.es/event/semana-santa-2019-7-2/
LOCATION:Iglesia Parroquial de Los Montesinos\, Plaza del Ayuntamiento\, 2\, Los Montesinos\, Alicante\, 03187\, España
ATTACH;FMTTYPE=image/jpeg:https://www.losmontesinos.es/wp-content/uploads/2019/03/Cartel-Semana-Santa-2019.jpg
END:VEVENT
BEGIN:VEVENT
DTSTART;TZID=Europe/Madrid:20190410T210000
DTEND;TZID=Europe/Madrid:20190410T220000
DTSTAMP:20260424T120457
CREATED:20190308T124722Z
LAST-MODIFIED:20190308T124722Z
UID:10003660-1554930000-1554933600@www.losmontesinos.es
SUMMARY:SEMANA SANTA 2019
DESCRIPTION:A las 21.00 horas –> En la Iglesia Parroquial celebración de la SANTA MISA por los cofrades vivos y difuntos de la Cofradía del Cristo Yacente. Al finalizar se realizará el ‘besa pies’ con la imposición de insignias a los nuevos cofrades.
URL:https://www.losmontesinos.es/event/semana-santa-2019-7-3/
LOCATION:Iglesia Parroquial de Los Montesinos\, Plaza del Ayuntamiento\, 2\, Los Montesinos\, Alicante\, 03187\, España
CATEGORIES:Semana Santa
ATTACH;FMTTYPE=image/jpeg:https://www.losmontesinos.es/wp-content/uploads/2019/03/Cartel-Semana-Santa-2019.jpg
END:VEVENT
BEGIN:VEVENT
DTSTART;TZID=Europe/Madrid:20190410T210000
DTEND;TZID=Europe/Madrid:20190410T220000
DTSTAMP:20260424T120457
CREATED:20190308T124722Z
LAST-MODIFIED:20190308T124722Z
UID:10004261-1554930000-1554933600@www.losmontesinos.es
SUMMARY:EASTER EVENTS 2019
DESCRIPTION:9.00 pm –> In the Parish Church the celebrations of Holy Mass in honour of the Cristo Yacente and the deceased of the confraternity. To conclude\, a ceremony for the presentation of insignias to the new members of the confraternity. 
URL:https://www.losmontesinos.es/event/semana-santa-2019-7-4/
LOCATION:Iglesia Parroquial de Los Montesinos\, Plaza del Ayuntamiento\, 2\, Los Montesinos\, Alicante\, 03187\, España
ATTACH;FMTTYPE=image/jpeg:https://www.losmontesinos.es/wp-content/uploads/2019/03/Cartel-Semana-Santa-2019.jpg
END:VEVENT
BEGIN:VEVENT
DTSTART;TZID=Europe/Madrid:20190410T210000
DTEND;TZID=Europe/Madrid:20190410T220000
DTSTAMP:20260424T120457
CREATED:20190308T124722Z
LAST-MODIFIED:20190308T124722Z
UID:10004262-1554930000-1554933600@www.losmontesinos.es
SUMMARY:SEMANA SANTA 2019
DESCRIPTION:A las 21.00 horas –> En la Iglesia Parroquial celebración de la SANTA MISA por los cofrades vivos y difuntos de la Cofradía del Cristo Yacente. Al finalizar se realizará el ‘besa pies’ con la imposición de insignias a los nuevos cofrades.
URL:https://www.losmontesinos.es/event/semana-santa-2019-7-5/
LOCATION:Iglesia Parroquial de Los Montesinos\, Plaza del Ayuntamiento\, 2\, Los Montesinos\, Alicante\, 03187\, España
CATEGORIES:Semana Santa
ATTACH;FMTTYPE=image/jpeg:https://www.losmontesinos.es/wp-content/uploads/2019/03/Cartel-Semana-Santa-2019.jpg
END:VEVENT
BEGIN:VEVENT
DTSTART;TZID=Europe/Madrid:20190410T210000
DTEND;TZID=Europe/Madrid:20190410T220000
DTSTAMP:20260424T120457
CREATED:20190308T124722Z
LAST-MODIFIED:20190308T124722Z
UID:10004263-1554930000-1554933600@www.losmontesinos.es
SUMMARY:EASTER EVENTS 2019
DESCRIPTION:9.00 pm –> In the Parish Church the celebrations of Holy Mass in honour of the Cristo Yacente and the deceased of the confraternity. To conclude\, a ceremony for the presentation of insignias to the new members of the confraternity. 
URL:https://www.losmontesinos.es/event/semana-santa-2019-7-6/
LOCATION:Iglesia Parroquial de Los Montesinos\, Plaza del Ayuntamiento\, 2\, Los Montesinos\, Alicante\, 03187\, España
ATTACH;FMTTYPE=image/jpeg:https://www.losmontesinos.es/wp-content/uploads/2019/03/Cartel-Semana-Santa-2019.jpg
END:VEVENT
BEGIN:VEVENT
DTSTART;TZID=Europe/Madrid:20190407T190000
DTEND;TZID=Europe/Madrid:20190407T200000
DTSTAMP:20260424T120457
CREATED:20190308T124346Z
LAST-MODIFIED:20190308T124346Z
UID:10003652-1554663600-1554667200@www.losmontesinos.es
SUMMARY:SEMANA SANTA 2019
DESCRIPTION:A las 19.00 horas –> En el auditorio de la Escuela de Música y Cultura\, PREGÓN de la SEMANA SANTA a cargo del Rvdo. Sr. D. Jesús Ortuño Rodríguez\, Párroco de San Andrés de Almoradí y Vicario Episcopal.  \nA continuación\, representación del ‘Sermón de las Siete Palabras’ y la participación de la Coral Aromas de Azahar.
URL:https://www.losmontesinos.es/event/semana-santa-2019-6-2/
LOCATION:Iglesia Parroquial de Los Montesinos\, Plaza del Ayuntamiento\, 2\, Los Montesinos\, Alicante\, 03187\, España
CATEGORIES:Semana Santa
ATTACH;FMTTYPE=image/jpeg:https://www.losmontesinos.es/wp-content/uploads/2019/03/Cartel-Semana-Santa-2019.jpg
END:VEVENT
BEGIN:VEVENT
DTSTART;TZID=Europe/Madrid:20190407T190000
DTEND;TZID=Europe/Madrid:20190407T200000
DTSTAMP:20260424T120457
CREATED:20190308T124346Z
LAST-MODIFIED:20190308T124346Z
UID:10003653-1554663600-1554667200@www.losmontesinos.es
SUMMARY:EASTER EVENTS 2019
DESCRIPTION:7.00 pm –> In the Auditorium of the School os Music and Culture\, will be the Announcement of Holy Week 2019 by the parish Priest D. Jesús Ortuño Rodríguez.   \nRepresentation ‘Sermón de las Siete Palabras’. Followed by music from the Coral Aromas de Azahar.
URL:https://www.losmontesinos.es/event/semana-santa-2019-6-3/
LOCATION:Iglesia Parroquial de Los Montesinos\, Plaza del Ayuntamiento\, 2\, Los Montesinos\, Alicante\, 03187\, España
ATTACH;FMTTYPE=image/jpeg:https://www.losmontesinos.es/wp-content/uploads/2019/03/Cartel-Semana-Santa-2019.jpg
END:VEVENT
BEGIN:VEVENT
DTSTART;TZID=Europe/Madrid:20190407T190000
DTEND;TZID=Europe/Madrid:20190407T200000
DTSTAMP:20260424T120457
CREATED:20190308T124346Z
LAST-MODIFIED:20190308T124346Z
UID:10003654-1554663600-1554667200@www.losmontesinos.es
SUMMARY:SEMANA SANTA 2019
DESCRIPTION:A las 19.00 horas –> En el auditorio de la Escuela de Música y Cultura\, PREGÓN de la SEMANA SANTA a cargo del Rvdo. Sr. D. Jesús Ortuño Rodríguez\, Párroco de San Andrés de Almoradí y Vicario Episcopal.  \nA continuación\, representación del ‘Sermón de las Siete Palabras’ y la participación de la Coral Aromas de Azahar.
URL:https://www.losmontesinos.es/event/semana-santa-2019-6-4/
LOCATION:Iglesia Parroquial de Los Montesinos\, Plaza del Ayuntamiento\, 2\, Los Montesinos\, Alicante\, 03187\, España
CATEGORIES:Semana Santa
ATTACH;FMTTYPE=image/jpeg:https://www.losmontesinos.es/wp-content/uploads/2019/03/Cartel-Semana-Santa-2019.jpg
END:VEVENT
BEGIN:VEVENT
DTSTART;TZID=Europe/Madrid:20190407T190000
DTEND;TZID=Europe/Madrid:20190407T200000
DTSTAMP:20260424T120457
CREATED:20190308T124346Z
LAST-MODIFIED:20190308T124346Z
UID:10003655-1554663600-1554667200@www.losmontesinos.es
SUMMARY:EASTER EVENTS 2019
DESCRIPTION:7.00 pm –> In the Auditorium of the School os Music and Culture\, will be the Announcement of Holy Week 2019 by the parish Priest D. Jesús Ortuño Rodríguez.   \nRepresentation ‘Sermón de las Siete Palabras’. Followed by music from the Coral Aromas de Azahar.
URL:https://www.losmontesinos.es/event/semana-santa-2019-6-5/
LOCATION:Iglesia Parroquial de Los Montesinos\, Plaza del Ayuntamiento\, 2\, Los Montesinos\, Alicante\, 03187\, España
ATTACH;FMTTYPE=image/jpeg:https://www.losmontesinos.es/wp-content/uploads/2019/03/Cartel-Semana-Santa-2019.jpg
END:VEVENT
BEGIN:VEVENT
DTSTART;TZID=Europe/Madrid:20190407T190000
DTEND;TZID=Europe/Madrid:20190407T200000
DTSTAMP:20260424T120457
CREATED:20190308T124346Z
LAST-MODIFIED:20190308T124346Z
UID:10003656-1554663600-1554667200@www.losmontesinos.es
SUMMARY:SEMANA SANTA 2019
DESCRIPTION:A las 19.00 horas –> En el auditorio de la Escuela de Música y Cultura\, PREGÓN de la SEMANA SANTA a cargo del Rvdo. Sr. D. Jesús Ortuño Rodríguez\, Párroco de San Andrés de Almoradí y Vicario Episcopal.  \nA continuación\, representación del ‘Sermón de las Siete Palabras’ y la participación de la Coral Aromas de Azahar.
URL:https://www.losmontesinos.es/event/semana-santa-2019-6-6/
LOCATION:Iglesia Parroquial de Los Montesinos\, Plaza del Ayuntamiento\, 2\, Los Montesinos\, Alicante\, 03187\, España
CATEGORIES:Semana Santa
ATTACH;FMTTYPE=image/jpeg:https://www.losmontesinos.es/wp-content/uploads/2019/03/Cartel-Semana-Santa-2019.jpg
END:VEVENT
BEGIN:VEVENT
DTSTART;TZID=Europe/Madrid:20190407T190000
DTEND;TZID=Europe/Madrid:20190407T200000
DTSTAMP:20260424T120457
CREATED:20190308T124346Z
LAST-MODIFIED:20190308T124346Z
UID:10003657-1554663600-1554667200@www.losmontesinos.es
SUMMARY:EASTER EVENTS 2019
DESCRIPTION:7.00 pm –> In the Auditorium of the School os Music and Culture\, will be the Announcement of Holy Week 2019 by the parish Priest D. Jesús Ortuño Rodríguez.   \nRepresentation ‘Sermón de las Siete Palabras’. Followed by music from the Coral Aromas de Azahar.
URL:https://www.losmontesinos.es/event/semana-santa-2019-6-7/
LOCATION:Iglesia Parroquial de Los Montesinos\, Plaza del Ayuntamiento\, 2\, Los Montesinos\, Alicante\, 03187\, España
ATTACH;FMTTYPE=image/jpeg:https://www.losmontesinos.es/wp-content/uploads/2019/03/Cartel-Semana-Santa-2019.jpg
END:VEVENT
BEGIN:VEVENT
DTSTART;TZID=Europe/Madrid:20190323T193000
DTEND;TZID=Europe/Madrid:20190323T203000
DTSTAMP:20260424T120457
CREATED:20190308T123727Z
LAST-MODIFIED:20190308T123727Z
UID:10004256-1553369400-1553373000@www.losmontesinos.es
SUMMARY:SEMANA SANTA 2019
DESCRIPTION:A las 19.30 horas –> Santa Misa. A continuación Charla Cuaresmal titulada ‘Liturgia y Música’\, a cargo del Rvdo. Sr. Jesús Rosillo Peñalver\, director del Secretariado Diocesano de Música.
URL:https://www.losmontesinos.es/event/semana-santa-2019-5/
LOCATION:Iglesia Parroquial de Los Montesinos\, Plaza del Ayuntamiento\, 2\, Los Montesinos\, Alicante\, 03187\, España
CATEGORIES:Semana Santa
ATTACH;FMTTYPE=image/jpeg:https://www.losmontesinos.es/wp-content/uploads/2019/03/Cartel-Semana-Santa-2019.jpg
END:VEVENT
BEGIN:VEVENT
DTSTART;TZID=Europe/Madrid:20190323T193000
DTEND;TZID=Europe/Madrid:20190323T203000
DTSTAMP:20260424T120457
CREATED:20190308T123727Z
LAST-MODIFIED:20190308T123727Z
UID:10004257-1553369400-1553373000@www.losmontesinos.es
SUMMARY:EASTER EVENTS 2019
DESCRIPTION:7.30 pm –> In The Parish Church\, Holy Mass. Next Lenten Talk entitled  ‘Liturgy and Music’ by the parish Priest D. Jesús Rosillo Peñalver. \n 
URL:https://www.losmontesinos.es/event/semana-santa-2019-5-2/
LOCATION:Iglesia Parroquial de Los Montesinos\, Plaza del Ayuntamiento\, 2\, Los Montesinos\, Alicante\, 03187\, España
ATTACH;FMTTYPE=image/jpeg:https://www.losmontesinos.es/wp-content/uploads/2019/03/Cartel-Semana-Santa-2019.jpg
END:VEVENT
BEGIN:VEVENT
DTSTART;TZID=Europe/Madrid:20190323T193000
DTEND;TZID=Europe/Madrid:20190323T203000
DTSTAMP:20260424T120457
CREATED:20190308T123727Z
LAST-MODIFIED:20190308T123727Z
UID:10004258-1553369400-1553373000@www.losmontesinos.es
SUMMARY:SEMANA SANTA 2019
DESCRIPTION:A las 19.30 horas –> Santa Misa. A continuación Charla Cuaresmal titulada ‘Liturgia y Música’\, a cargo del Rvdo. Sr. Jesús Rosillo Peñalver\, director del Secretariado Diocesano de Música.
URL:https://www.losmontesinos.es/event/semana-santa-2019-5-3/
LOCATION:Iglesia Parroquial de Los Montesinos\, Plaza del Ayuntamiento\, 2\, Los Montesinos\, Alicante\, 03187\, España
CATEGORIES:Semana Santa
ATTACH;FMTTYPE=image/jpeg:https://www.losmontesinos.es/wp-content/uploads/2019/03/Cartel-Semana-Santa-2019.jpg
END:VEVENT
BEGIN:VEVENT
DTSTART;TZID=Europe/Madrid:20190323T193000
DTEND;TZID=Europe/Madrid:20190323T203000
DTSTAMP:20260424T120457
CREATED:20190308T123727Z
LAST-MODIFIED:20190308T123727Z
UID:10004259-1553369400-1553373000@www.losmontesinos.es
SUMMARY:EASTER EVENTS 2019
DESCRIPTION:7.30 pm –> In The Parish Church\, Holy Mass. Next Lenten Talk entitled  ‘Liturgy and Music’ by the parish Priest D. Jesús Rosillo Peñalver. \n 
URL:https://www.losmontesinos.es/event/semana-santa-2019-5-4/
LOCATION:Iglesia Parroquial de Los Montesinos\, Plaza del Ayuntamiento\, 2\, Los Montesinos\, Alicante\, 03187\, España
ATTACH;FMTTYPE=image/jpeg:https://www.losmontesinos.es/wp-content/uploads/2019/03/Cartel-Semana-Santa-2019.jpg
END:VEVENT
BEGIN:VEVENT
DTSTART;TZID=Europe/Madrid:20190323T193000
DTEND;TZID=Europe/Madrid:20190323T203000
DTSTAMP:20260424T120457
CREATED:20190308T123727Z
LAST-MODIFIED:20190308T123727Z
UID:10004260-1553369400-1553373000@www.losmontesinos.es
SUMMARY:SEMANA SANTA 2019
DESCRIPTION:A las 19.30 horas –> Santa Misa. A continuación Charla Cuaresmal titulada ‘Liturgia y Música’\, a cargo del Rvdo. Sr. Jesús Rosillo Peñalver\, director del Secretariado Diocesano de Música.
URL:https://www.losmontesinos.es/event/semana-santa-2019-5-5/
LOCATION:Iglesia Parroquial de Los Montesinos\, Plaza del Ayuntamiento\, 2\, Los Montesinos\, Alicante\, 03187\, España
CATEGORIES:Semana Santa
ATTACH;FMTTYPE=image/jpeg:https://www.losmontesinos.es/wp-content/uploads/2019/03/Cartel-Semana-Santa-2019.jpg
END:VEVENT
BEGIN:VEVENT
DTSTART;TZID=Europe/Madrid:20190323T193000
DTEND;TZID=Europe/Madrid:20190323T203000
DTSTAMP:20260424T120457
CREATED:20190308T123727Z
LAST-MODIFIED:20190308T123727Z
UID:10003651-1553369400-1553373000@www.losmontesinos.es
SUMMARY:EASTER EVENTS 2019
DESCRIPTION:7.30 pm –> In The Parish Church\, Holy Mass. Next Lenten Talk entitled  ‘Liturgy and Music’ by the parish Priest D. Jesús Rosillo Peñalver. \n 
URL:https://www.losmontesinos.es/event/semana-santa-2019-5-6/
LOCATION:Iglesia Parroquial de Los Montesinos\, Plaza del Ayuntamiento\, 2\, Los Montesinos\, Alicante\, 03187\, España
ATTACH;FMTTYPE=image/jpeg:https://www.losmontesinos.es/wp-content/uploads/2019/03/Cartel-Semana-Santa-2019.jpg
END:VEVENT
END:VCALENDAR