BEGIN:VCALENDAR
VERSION:2.0
PRODID:-//Ayuntamiento - ECPv6.15.15//NONSGML v1.0//EN
CALSCALE:GREGORIAN
METHOD:PUBLISH
X-ORIGINAL-URL:https://www.losmontesinos.es
X-WR-CALDESC:Eventos para Ayuntamiento
REFRESH-INTERVAL;VALUE=DURATION:PT1H
X-Robots-Tag:noindex
X-PUBLISHED-TTL:PT1H
BEGIN:VTIMEZONE
TZID:Europe/Madrid
BEGIN:DAYLIGHT
TZOFFSETFROM:+0100
TZOFFSETTO:+0200
TZNAME:CEST
DTSTART:20250330T010000
END:DAYLIGHT
BEGIN:STANDARD
TZOFFSETFROM:+0200
TZOFFSETTO:+0100
TZNAME:CET
DTSTART:20251026T010000
END:STANDARD
BEGIN:DAYLIGHT
TZOFFSETFROM:+0100
TZOFFSETTO:+0200
TZNAME:CEST
DTSTART:20260329T010000
END:DAYLIGHT
BEGIN:STANDARD
TZOFFSETFROM:+0200
TZOFFSETTO:+0100
TZNAME:CET
DTSTART:20261025T010000
END:STANDARD
BEGIN:DAYLIGHT
TZOFFSETFROM:+0100
TZOFFSETTO:+0200
TZNAME:CEST
DTSTART:20270328T010000
END:DAYLIGHT
BEGIN:STANDARD
TZOFFSETFROM:+0200
TZOFFSETTO:+0100
TZNAME:CET
DTSTART:20271031T010000
END:STANDARD
END:VTIMEZONE
BEGIN:VEVENT
DTSTART;TZID=Europe/Madrid:20260220T160000
DTEND;TZID=Europe/Madrid:20260220T203000
DTSTAMP:20260423T130949
CREATED:20260212T092243Z
LAST-MODIFIED:20260212T092243Z
UID:10005334-1771603200-1771619400@www.losmontesinos.es
SUMMARY:Taller juvenil 'Crea tu Kokedama'
DESCRIPTION:En el Taller de Kokedama\, aprenderás el arte japonés de crear «bolas de musgo»\n\n\nEn este espacio práctico y relajante\, transformaremos plantas en auténticas esculturas vivientes sin necesidad de maceta.\n\n\nDos turnos: 16:00h a 18:00h y de 18:30h a 20:30h.\nLugar: Centro Cívico y Social\n\n\n???????? ? ???????? ??????? ?? ????? ?? ? ?? ?ñ??.\n\n\n?????? ?????????.\n????????????? ?? ?? ????????????
URL:https://www.losmontesinos.es/event/taller-juvenil-crea-tu-kokedama/
LOCATION:Centro Cívico y Social (Hogar del Jubilado)\, Plaza del Ayuntamiento\, 2\, Los Montesinos\, Alicante\, 03187\, España
CATEGORIES:Juventud
ATTACH;FMTTYPE=image/jpeg:https://www.losmontesinos.es/wp-content/uploads/2026/02/Taller-Kokedama-Los-Montesinos-2026.jpg
END:VEVENT
BEGIN:VEVENT
DTSTART;TZID=Europe/Madrid:20260221T200000
DTEND;TZID=Europe/Madrid:20260221T220000
DTSTAMP:20260423T130949
CREATED:20260212T103302Z
LAST-MODIFIED:20260212T103348Z
UID:10005335-1771704000-1771711200@www.losmontesinos.es
SUMMARY:XXIII Jornadas Teatro Universitario en el Bajo Segura ‘Remedios Muñoz’
DESCRIPTION:A las 20h\, en el Auditorio de la Escuela de Música y Cultura de Los Montesinos\, se representa la obra LA ODISEA. SEGÚN PENÉLOPE. Una versión libre de su director Francesc Sanguino sobre La Odisea de Homero\, representada por el Aula de Teatro de la Universidad de Alicante. \nEsta es una versión de La Odisea de los seres sin poder\, de las víctimas colaterales\, de los distintos y de los inadaptados\, todos ellos encabezados por Penélope en sus distintas edades. No es por ello menos épica\, pero en esta ocasión la épica no reside en su héroe\, sino en una familia separada a causa de la guerra\, enfrentada a sí misma y víctima de la lucha para conseguir el poder en una patria que no les pertenece. \nEntrada libre\, limitada al aforo. \n 
URL:https://www.losmontesinos.es/event/xxiii-jornadas-teatro-universitario-en-el-bajo-segura-remedios-munoz/
LOCATION:Centro Cívico y Social (Hogar del Jubilado)\, Plaza del Ayuntamiento\, 2\, Los Montesinos\, Alicante\, 03187\, España
CATEGORIES:Cultura
ATTACH;FMTTYPE=image/jpeg:https://www.losmontesinos.es/wp-content/uploads/2026/01/Cartel-Jornadas-teatro-universitario-2026.jpg
END:VEVENT
BEGIN:VEVENT
DTSTART;TZID=Europe/Madrid:20260222T110000
DTEND;TZID=Europe/Madrid:20260222T140000
DTSTAMP:20260423T130949
CREATED:20260305T082450Z
LAST-MODIFIED:20260305T082516Z
UID:10005357-1771758000-1771768800@www.losmontesinos.es
SUMMARY:Semana Santa 2026
DESCRIPTION:A las 11:00h\, Santa Misa. \nA las 12:00h\, presentación del Cartel de la Semana Santa 2026 y presentación de cargos. \nA las 13:00h\, se ofrecerá un Vino de Honor.
URL:https://www.losmontesinos.es/event/semana-santa-2026-19/
LOCATION:Iglesia Parroquial de Los Montesinos\, Plaza del Ayuntamiento\, 2\, Los Montesinos\, Alicante\, 03187\, España
CATEGORIES:Semana Santa
ATTACH;FMTTYPE=image/jpeg:https://www.losmontesinos.es/wp-content/uploads/2026/03/Cartel-semana-santa-2026.jpg
END:VEVENT
BEGIN:VEVENT
DTSTART;TZID=Europe/Madrid:20260223T083000
DTEND;TZID=Europe/Madrid:20260223T143000
DTSTAMP:20260423T130949
CREATED:20260206T132810Z
LAST-MODIFIED:20260206T132810Z
UID:10005329-1771835400-1771857000@www.losmontesinos.es
SUMMARY:Visita del Ecoparque móvil ‘Consorcio Vega Baja Sostenible’
DESCRIPTION:8.30 a 14.30 horas en C/ El Sol\nDale vida a tus residuos: RECICLA\, REUTILIZA\, REDUCE\nConsulta en la imagen la cantidad máxima de ciertos residuos que puedes llevar:
URL:https://www.losmontesinos.es/event/visita-del-ecoparque-movil-consorcio-vega-baja-sostenible-25/
LOCATION:Alicante
CATEGORIES:Servicios
ATTACH;FMTTYPE=image/jpeg:https://www.losmontesinos.es/wp-content/uploads/2026/01/FUNCIONAMIENTO-ECOPARQUE-MOVIL-Los-Montesinos-2020.jpg
END:VEVENT
BEGIN:VEVENT
DTSTART;TZID=Europe/Madrid:20260226T203000
DTEND;TZID=Europe/Madrid:20260226T213000
DTSTAMP:20260423T130949
CREATED:20260305T082748Z
LAST-MODIFIED:20260305T082748Z
UID:10005358-1772137800-1772141400@www.losmontesinos.es
SUMMARY:Semana Santa 2026
DESCRIPTION:A las 20:30h\, charla cuaresmal en la Noche de la Parroquia. \n 
URL:https://www.losmontesinos.es/event/semana-santa-2026-20/
LOCATION:Iglesia Parroquial de Los Montesinos\, Plaza del Ayuntamiento\, 2\, Los Montesinos\, Alicante\, 03187\, España
CATEGORIES:Semana Santa
ATTACH;FMTTYPE=image/jpeg:https://www.losmontesinos.es/wp-content/uploads/2026/03/Cartel-semana-santa-2026.jpg
END:VEVENT
BEGIN:VEVENT
DTSTART;TZID=Europe/Madrid:20260228T200000
DTEND;TZID=Europe/Madrid:20260228T220000
DTSTAMP:20260423T130949
CREATED:20260212T104230Z
LAST-MODIFIED:20260227T074650Z
UID:10005336-1772308800-1772316000@www.losmontesinos.es
SUMMARY:XXIII Jornadas Teatro Universitario en el Bajo Segura 'Remedios Muñoz'
DESCRIPTION:A las 20h\, en el Auditorio de la Escuela de Música y Cultura de Los Montesinos\, se representa la obra del autor Rafael Mendizábal MI TÍA Y SUS COSAS\, dirigida por Javier Pérez Sánchez y representada por el grupo LA DESPERTÁ de la ESCUELA MUNICIPAL DE TEATRO DE LOS MONTESINOS. \nRafaela y su sobrina sobreviven con la pequeña pensión de la primera. Para superar esta situación\, solo se les ocurre la idea de suicidarse\, pero los dos intentos que realizan son fallidos. Un premio de la lotería\, yla reaparición del supuestamente muerto marido de la tía\, hacen que la situación se desmadre. Una divertida comedia que nos hace una caricatura de la sociedad en un barrio humilde de Madrid del siglo XX. \nEntrada libre\, limitada al aforo.
URL:https://www.losmontesinos.es/event/xxiii-jornadas-teatro-universitario-en-el-bajo-segura-remedios-munoz-2/
LOCATION:Centro Cívico y Social (Hogar del Jubilado)\, Plaza del Ayuntamiento\, 2\, Los Montesinos\, Alicante\, 03187\, España
CATEGORIES:Cultura
ATTACH;FMTTYPE=image/jpeg:https://www.losmontesinos.es/wp-content/uploads/2026/01/Cartel-Jornadas-teatro-universitario-2026.jpg
END:VEVENT
BEGIN:VEVENT
DTSTART;TZID=Europe/Madrid:20260301T110000
DTEND;TZID=Europe/Madrid:20260301T190000
DTSTAMP:20260423T130949
CREATED:20260305T083119Z
LAST-MODIFIED:20260305T083119Z
UID:10005359-1772362800-1772391600@www.losmontesinos.es
SUMMARY:Semana Santa 2026
DESCRIPTION:A las 11:00h\, Santa Misa – Segundo Domingo de Cuaresma \nA las 17:00h\, Bingo de regalos de la Junta Mayor de Cofradías (Centro Cívico y Social).
URL:https://www.losmontesinos.es/event/semana-santa-2026-21/
LOCATION:Iglesia Parroquial de Los Montesinos\, Plaza del Ayuntamiento\, 2\, Los Montesinos\, Alicante\, 03187\, España
CATEGORIES:Semana Santa
ATTACH;FMTTYPE=image/jpeg:https://www.losmontesinos.es/wp-content/uploads/2026/03/Cartel-semana-santa-2026.jpg
END:VEVENT
BEGIN:VEVENT
DTSTART;TZID=Europe/Madrid:20260304T090000
DTEND;TZID=Europe/Madrid:20260304T140000
DTSTAMP:20260423T130949
CREATED:20260114T133631Z
LAST-MODIFIED:20260114T133631Z
UID:10005317-1772614800-1772632800@www.losmontesinos.es
SUMMARY:SUMA Gestión Tributaria (cita previa)
DESCRIPTION:*** Es necesario coger CITA PREVIA ***  https://www.suma.es/cita_previa.xhtml o llamando al Ayuntamiento 96 672 10 87   \nPersonal de la oficina de SUMA Gestión Tributaria se desplaza al Ayuntamiento de Los Montesinos para atender consultas y gestiones ciudadanas. \nAtención de 9.00 a 14.00 horas (solo con cita previa)
URL:https://www.losmontesinos.es/event/suma-gestion-tributaria-cita-previa-33/
LOCATION:Ayuntamiento de Los Montesinos\, Plaza Del Ayuntamiento\, 1\, Los Montesinos\, Alicante\, 03187\, España
CATEGORIES:Servicios
ATTACH;FMTTYPE=image/jpeg:https://www.losmontesinos.es/wp-content/uploads/2021/12/logo-suma.jpg
END:VEVENT
BEGIN:VEVENT
DTSTART;TZID=Europe/Madrid:20260305T093000
DTEND;TZID=Europe/Madrid:20260305T133000
DTSTAMP:20260423T130949
CREATED:20260220T085031Z
LAST-MODIFIED:20260220T085031Z
UID:10005337-1772703000-1772717400@www.losmontesinos.es
SUMMARY:II Feria de Empleo por la Inclusión
DESCRIPTION:Desde el Programa Integra de los Servicios Sociales del Ayuntamiento de Los Montesinos\, se ofrece transporte gratuito para asistir a la II Feria de Empleo por la Inclusión en Torrevieja (prioridad a participantes del Programa Integra Montesinos.\n\n\nEsta esta feria tendrás la oportunidad de contactar directamente con numerosas empresas y dejarles tu currículum.\n\n\nSalida desde Plaza del Ayuntamiento a las 9.30h y regreso a las 13.30h.\nPlazas limitadas\, reserva la tuya llamando al tfno. 96 672 14 14 de Servicios Sociales.\n\n\nEl Programa de Itinerarios integrados está financiado por la Unión Europea a través del Programa Fondo Social Europeo Plus (FSE+) Comunitat Valenciana 2021-2027
URL:https://www.losmontesinos.es/event/ii-feria-de-empleo-por-la-inclusion/
LOCATION:Alicante
CATEGORIES:Bienestar Social
ATTACH;FMTTYPE=image/jpeg:https://www.losmontesinos.es/wp-content/uploads/2026/02/II-feria-trabajo-intergra-montesinos.jpg
END:VEVENT
BEGIN:VEVENT
DTSTART;TZID=Europe/Madrid:20260305T203000
DTEND;TZID=Europe/Madrid:20260305T213000
DTSTAMP:20260423T130949
CREATED:20260304T094748Z
LAST-MODIFIED:20260304T094748Z
UID:10005339-1772742600-1772746200@www.losmontesinos.es
SUMMARY:Semana Santa 2026
DESCRIPTION:A las 20.30h\, Charla Cuaresmal en la Noche de Parroquia.
URL:https://www.losmontesinos.es/event/semana-santa-2026/
LOCATION:Iglesia Parroquial de Los Montesinos\, Plaza del Ayuntamiento\, 2\, Los Montesinos\, Alicante\, 03187\, España
CATEGORIES:Semana Santa
ATTACH;FMTTYPE=image/jpeg:https://www.losmontesinos.es/wp-content/uploads/2026/03/Cartel-semana-santa-2026.jpg
END:VEVENT
BEGIN:VEVENT
DTSTART;TZID=Europe/Madrid:20260306T170000
DTEND;TZID=Europe/Madrid:20260306T200000
DTSTAMP:20260423T130949
CREATED:20260227T080245Z
LAST-MODIFIED:20260227T080245Z
UID:10005338-1772816400-1772827200@www.losmontesinos.es
SUMMARY:Tardeada de la Mujer
DESCRIPTION:Tarde de actividades enfocadas al bienestar\, la salud\, el autocuidado y la convivencia que tendrán lugar en el Centro Cívico y Social de Los Montesinos\, a partir de las 17h. – Inscripciones en el Ayuntamiento-\nEsta actividad forma parte de la programación especial del Ayuntamiento de Los Montesinos con motivo del 8M – Día Internacional de la Mujer\, te invitamos a disfrutar de una tarde pensada para el bienestar\, la salud y el encuentro. \nA las 17:00h – Charla “Bienestar y salud en la etapa de la menopausia”\, impartida por Davinia García (dietista). \nA las 18:30h – Piscolabis. \nA las 18:45h – Sesión de risoterapia\, impartida por Ana Boj del Centro Absana. \n 
URL:https://www.losmontesinos.es/event/tardeada-de-la-mujer/
LOCATION:Centro Cívico y Social (Hogar del Jubilado)\, Plaza del Ayuntamiento\, 2\, Los Montesinos\, Alicante\, 03187\, España
CATEGORIES:Igualdad
ATTACH;FMTTYPE=image/jpeg:https://www.losmontesinos.es/wp-content/uploads/2026/02/Tardeada-montesios-6-marzo-2026.jpg
END:VEVENT
BEGIN:VEVENT
DTSTART;TZID=Europe/Madrid:20260308T110000
DTEND;TZID=Europe/Madrid:20260308T123000
DTSTAMP:20260423T130949
CREATED:20260304T095104Z
LAST-MODIFIED:20260304T095104Z
UID:10005340-1772967600-1772973000@www.losmontesinos.es
SUMMARY:Semana Santa 2026
DESCRIPTION:A las 11:00h\, Santa Misa – TERCER DOMINGO DE CUARESMA
URL:https://www.losmontesinos.es/event/semana-santa-2026-2/
LOCATION:Iglesia Parroquial de Los Montesinos\, Plaza del Ayuntamiento\, 2\, Los Montesinos\, Alicante\, 03187\, España
CATEGORIES:Semana Santa
ATTACH;FMTTYPE=image/jpeg:https://www.losmontesinos.es/wp-content/uploads/2026/03/Cartel-semana-santa-2026.jpg
END:VEVENT
BEGIN:VEVENT
DTSTART;TZID=Europe/Madrid:20260312T203000
DTEND;TZID=Europe/Madrid:20260312T213000
DTSTAMP:20260423T130949
CREATED:20260304T095346Z
LAST-MODIFIED:20260304T095346Z
UID:10005341-1773347400-1773351000@www.losmontesinos.es
SUMMARY:Semana Santa 2026
DESCRIPTION:A las 20:30h\, Charla Cuaresmal en la Noche de la Parroquia.
URL:https://www.losmontesinos.es/event/semana-santa-2026-3/
LOCATION:Iglesia Parroquial de Los Montesinos\, Plaza del Ayuntamiento\, 2\, Los Montesinos\, Alicante\, 03187\, España
CATEGORIES:Semana Santa
ATTACH;FMTTYPE=image/jpeg:https://www.losmontesinos.es/wp-content/uploads/2026/03/Cartel-semana-santa-2026.jpg
END:VEVENT
BEGIN:VEVENT
DTSTART;TZID=Europe/Madrid:20260313T100000
DTEND;TZID=Europe/Madrid:20260313T110000
DTSTAMP:20260423T130949
CREATED:20260311T120214Z
LAST-MODIFIED:20260311T121221Z
UID:10005361-1773396000-1773399600@www.losmontesinos.es
SUMMARY:Programación Integra Montesinos\, 1er semestre 2026
DESCRIPTION:A las 10:00h\, en el Salón de Plenos del Ayuntamiento de Los Montesinos\, tendrá lugar la presentación de las actividades y formaciones previstas para el primer semestre del año. \nEstas actividades y formaciones están encaminadas al desarrollo personal y profesional: conocer recursos\, formaciones y participar en actividades para la inclusión social. \nAcceso libre\, ven a conocer al equipo humano que lleva a cabo el desarrollo del programa\, responderán a todas tus dudas. \nMás información en el Departamento de Servicios Sociales y en el tfno. 96 672 14 14. \nEl programa de Itinerarios integrados está financiado por la Unión Europea a través del Programa Fondo Social Europeo Plus (FSE+) Comunitat Valenciana 2021-2027.#FSE+ #EU#GVA
URL:https://www.losmontesinos.es/event/presentacion-programa-itinerarios-1er-semestre-2026/
LOCATION:Ayuntamiento de Los Montesinos\, Plaza Del Ayuntamiento\, 1\, Los Montesinos\, Alicante\, 03187\, España
CATEGORIES:Bienestar Social
ATTACH;FMTTYPE=image/jpeg:https://www.losmontesinos.es/wp-content/uploads/2026/03/Presentacion-programacion-Itinerarios-2026.jpg
END:VEVENT
BEGIN:VEVENT
DTSTART;TZID=Europe/Madrid:20260315T090000
DTEND;TZID=Europe/Madrid:20260315T140000
DTSTAMP:20260423T130949
CREATED:20260306T103655Z
LAST-MODIFIED:20260306T103655Z
UID:10005360-1773565200-1773583200@www.losmontesinos.es
SUMMARY:IV Travesía La Marquesa
DESCRIPTION:IV Travesía a La Marquesa (10K y Marcha)\, una prueba consolidada que conecta patrimonio\, historia y convivencia entre dos municipios vecinos en un mismo recorrido: San Miguel de Salinas y Los Montesinos. \nBus lanzadera Los Montesinos-San Miguel de Salinas. \nSalida a las 10h desde San Miguel de Salinas y meta en Los Montesinos. \nMás información e inscripciones en:https://www.alcanzatumeta.es/iv-travesia-la-marquesa-san…/
URL:https://www.losmontesinos.es/event/iv-travesia-la-marquesa/
LOCATION:Alicante
CATEGORIES:Deportes,Turismo
ATTACH;FMTTYPE=image/jpeg:https://www.losmontesinos.es/wp-content/uploads/2026/03/IV-travesia-la-marquesa-2026.jpg
END:VEVENT
BEGIN:VEVENT
DTSTART;TZID=Europe/Madrid:20260315T110000
DTEND;TZID=Europe/Madrid:20260315T123000
DTSTAMP:20260423T130949
CREATED:20260304T111146Z
LAST-MODIFIED:20260304T111146Z
UID:10005342-1773572400-1773577800@www.losmontesinos.es
SUMMARY:Semana Santa 2026
DESCRIPTION:A las 11:00h\, Santa Misa – CUARTO DOMINGO DE CUARESMA
URL:https://www.losmontesinos.es/event/semana-santa-2026-4/
LOCATION:Iglesia Parroquial de Los Montesinos\, Plaza del Ayuntamiento\, 2\, Los Montesinos\, Alicante\, 03187\, España
CATEGORIES:Semana Santa
ATTACH;FMTTYPE=image/jpeg:https://www.losmontesinos.es/wp-content/uploads/2026/03/Cartel-semana-santa-2026.jpg
END:VEVENT
BEGIN:VEVENT
DTSTART;TZID=Europe/Madrid:20260319T203000
DTEND;TZID=Europe/Madrid:20260319T213000
DTSTAMP:20260423T130950
CREATED:20260304T115648Z
LAST-MODIFIED:20260304T115648Z
UID:10005343-1773952200-1773955800@www.losmontesinos.es
SUMMARY:Semana Santa 2026
DESCRIPTION:A las 20:30h\, Charla Cuaresmal en la Noche de la Parroquia. \n 
URL:https://www.losmontesinos.es/event/semana-santa-2026-5/
LOCATION:Iglesia Parroquial de Los Montesinos\, Plaza del Ayuntamiento\, 2\, Los Montesinos\, Alicante\, 03187\, España
CATEGORIES:Semana Santa
ATTACH;FMTTYPE=image/jpeg:https://www.losmontesinos.es/wp-content/uploads/2026/03/Cartel-semana-santa-2026.jpg
END:VEVENT
BEGIN:VEVENT
DTSTART;TZID=Europe/Madrid:20260322T110000
DTEND;TZID=Europe/Madrid:20260322T140000
DTSTAMP:20260423T130950
CREATED:20260304T122121Z
LAST-MODIFIED:20260304T122121Z
UID:10005344-1774177200-1774188000@www.losmontesinos.es
SUMMARY:Semana Santa 2026
DESCRIPTION:A las 11:00h\, Santa Misa – QUINTO DOMINGO DE CUARESMA – \nA las 12:00h\, Pregón de Semana Santa. Tendrá el honor de pronunciarlo Doña María Dolores Blázquez Sánchez. Al finalizar\, se realizará un vino de honor en la puerta de la Iglesia.
URL:https://www.losmontesinos.es/event/semana-santa-2026-6/
LOCATION:Iglesia Parroquial de Los Montesinos\, Plaza del Ayuntamiento\, 2\, Los Montesinos\, Alicante\, 03187\, España
CATEGORIES:Semana Santa
ATTACH;FMTTYPE=image/jpeg:https://www.losmontesinos.es/wp-content/uploads/2026/03/Cartel-semana-santa-2026.jpg
END:VEVENT
BEGIN:VEVENT
DTSTART;TZID=Europe/Madrid:20260325T090000
DTEND;TZID=Europe/Madrid:20260325T140000
DTSTAMP:20260423T130950
CREATED:20260114T133932Z
LAST-MODIFIED:20260114T133932Z
UID:10005318-1774429200-1774447200@www.losmontesinos.es
SUMMARY:SUMA Gestión Tributaria (cita previa)
DESCRIPTION:*** Es necesario coger CITA PREVIA ***  https://www.suma.es/cita_previa.xhtml o llamando al Ayuntamiento 96 672 10 87   \nPersonal de la oficina de SUMA Gestión Tributaria se desplaza al Ayuntamiento de Los Montesinos para atender consultas y gestiones ciudadanas. \nAtención de 9.00 a 14.00 horas (solo con cita previa)
URL:https://www.losmontesinos.es/event/suma-gestion-tributaria-cita-previa-34/
LOCATION:Ayuntamiento de Los Montesinos\, Plaza Del Ayuntamiento\, 1\, Los Montesinos\, Alicante\, 03187\, España
CATEGORIES:Servicios
ATTACH;FMTTYPE=image/jpeg:https://www.losmontesinos.es/wp-content/uploads/2021/12/logo-suma.jpg
END:VEVENT
BEGIN:VEVENT
DTSTART;TZID=Europe/Madrid:20260325T210000
DTEND;TZID=Europe/Madrid:20260325T223000
DTSTAMP:20260423T130950
CREATED:20260304T123315Z
LAST-MODIFIED:20260304T123428Z
UID:10005345-1774472400-1774477800@www.losmontesinos.es
SUMMARY:Semana Santa 2026
DESCRIPTION:A las 21:00h\, Santa Misa por los cofrades vivos y difuntos de la Cofradía del Cristo Yacente. \nAl finalizar\, se realizará el ‘besa pies’ con la imposición de insignias a los nuevos cofrades. \nDe 10:00h a 13:00h\, la imagen estará expuesta para la veneración pública de los fieles.
URL:https://www.losmontesinos.es/event/semana-santa-2026-7/
LOCATION:Iglesia Parroquial de Los Montesinos\, Plaza del Ayuntamiento\, 2\, Los Montesinos\, Alicante\, 03187\, España
CATEGORIES:Semana Santa
ATTACH;FMTTYPE=image/jpeg:https://www.losmontesinos.es/wp-content/uploads/2026/03/Cartel-semana-santa-2026.jpg
END:VEVENT
BEGIN:VEVENT
DTSTART;TZID=Europe/Madrid:20260326T210000
DTEND;TZID=Europe/Madrid:20260326T223000
DTSTAMP:20260423T130950
CREATED:20260304T124024Z
LAST-MODIFIED:20260304T124024Z
UID:10005346-1774558800-1774564200@www.losmontesinos.es
SUMMARY:Semana Santa 2026
DESCRIPTION:A las 21:00h\, Santa Misa por los cofrades vivos y difuntos de la Cofradía del Cristo del Perdón en su Agonía. \nAl finalizar\, se realizará el ‘besa pies’ con la imposición de insignias a los nuevos cofrades. \nDe 10:00h a 13:00h\, la imagen estará expuesta para la veneración pública de los fieles.
URL:https://www.losmontesinos.es/event/semana-santa-2026-8/
LOCATION:Iglesia Parroquial de Los Montesinos\, Plaza del Ayuntamiento\, 2\, Los Montesinos\, Alicante\, 03187\, España
CATEGORIES:Semana Santa
ATTACH;FMTTYPE=image/jpeg:https://www.losmontesinos.es/wp-content/uploads/2026/03/Cartel-semana-santa-2026.jpg
END:VEVENT
BEGIN:VEVENT
DTSTART;TZID=Europe/Madrid:20260327T210000
DTEND;TZID=Europe/Madrid:20260327T223000
DTSTAMP:20260423T130950
CREATED:20260304T124556Z
LAST-MODIFIED:20260304T124556Z
UID:10005347-1774645200-1774650600@www.losmontesinos.es
SUMMARY:Semana Santa 2026
DESCRIPTION:A las 21:00h\, Santa Misa por los cofrades vivos y difuntos de la Cofradía de la Virgen de Los Dolores. \nAl finalizar\, se realizará el ‘besa pies’ con la imposición de insignias a los nuevos cofrades. \nDe 10:00h a 13:00h\, la imagen estará expuesta para la veneración pública de los fieles.
URL:https://www.losmontesinos.es/event/semana-santa-2026-9/
LOCATION:Iglesia Parroquial de Los Montesinos\, Plaza del Ayuntamiento\, 2\, Los Montesinos\, Alicante\, 03187\, España
CATEGORIES:Semana Santa
ATTACH;FMTTYPE=image/jpeg:https://www.losmontesinos.es/wp-content/uploads/2026/03/Cartel-semana-santa-2026.jpg
END:VEVENT
BEGIN:VEVENT
DTSTART;TZID=Europe/Madrid:20260328T193000
DTEND;TZID=Europe/Madrid:20260328T210000
DTSTAMP:20260423T130950
CREATED:20260304T125617Z
LAST-MODIFIED:20260304T125617Z
UID:10005348-1774726200-1774731600@www.losmontesinos.es
SUMMARY:Semana Santa 2026
DESCRIPTION:A las 19:30h\, Recital Coral ‘Aromas de Azahar’ en el Auditorio de la Escuela de Música y Cultura. \nA las 20:00h\, Concierto de Música Sacra a cargo de la Agrupación Musical Montesinos en el Auditorio de la Escuela de Música y Cultura de Los Montesinos.
URL:https://www.losmontesinos.es/event/semana-santa-2026-10/
LOCATION:Escuela municipal de Música y Cultura (Auditorio municipal)\, C/ Zaragoza\, 5\, Los Montesinos\, Alicante\, 03187\, España
CATEGORIES:Semana Santa
ATTACH;FMTTYPE=image/jpeg:https://www.losmontesinos.es/wp-content/uploads/2026/03/Cartel-semana-santa-2026.jpg
END:VEVENT
BEGIN:VEVENT
DTSTART;TZID=Europe/Madrid:20260329T110000
DTEND;TZID=Europe/Madrid:20260329T130000
DTSTAMP:20260423T130950
CREATED:20260304T130220Z
LAST-MODIFIED:20260304T130220Z
UID:10005349-1774782000-1774789200@www.losmontesinos.es
SUMMARY:Semana Santa 2026
DESCRIPTION:A las 11:00h\, Bendición de Ramos y ‘Entrada Triunfal de Jesús en Jerusalén’ desde el parque de Los Olivos (situado entre las calles Azorín y 30 de Julio)\, continuando por la calle Azorín\, Gabriel Miró\, Santos Médicos\, avenida de La Marquesa y finalizando en la Parroquia con la celebración de la Santa Misa.
URL:https://www.losmontesinos.es/event/semana-santa-2026-11/
LOCATION:Iglesia Parroquial de Los Montesinos\, Plaza del Ayuntamiento\, 2\, Los Montesinos\, Alicante\, 03187\, España
CATEGORIES:Semana Santa
ATTACH;FMTTYPE=image/jpeg:https://www.losmontesinos.es/wp-content/uploads/2026/03/Cartel-semana-santa-2026.jpg
END:VEVENT
BEGIN:VEVENT
DTSTART;TZID=Europe/Madrid:20260331T210000
DTEND;TZID=Europe/Madrid:20260331T230000
DTSTAMP:20260423T130950
CREATED:20260304T130542Z
LAST-MODIFIED:20260304T130542Z
UID:10005350-1774990800-1774998000@www.losmontesinos.es
SUMMARY:Semana Santa 2026
DESCRIPTION:A las 21:00h\, VÍA CRUCIS por las calles del pueblo.
URL:https://www.losmontesinos.es/event/semana-santa-2026-12/
LOCATION:Alicante
CATEGORIES:Semana Santa
ATTACH;FMTTYPE=image/jpeg:https://www.losmontesinos.es/wp-content/uploads/2026/03/Cartel-semana-santa-2026.jpg
END:VEVENT
BEGIN:VEVENT
DTSTART;TZID=Europe/Madrid:20260401T180000
DTEND;TZID=Europe/Madrid:20260401T203000
DTSTAMP:20260423T130950
CREATED:20260304T130912Z
LAST-MODIFIED:20260304T130912Z
UID:10005351-1775066400-1775075400@www.losmontesinos.es
SUMMARY:Semana Santa 2026
DESCRIPTION:De 18:00h a 20:30h\, Celebración de la Penitencia (confesiones). \nA las 18:30h\, Santa Misa.
URL:https://www.losmontesinos.es/event/semana-santa-2026-13/
LOCATION:Iglesia Parroquial de Los Montesinos\, Plaza del Ayuntamiento\, 2\, Los Montesinos\, Alicante\, 03187\, España
CATEGORIES:Semana Santa
ATTACH;FMTTYPE=image/jpeg:https://www.losmontesinos.es/wp-content/uploads/2026/03/Cartel-semana-santa-2026.jpg
END:VEVENT
BEGIN:VEVENT
DTSTART;TZID=Europe/Madrid:20260402T180000
DTEND;TZID=Europe/Madrid:20260402T235900
DTSTAMP:20260423T130950
CREATED:20260304T131612Z
LAST-MODIFIED:20260304T131612Z
UID:10005352-1775152800-1775174340@www.losmontesinos.es
SUMMARY:Semana Santa 2026
DESCRIPTION:A las 18:00h\, Misa de la Cena del Señor – Missa in Coena Domini. \nA las 21:00h\, Procesión del Silencio\, acompañada por la cantante profesional Belén Pastor y la guitarra de Samuel Sánchez. \nEl itinerario comenzará en la Plaza del Ayuntamiento\, avenida de La Marquesa\, Calle San Miguel\, Avenida del Mar\, calle San Lucas\, avenida de La Marquesa e Iglesia. \nA las 22:00h\, Hora Santa.
URL:https://www.losmontesinos.es/event/semana-santa-2026-14/
LOCATION:Iglesia Parroquial de Los Montesinos\, Plaza del Ayuntamiento\, 2\, Los Montesinos\, Alicante\, 03187\, España
CATEGORIES:Semana Santa
ATTACH;FMTTYPE=image/jpeg:https://www.losmontesinos.es/wp-content/uploads/2026/03/Cartel-semana-santa-2026.jpg
END:VEVENT
BEGIN:VEVENT
DTSTART;TZID=Europe/Madrid:20260403T160000
DTEND;TZID=Europe/Madrid:20260403T220000
DTSTAMP:20260423T130950
CREATED:20260304T132547Z
LAST-MODIFIED:20260304T132547Z
UID:10005353-1775232000-1775253600@www.losmontesinos.es
SUMMARY:Semana Santa 2026
DESCRIPTION:A las 16:00h\, Tamborrada. Con tres puntos de encuentro en calles Vistabella\, Mayor y avenida de La Marquesa. \nA las 17:00h\, Santos Oficios con la Celebración de la Pasión y Muerte del Señor. \nA las 20:00h\, Procesión del Santo Entierro. Itinerario: Plaza del Ayuntamiento\, Avenida de La Marquesa\, calle San Miguel\, Avenida del Mar\, calle San Lucas\, Avenida La Marquesa e Iglesia. \n 
URL:https://www.losmontesinos.es/event/semana-santa-2026-15/
LOCATION:Alicante
CATEGORIES:Semana Santa
ATTACH;FMTTYPE=image/jpeg:https://www.losmontesinos.es/wp-content/uploads/2026/03/Cartel-semana-santa-2026.jpg
END:VEVENT
BEGIN:VEVENT
DTSTART;TZID=Europe/Madrid:20260404T220000
DTEND;TZID=Europe/Madrid:20260404T235900
DTSTAMP:20260423T130950
CREATED:20260305T081242Z
LAST-MODIFIED:20260305T081242Z
UID:10005354-1775340000-1775347140@www.losmontesinos.es
SUMMARY:Semana Santa 2026
DESCRIPTION:A las 22:00h\, Solemne Vigilia Pascual.
URL:https://www.losmontesinos.es/event/semana-santa-2026-16/
LOCATION:Alicante
CATEGORIES:Semana Santa
ATTACH;FMTTYPE=image/jpeg:https://www.losmontesinos.es/wp-content/uploads/2026/03/Cartel-semana-santa-2026.jpg
END:VEVENT
BEGIN:VEVENT
DTSTART;TZID=Europe/Madrid:20260405T110000
DTEND;TZID=Europe/Madrid:20260405T140000
DTSTAMP:20260423T130950
CREATED:20260305T081846Z
LAST-MODIFIED:20260305T081846Z
UID:10005355-1775386800-1775397600@www.losmontesinos.es
SUMMARY:Semana Santa 2026
DESCRIPTION:A las 11:00h\, Procesión del Encuentro. \nRecorrido de la imagen de Nuestra Señora de Los Dolores: Avenida de La Marquesa\, calle San Lucas\, Avenida del Mar. \nRecorrido del Santísimo Sacramento: Plaza del Ayuntamiento\, Avenida de La Marquesa\, Avenida del Mar y ENCUENTRO. \nRecorrido de regreso: Avenida del Mar\, Avenida de La Marquesa e Iglesia. \nAl finalizar\, se celebrará la Santa Misa de Pascua.
URL:https://www.losmontesinos.es/event/semana-santa-2026-17/
LOCATION:Iglesia Parroquial de Los Montesinos\, Plaza del Ayuntamiento\, 2\, Los Montesinos\, Alicante\, 03187\, España
CATEGORIES:Semana Santa
ATTACH;FMTTYPE=image/jpeg:https://www.losmontesinos.es/wp-content/uploads/2026/03/Cartel-semana-santa-2026.jpg
END:VEVENT
END:VCALENDAR