BEGIN:VCALENDAR
VERSION:2.0
PRODID:-//Ayuntamiento - ECPv6.15.15//NONSGML v1.0//EN
CALSCALE:GREGORIAN
METHOD:PUBLISH
X-ORIGINAL-URL:https://www.losmontesinos.es
X-WR-CALDESC:Eventos para Ayuntamiento
REFRESH-INTERVAL;VALUE=DURATION:PT1H
X-Robots-Tag:noindex
X-PUBLISHED-TTL:PT1H
BEGIN:VTIMEZONE
TZID:Europe/Madrid
BEGIN:DAYLIGHT
TZOFFSETFROM:+0100
TZOFFSETTO:+0200
TZNAME:CEST
DTSTART:20240331T010000
END:DAYLIGHT
BEGIN:STANDARD
TZOFFSETFROM:+0200
TZOFFSETTO:+0100
TZNAME:CET
DTSTART:20241027T010000
END:STANDARD
BEGIN:DAYLIGHT
TZOFFSETFROM:+0100
TZOFFSETTO:+0200
TZNAME:CEST
DTSTART:20250330T010000
END:DAYLIGHT
BEGIN:STANDARD
TZOFFSETFROM:+0200
TZOFFSETTO:+0100
TZNAME:CET
DTSTART:20251026T010000
END:STANDARD
BEGIN:DAYLIGHT
TZOFFSETFROM:+0100
TZOFFSETTO:+0200
TZNAME:CEST
DTSTART:20260329T010000
END:DAYLIGHT
BEGIN:STANDARD
TZOFFSETFROM:+0200
TZOFFSETTO:+0100
TZNAME:CET
DTSTART:20261025T010000
END:STANDARD
END:VTIMEZONE
BEGIN:VEVENT
DTSTART;TZID=Europe/Madrid:20250608T193000
DTEND;TZID=Europe/Madrid:20250608T210000
DTSTAMP:20260423T130926
CREATED:20250603T124931Z
LAST-MODIFIED:20250603T124931Z
UID:10005221-1749411000-1749416400@www.losmontesinos.es
SUMMARY:Concierto de Primavera
DESCRIPTION:A las 19.30h en el Auditorio de la Escuela de Música y Cultura de Los Montesinos \nEntrada libre\, limitada al aforo.
URL:https://www.losmontesinos.es/event/concierto-de-primavera/
LOCATION:Escuela municipal de Música y Cultura (Auditorio municipal)\, C/ Zaragoza\, 5\, Los Montesinos\, Alicante\, 03187\, España
CATEGORIES:Cultura
ATTACH;FMTTYPE=image/jpeg:https://www.losmontesinos.es/wp-content/uploads/2025/06/WhatsApp-Image-2025-06-03-at-14.44.28.jpeg
END:VEVENT
BEGIN:VEVENT
DTSTART;TZID=Europe/Madrid:20250609T180000
DTEND;TZID=Europe/Madrid:20250609T203000
DTSTAMP:20260423T130927
CREATED:20250603T122417Z
LAST-MODIFIED:20250603T122417Z
UID:10005218-1749492000-1749501000@www.losmontesinos.es
SUMMARY:Audiciones Escuela Municipal Música
DESCRIPTION:A las 18h: Guitarra\, Violonchelo y Percusión adaptada. \nA las 19h: Trombón\, Bombardino\, Oboe y Trompeta. \nA las 20h: Saxofón \nLa entrada es libre\, limitada al aforo del auditorio.
URL:https://www.losmontesinos.es/event/audiciones-escuela-municipal-musica/
LOCATION:Escuela municipal de Música y Cultura (Auditorio municipal)\, C/ Zaragoza\, 5\, Los Montesinos\, Alicante\, 03187\, España
CATEGORIES:Cultura
ATTACH;FMTTYPE=image/jpeg:https://www.losmontesinos.es/wp-content/uploads/2025/06/audiciones-junio-2025.jpg
END:VEVENT
BEGIN:VEVENT
DTSTART;TZID=Europe/Madrid:20250611T190000
DTEND;TZID=Europe/Madrid:20250611T210000
DTSTAMP:20260423T130927
CREATED:20250603T122643Z
LAST-MODIFIED:20250603T122643Z
UID:10005219-1749668400-1749675600@www.losmontesinos.es
SUMMARY:Audiciones Escuela Municipal Música
DESCRIPTION:A las 19h: Clarinete \nA las 20h: Flauta\, Trompa\, Fagot y Piano \nEntrada libre\, limitada al aforo del auditorio.
URL:https://www.losmontesinos.es/event/audiciones-escuela-municipal-musica-2/
LOCATION:Escuela municipal de Música y Cultura (Auditorio municipal)\, C/ Zaragoza\, 5\, Los Montesinos\, Alicante\, 03187\, España
CATEGORIES:Cultura
ATTACH;FMTTYPE=image/jpeg:https://www.losmontesinos.es/wp-content/uploads/2025/06/audiciones-junio-2025.jpg
END:VEVENT
BEGIN:VEVENT
DTSTART;TZID=Europe/Madrid:20250612T183000
DTEND;TZID=Europe/Madrid:20250612T200000
DTSTAMP:20260423T130927
CREATED:20250603T122849Z
LAST-MODIFIED:20250603T122849Z
UID:10005220-1749753000-1749758400@www.losmontesinos.es
SUMMARY:Audiciones Escuela Municipal Música
DESCRIPTION:A las 18.30h: Percusión (sala de ensayo en 2ª planta)
URL:https://www.losmontesinos.es/event/audiciones-escuela-municipal-musica-3/
LOCATION:Escuela municipal de Música y Cultura (Auditorio municipal)\, C/ Zaragoza\, 5\, Los Montesinos\, Alicante\, 03187\, España
CATEGORIES:Cultura
ATTACH;FMTTYPE=image/jpeg:https://www.losmontesinos.es/wp-content/uploads/2025/06/audiciones-junio-2025.jpg
END:VEVENT
BEGIN:VEVENT
DTSTART;TZID=Europe/Madrid:20250614T083000
DTEND;TZID=Europe/Madrid:20250614T140000
DTSTAMP:20260423T130927
CREATED:20250610T054704Z
LAST-MODIFIED:20250610T054704Z
UID:10005222-1749889800-1749909600@www.losmontesinos.es
SUMMARY:Excursión Parque Natural El Hondo (jóvenes de 11 a 30 años)
DESCRIPTION:Actividad dirigida a jóvenes entre 11 y 30 años.\n\n \n\nUna excursión guida por el naturalista Pablo Perales.\n\n \n\nRecomendaciones:\n\n \n\n 	Calzado y ropa cómoda\n \n 	Gorra y crema solar\n \n 	Almuerzo y agua
URL:https://www.losmontesinos.es/event/excursion-parque-natural-el-hondo-jovenes-de-11-a-30-anos/
LOCATION:Alicante
CATEGORIES:Juventud
ATTACH;FMTTYPE=image/jpeg:https://www.losmontesinos.es/wp-content/uploads/2025/06/parque-natural-hondo-elche-juventud-montesinos.jpg
END:VEVENT
BEGIN:VEVENT
DTSTART;TZID=Europe/Madrid:20250615T193000
DTEND;TZID=Europe/Madrid:20250615T220000
DTSTAMP:20260423T130927
CREATED:20250610T061242Z
LAST-MODIFIED:20250610T061242Z
UID:10005224-1750015800-1750024800@www.losmontesinos.es
SUMMARY:XV Gala de la Música (curso 2024-2025)
DESCRIPTION:Un evento único donde la pasión\, el talento y la emoción de nuestros jóvenes estudiantes de música\, se unen en el escenario para ofrecernos actuaciones de: * Jardín Musical* Orquesta de Ritmo* Lenguaje Musical* Banda Infantil* Banda Juvenil \nENTREGA DE DIPLOMAS al alumnado de fin de grado y MENCIONES DE HONOR a quienes han brillado con luz propia. \nPorque la música se vive\, se siente y se celebra…\n \n \n 
URL:https://www.losmontesinos.es/event/xv-gala-de-la-musica-curso-2024-2025/
LOCATION:Escuela municipal de Música y Cultura (Auditorio municipal)\, C/ Zaragoza\, 5\, Los Montesinos\, Alicante\, 03187\, España
CATEGORIES:Cultura
ATTACH;FMTTYPE=image/jpeg:https://www.losmontesinos.es/wp-content/uploads/2025/06/XV-gala-musica-montesinos-2025.jpg
END:VEVENT
BEGIN:VEVENT
DTSTART;TZID=Europe/Madrid:20250616T083000
DTEND;TZID=Europe/Madrid:20250616T143000
DTSTAMP:20260423T130927
CREATED:20250602T060617Z
LAST-MODIFIED:20250602T060617Z
UID:10005188-1750062600-1750084200@www.losmontesinos.es
SUMMARY:Visita del Ecoparque móvil ‘Vega Baja Sostenible’
DESCRIPTION:8.30 a 14.30 horas en la C/ Santos Médicos con cruce C/ El Sol\nDale vida a tus residuos: RECICLA\, REUTILIZA\, REDUCE\nConsulta en la imagen la cantidad máxima de ciertos residuos que puedes llevar:
URL:https://www.losmontesinos.es/event/visita-del-ecoparque-movil-vega-baja-sostenible-61/
LOCATION:Alicante
CATEGORIES:Servicios
ATTACH;FMTTYPE=image/jpeg:https://www.losmontesinos.es/wp-content/uploads/2023/01/FUNCIONAMIENTO-ECOPARQUE-MOVIL-Los-Montesinos-2020.jpg
END:VEVENT
BEGIN:VEVENT
DTSTART;TZID=Europe/Madrid:20250620T210000
DTEND;TZID=Europe/Madrid:20250620T235900
DTSTAMP:20260423T130927
CREATED:20250610T055609Z
LAST-MODIFIED:20250610T055722Z
UID:10005223-1750453200-1750463940@www.losmontesinos.es
SUMMARY:II Summer Fest Los Montesinos
DESCRIPTION:El verano arranca a lo grande con el II SUMMER FEST Los Montesinos (música\, comida\, buen rollo y mucha diversión). \nA partir de las 21h en la Plaza del Ayuntamiento celebramos la fiesta ‘Bienvenido Verano’\, con las actuaciones de: \n\nEl Postre\nSergio Salinas¿Te la vas a perder?\n\nOrganizan: Concejalías de Fiestas y Juventud del Ayuntamiento de Los Montesinos
URL:https://www.losmontesinos.es/event/ii-summer-fest-los-montesinos/
LOCATION:Alicante
CATEGORIES:Fiestas Patronales,Juventud
ATTACH;FMTTYPE=image/jpeg:https://www.losmontesinos.es/wp-content/uploads/2025/06/II-summer-fest-montesinos.jpg
END:VEVENT
BEGIN:VEVENT
DTSTART;TZID=Europe/Madrid:20250621T100000
DTEND;TZID=Europe/Madrid:20250621T200000
DTSTAMP:20260423T130927
CREATED:20250613T072751Z
LAST-MODIFIED:20250613T072751Z
UID:10005225-1750500000-1750536000@www.losmontesinos.es
SUMMARY:Apertura de la Piscina Municipal
DESCRIPTION:La piscina municipal permanecerá abierta los meses de Junio\, Julio\, Agosto y Septiembre con los siguientes horarios:\n\n* Lunes a Viernes [Julio y Agosto] 12:00. a 20:00 horas\n* Lunes a Viernes [Junio y Septiembre] 10:00. a 20:00 horas\n* Sábado y Domingo de 10:00. a 20:00 horas\n\n\n\nEl precio de los tickets de entrada es:\n\n* Entrada Individual · 1\,50 Euros\n* Abono de 7 Baños · 6 Euros\n* Abono de 30 Baños · 20 Euros\n* Menores de 4 años GRATIS\n\n\n\nLas entradas y reservas se hacen a través de la App SPORTTIA\, desde la cual también se pueden comprar los tickets y abonos (también se venderán en la taquilla de la piscina):\n\n—>>> APP SPORTTIA ANDROID · https://cutt.ly/Nn46rU1\n—>>> APP SPORTTIA IOS · https://apple.co/35NBRFa\n\nNOTA:  En personal de la piscina municipal ayudará a los/as usuarios/as que presenten dificultades para realizar la gestión de reservas por la App Sporttia.
URL:https://www.losmontesinos.es/event/apertura-de-la-piscina-municipal-4/
LOCATION:Instalaciones municipales deportivas\, Partida Los Miras\, s/n\, Los Montesinos\, Alicante\, 03187\, España
CATEGORIES:Deportes
ATTACH;FMTTYPE=image/jpeg:https://www.losmontesinos.es/wp-content/uploads/2025/06/piscina-municipal-2025.jpg
END:VEVENT
BEGIN:VEVENT
DTSTART;TZID=Europe/Madrid:20250623T083000
DTEND;TZID=Europe/Madrid:20250623T143000
DTSTAMP:20260423T130927
CREATED:20250602T061139Z
LAST-MODIFIED:20250602T061139Z
UID:10005189-1750667400-1750689000@www.losmontesinos.es
SUMMARY:Visita del Ecoparque móvil ‘Vega Baja Sostenible’
DESCRIPTION:8.30 a 14.30 horas en la C/ Santos Médicos con cruce C/ El Sol\nDale vida a tus residuos: RECICLA\, REUTILIZA\, REDUCE\nConsulta en la imagen la cantidad máxima de ciertos residuos que puedes llevar:
URL:https://www.losmontesinos.es/event/visita-del-ecoparque-movil-vega-baja-sostenible-62/
LOCATION:Alicante
CATEGORIES:Servicios
ATTACH;FMTTYPE=image/jpeg:https://www.losmontesinos.es/wp-content/uploads/2020/09/FUNCIONAMIENTO-ECOPARQUE-MOVIL-Los-Montesinos-2020.jpg
END:VEVENT
BEGIN:VEVENT
DTSTART;TZID=Europe/Madrid:20250626T101500
DTEND;TZID=Europe/Madrid:20250626T121500
DTSTAMP:20260423T130927
CREATED:20250618T113007Z
LAST-MODIFIED:20250618T113339Z
UID:10005227-1750932900-1750940100@www.losmontesinos.es
SUMMARY:Charla informativa: Facturas de la luz y el gas
DESCRIPTION:A las 10.15h en el Centro Cívico y Social\, práctica charla informativa para entender las facturas de la luz y el gas y consejos útiles para ahorrar. \nEn esta charla informativa\, podrán aprender a:\n* Comprender la factura de luz y gas y ajustarla a las necesidades de cada familia.\n* Indicar pequeños cambios en las viviendas para obtener un ahorro energético (y en el caso de la luz\, poder reducir la potencia contratada).\n* Información sobre las tarifas eléctricas\n* Bono social y otras ayudas: cómo se pueden solicitar\, dónde deben dirigirse\, etc.\n  \nLa entrada es libre\, limitada al aforo. \nOrganiza: Departamento de Servicios Sociales\, Programa INTEGRA (Financiado por el Fondo Social Europeo Plus FSE+ Comunitat Valencia 2021-2027). \n  \n 
URL:https://www.losmontesinos.es/event/charla-informativa-facturas-de-la-luz-y-el-gas/
LOCATION:Centro Cívico y Social (Hogar del Jubilado)\, Plaza del Ayuntamiento\, 2\, Los Montesinos\, Alicante\, 03187\, España
CATEGORIES:Bienestar Social
ATTACH;FMTTYPE=image/jpeg:https://www.losmontesinos.es/wp-content/uploads/2025/06/Cartel-charla-luz-montesinos.jpeg
END:VEVENT
BEGIN:VEVENT
DTSTART;TZID=Europe/Madrid:20250626T173000
DTEND;TZID=Europe/Madrid:20250626T193000
DTSTAMP:20260423T130927
CREATED:20250618T115204Z
LAST-MODIFIED:20250618T115204Z
UID:10005228-1750959000-1750966200@www.losmontesinos.es
SUMMARY:Taller de Cocina Italiana
DESCRIPTION:Jueves 26 de junio de 17.30 a 19.30 horas\, en el Centro Cívico y Social (actividad destinada a jóvenes entre 11 y 30 años\, previa inscripción en el Ayuntamiento\, plazas limitadas). \nTaller práctico para aprender los secretos mejor guardados de la gastronomía italiana (pizzas\, tiramisú…..¡Sorpresas y mucho más!
URL:https://www.losmontesinos.es/event/taller-de-cocina-italiana/
LOCATION:Centro Cívico y Social (Hogar del Jubilado)\, Plaza del Ayuntamiento\, 2\, Los Montesinos\, Alicante\, 03187\, España
CATEGORIES:Juventud
ATTACH;FMTTYPE=image/jpeg:https://www.losmontesinos.es/wp-content/uploads/2025/06/Taller-cocina-italiana-jovenes-montesinos-2025.jpg
END:VEVENT
BEGIN:VEVENT
DTSTART;TZID=Europe/Madrid:20250627T200000
DTEND;TZID=Europe/Madrid:20250627T220000
DTSTAMP:20260423T130927
CREATED:20250624T104725Z
LAST-MODIFIED:20250624T104725Z
UID:10005229-1751054400-1751061600@www.losmontesinos.es
SUMMARY:XXII Campaña de Conciertos de Intercambios Musicales
DESCRIPTION:XXII Campaña de Conciertos de Intercambios Musicales\, en colaboración con la Fiesta del Colegio Público «Virgen del Pilar» de Los Montesinos \n\n\nA partir de las 20h\, en el Patio del Colegio\, con la participación de:\n\n\nBanda Intermezzo “Agrupación Musical Montesinos”\nBanda Juvenil “Sociedad Unión Musical de Bigastro”\n\n\nDisfrutaremos del talento de nuestras bandas jóvenes.
URL:https://www.losmontesinos.es/event/xxii-campana-de-conciertos-de-intercambios-musicales/
LOCATION:CEIP Virgen del Pilar\, C/ Maestro Fidel Gómez\, 1\, Los Montesinos\, Alicante\, 03187\, España
CATEGORIES:Cultura
ATTACH;FMTTYPE=image/jpeg:https://www.losmontesinos.es/wp-content/uploads/2025/06/Campana-intercambios-musicales-2706.jpg
END:VEVENT
BEGIN:VEVENT
DTSTART;TZID=Europe/Madrid:20250630T083000
DTEND;TZID=Europe/Madrid:20250630T143000
DTSTAMP:20260423T130927
CREATED:20250602T061423Z
LAST-MODIFIED:20250602T061423Z
UID:10005190-1751272200-1751293800@www.losmontesinos.es
SUMMARY:Visita del Ecoparque móvil ‘Vega Baja Sostenible’
DESCRIPTION:8.30 a 14.30 horas en la C/ Santos Médicos con cruce C/ El Sol\nDale vida a tus residuos: RECICLA\, REUTILIZA\, REDUCE\nConsulta en la imagen la cantidad máxima de ciertos residuos que puedes llevar:
URL:https://www.losmontesinos.es/event/visita-del-ecoparque-movil-vega-baja-sostenible-63/
LOCATION:Alicante
CATEGORIES:Servicios
ATTACH;FMTTYPE=image/jpeg:https://www.losmontesinos.es/wp-content/uploads/2023/01/FUNCIONAMIENTO-ECOPARQUE-MOVIL-Los-Montesinos-2020.jpg
END:VEVENT
BEGIN:VEVENT
DTSTART;TZID=Europe/Madrid:20250702T090000
DTEND;TZID=Europe/Madrid:20250702T140000
DTSTAMP:20260423T130927
CREATED:20250602T075608Z
LAST-MODIFIED:20250602T075608Z
UID:10005210-1751446800-1751464800@www.losmontesinos.es
SUMMARY:SUMA Gestión Tributaria (cita previa)
DESCRIPTION:*** Es necesario coger CITA PREVIA ***  https://www.suma.es/cita_previa.xhtml o llamando al Ayuntamiento 96 672 10 87   \nPersonal de la oficina de SUMA Gestión Tributaria se desplaza al Ayuntamiento de Los Montesinos para atender consultas y gestiones ciudadanas. \nAtención de 9.00 a 14.00 horas (solo con cita previa)
URL:https://www.losmontesinos.es/event/suma-gestion-tributaria-cita-previa-24/
LOCATION:Ayuntamiento de Los Montesinos\, Plaza Del Ayuntamiento\, 1\, Los Montesinos\, Alicante\, 03187\, España
CATEGORIES:Servicios
ATTACH;FMTTYPE=image/jpeg:https://www.losmontesinos.es/wp-content/uploads/2021/12/logo-suma.jpg
END:VEVENT
BEGIN:VEVENT
DTSTART;TZID=Europe/Madrid:20250705T160000
DTEND;TZID=Europe/Madrid:20250706T220000
DTSTAMP:20260423T130927
CREATED:20250624T105518Z
LAST-MODIFIED:20250702T120100Z
UID:10005230-1751731200-1751839200@www.losmontesinos.es
SUMMARY:III edición 'Montesinos Game Party'
DESCRIPTION:Actividad preferente para jóvenes entre 10 y 25 años\n\nEn el CEIP Virgen del Pilar\, de 16:00 a 22:00 horas\n\n\nInscripciones gratuitas en: logrodesbloqueado.com\n\n\n\nDisfruta de:\n\n\n Zona Consolas: PS5\, Xbox Series X y más\n Torneos de EA FC25\, Just Dance\, Rocket League\, Fortnite… ¡con premios virtuales!\n Simuladores de conducción\n Campeonatos Mobile\n Realidad Virtual\n\n\n\n ¡Plazas limitadas!
URL:https://www.losmontesinos.es/event/iii-edicion-montesinos-game-party/
LOCATION:CEIP Virgen del Pilar\, C/ Maestro Fidel Gómez\, 1\, Los Montesinos\, Alicante\, 03187\, España
CATEGORIES:Juventud
ATTACH;FMTTYPE=image/jpeg:https://www.losmontesinos.es/wp-content/uploads/2025/06/Montesinos-game-party-2025.jpg
END:VEVENT
BEGIN:VEVENT
DTSTART;TZID=Europe/Madrid:20250705T210000
DTEND;TZID=Europe/Madrid:20250705T235900
DTSTAMP:20260423T130927
CREATED:20250613T105010Z
LAST-MODIFIED:20250613T105010Z
UID:10005226-1751749200-1751759940@www.losmontesinos.es
SUMMARY:Fiesta del Orgullo LGTBI+
DESCRIPTION:Reserva tu mesa en el Ayuntamiento (trae tu cena\, habrá servicio de barra).\nLa Concejalía de Igualdad del Ayuntamiento de Los Montesinos conmemora el Día Internacional del Orgullo LGTBI+ con esta celebración llena de color\, música y reivindicación para promover más derechos\, respeto y libertad para todas las personas LGTBIQ+.\n\n \n\nEl evento comenzará con un pasacalles reivindicativo a ritmo de batucada\, llenando nuestras calles de energía y solidaridad. Después\, disfrutaremos de una espectacular cena-fiesta con shows de drag queens y DJ\, además de la lectura del manifiesto que reafirma nuestro compromiso con la igualdad\, la diversidad y los derechos humanos.
URL:https://www.losmontesinos.es/event/fiesta-del-orgullo-lgtbi/
LOCATION:Plaza del Ayuntamiento\, Plaza del Ayuntamiento\, 1\, Los Montesinos\, Alicante\, 03187\, España
CATEGORIES:Igualdad
ATTACH;FMTTYPE=image/jpeg:https://www.losmontesinos.es/wp-content/uploads/2025/06/fiesta-orgullo-lgtbiq-los-montesinos-2025.jpg
END:VEVENT
BEGIN:VEVENT
DTSTART;TZID=Europe/Madrid:20250713T201500
DTEND;TZID=Europe/Madrid:20250713T213000
DTSTAMP:20260423T130927
CREATED:20250711T065546Z
LAST-MODIFIED:20250711T065546Z
UID:10005232-1752437700-1752442200@www.losmontesinos.es
SUMMARY:Acto clausura Centenario de la Plaza Sagrado Corazón de Jesús
DESCRIPTION:A las 20.15horas\, en la Plaza Sagrado Corazón de Jesús de Los Montesinos\, celebración del Acto de Clausura de la creación\, nombramiento y consagración de la Plaza Sagrado Corazón de Jesús\, la primera plaza pública del municipio\, instaurada el 13 de julio de 1924.\n\n\nEl acto contará con una ofrenda floral y la actuación conjunta de las Corales Crescendo y Aromas de Azahar\, que interpretarán cantos en honor al Sagrado Corazón.
URL:https://www.losmontesinos.es/event/acto-clausura-centenario-de-la-plaza-sagrado-corazon-de-jesus/
LOCATION:Plaza Sagrado Corazón de Jesús de Los Montesinos\, Plaza Sagrado Corazón\, 1\, Los Montesinos\, Alicante\, 03187\, España
CATEGORIES:Cultura
ATTACH;FMTTYPE=image/jpeg:https://www.losmontesinos.es/wp-content/uploads/2025/07/cartel-clausura-centenario-sangrado-corazon-montesinos.jpg
END:VEVENT
BEGIN:VEVENT
DTSTART;TZID=Europe/Madrid:20250714T083000
DTEND;TZID=Europe/Madrid:20250714T143000
DTSTAMP:20260423T130927
CREATED:20250602T061622Z
LAST-MODIFIED:20250602T061622Z
UID:10005191-1752481800-1752503400@www.losmontesinos.es
SUMMARY:Visita del Ecoparque móvil ‘Vega Baja Sostenible’
DESCRIPTION:8.30 a 14.30 horas en la C/ Santos Médicos con cruce C/ El Sol\nDale vida a tus residuos: RECICLA\, REUTILIZA\, REDUCE\nConsulta en la imagen la cantidad máxima de ciertos residuos que puedes llevar:
URL:https://www.losmontesinos.es/event/visita-del-ecoparque-movil-vega-baja-sostenible-64/
LOCATION:Alicante
CATEGORIES:Servicios
ATTACH;FMTTYPE=image/jpeg:https://www.losmontesinos.es/wp-content/uploads/2020/09/FUNCIONAMIENTO-ECOPARQUE-MOVIL-Los-Montesinos-2020.jpg
END:VEVENT
BEGIN:VEVENT
DTSTART;TZID=Europe/Madrid:20250717T083000
DTEND;TZID=Europe/Madrid:20250717T110000
DTSTAMP:20260423T130927
CREATED:20250624T111636Z
LAST-MODIFIED:20250624T111636Z
UID:10005231-1752741000-1752750000@www.losmontesinos.es
SUMMARY:Renovación DNI y Pasaporte
DESCRIPTION:Es necesario coger cita previa en el Ayuntamiento (96 672 10 87)
URL:https://www.losmontesinos.es/event/renovacion-dni-y-pasaporte-2/
LOCATION:Plaza del Ayuntamiento\, Plaza del Ayuntamiento\, 1\, Los Montesinos\, Alicante\, 03187\, España
CATEGORIES:Servicios
ATTACH;FMTTYPE=image/png:https://www.losmontesinos.es/wp-content/uploads/2025/03/Logos-Ayto-100-annos-Sagrado-Corazon-07.png
END:VEVENT
BEGIN:VEVENT
DTSTART;TZID=Europe/Madrid:20250721T083000
DTEND;TZID=Europe/Madrid:20250721T143000
DTSTAMP:20260423T130927
CREATED:20250602T061826Z
LAST-MODIFIED:20250602T061826Z
UID:10005192-1753086600-1753108200@www.losmontesinos.es
SUMMARY:Visita del Ecoparque móvil ‘Vega Baja Sostenible’
DESCRIPTION:8.30 a 14.30 horas en la C/ Santos Médicos con cruce C/ El Sol\nDale vida a tus residuos: RECICLA\, REUTILIZA\, REDUCE\nConsulta en la imagen la cantidad máxima de ciertos residuos que puedes llevar:
URL:https://www.losmontesinos.es/event/visita-del-ecoparque-movil-vega-baja-sostenible-65/
LOCATION:Alicante
CATEGORIES:Servicios
ATTACH;FMTTYPE=image/jpeg:https://www.losmontesinos.es/wp-content/uploads/2023/01/FUNCIONAMIENTO-ECOPARQUE-MOVIL-Los-Montesinos-2020.jpg
END:VEVENT
BEGIN:VEVENT
DTSTART;TZID=Europe/Madrid:20250724T200000
DTEND;TZID=Europe/Madrid:20250724T213000
DTSTAMP:20260423T130927
CREATED:20250718T063108Z
LAST-MODIFIED:20250718T063108Z
UID:10005233-1753387200-1753392600@www.losmontesinos.es
SUMMARY:Fiestas de la Segregación
DESCRIPTION:A las 20h\, juego en grupo ‘Scapebox’ orientado a jóvenes entre 12 y 16 años (inscripciones en el Ayuntamiento) \nLugar: Centro Cívico y Social
URL:https://www.losmontesinos.es/event/fiestas-de-la-segregacion-6/
LOCATION:Centro Cívico y Social (Hogar del Jubilado)\, Plaza del Ayuntamiento\, 2\, Los Montesinos\, Alicante\, 03187\, España
CATEGORIES:Fiestas Patronales
ATTACH;FMTTYPE=image/jpeg:https://www.losmontesinos.es/wp-content/uploads/2025/07/35-aniversario-segregacion-montesinos.jpg
END:VEVENT
BEGIN:VEVENT
DTSTART;TZID=Europe/Madrid:20250725T180000
DTEND;TZID=Europe/Madrid:20250725T220000
DTSTAMP:20260423T130927
CREATED:20250718T063449Z
LAST-MODIFIED:20250724T064850Z
UID:10005234-1753466400-1753480800@www.losmontesinos.es
SUMMARY:Fiestas de la Segregación
DESCRIPTION:A las 18h\, Apertura de la III Feria de Artesanía: \n\nTalleres\nAnimación con el payaso Edy (20.30h)\nMúsica en vivo\n\nLugar: Parque Botánico 30 de Julio \nIII Feria de Artesanía Los Montesinos \nTalleres creativos de artesanía
URL:https://www.losmontesinos.es/event/fiestas-de-la-segregacion-7/
LOCATION:Plaza 30 de Julio (Jardín Botánico)\, Plaza 30 de Julio\, Los Montesinos\, 03187
CATEGORIES:Fiestas Patronales
ATTACH;FMTTYPE=image/jpeg:https://www.losmontesinos.es/wp-content/uploads/2025/07/35-aniversario-segregacion-montesinos.jpg
END:VEVENT
BEGIN:VEVENT
DTSTART;TZID=Europe/Madrid:20250726T230000
DTEND;TZID=Europe/Madrid:20250726T230000
DTSTAMP:20260423T130927
CREATED:20250718T064557Z
LAST-MODIFIED:20250718T064557Z
UID:10005235-1753570800-1753570800@www.losmontesinos.es
SUMMARY:Fiestas de la Segregación
DESCRIPTION:A las 23h\, Verbena a cargo del grupo ‘El Señor Aliaga‘ \n\nElección de Reinas y Demas  de las Fiestas Patronales 2025 de Los Montesinos\n\nLugar: Plaza Sagrado Corazón
URL:https://www.losmontesinos.es/event/fiestas-de-la-segregacion-8/
LOCATION:Plaza Sagrado Corazón de Jesús de Los Montesinos\, Plaza Sagrado Corazón\, 1\, Los Montesinos\, Alicante\, 03187\, España
CATEGORIES:Fiestas Patronales
ATTACH;FMTTYPE=image/jpeg:https://www.losmontesinos.es/wp-content/uploads/2025/07/35-aniversario-segregacion-montesinos.jpg
END:VEVENT
BEGIN:VEVENT
DTSTART;TZID=Europe/Madrid:20250728T083000
DTEND;TZID=Europe/Madrid:20250728T143000
DTSTAMP:20260423T130927
CREATED:20250602T065021Z
LAST-MODIFIED:20250602T065021Z
UID:10005193-1753691400-1753713000@www.losmontesinos.es
SUMMARY:Visita del Ecoparque móvil ‘Vega Baja Sostenible’
DESCRIPTION:8.30 a 14.30 horas en la C/ Santos Médicos con cruce C/ El Sol\nDale vida a tus residuos: RECICLA\, REUTILIZA\, REDUCE\nConsulta en la imagen la cantidad máxima de ciertos residuos que puedes llevar:
URL:https://www.losmontesinos.es/event/visita-del-ecoparque-movil-vega-baja-sostenible-66/
LOCATION:Alicante
CATEGORIES:Servicios
ATTACH;FMTTYPE=image/jpeg:https://www.losmontesinos.es/wp-content/uploads/2023/01/FUNCIONAMIENTO-ECOPARQUE-MOVIL-Los-Montesinos-2020.jpg
END:VEVENT
BEGIN:VEVENT
DTSTART;TZID=Europe/Madrid:20250729T180000
DTEND;TZID=Europe/Madrid:20250729T235900
DTSTAMP:20260423T130927
CREATED:20250718T065356Z
LAST-MODIFIED:20250718T065356Z
UID:10005236-1753812000-1753833540@www.losmontesinos.es
SUMMARY:Fiestas de la Segregación
DESCRIPTION:A las 18h\, Fiesta del Agua en la Plaza del Ayuntamiento \nA las 23h\, Noche de Fiesta con las siguientes actuaciones: \n\nEl monologuista José Campoy y su show ‘Campolladas‘\nMúsica en directo con el Grupo Iguana\n\nLugar: Plaza Sagrado Corazón \n 
URL:https://www.losmontesinos.es/event/fiestas-de-la-segregacion-9/
LOCATION:Plaza Sagrado Corazón de Jesús de Los Montesinos\, Plaza Sagrado Corazón\, 1\, Los Montesinos\, Alicante\, 03187\, España
CATEGORIES:Fiestas Patronales
ATTACH;FMTTYPE=image/jpeg:https://www.losmontesinos.es/wp-content/uploads/2025/07/35-aniversario-segregacion-montesinos.jpg
END:VEVENT
BEGIN:VEVENT
DTSTART;TZID=Europe/Madrid:20250730T200000
DTEND;TZID=Europe/Madrid:20250730T235900
DTSTAMP:20260423T130927
CREATED:20250718T065847Z
LAST-MODIFIED:20250718T065847Z
UID:10005237-1753905600-1753919940@www.losmontesinos.es
SUMMARY:Fiestas de la Segregación
DESCRIPTION:*** PISCINA GRATUITA TODO EL DÍA *** \nA las 20h\, Misa del 35 Aniversario de la Segregación cantada por la coral ‘Aromas de Azahar’ y el Coro parroquial. \nA las 21h\, Concierto ‘Clásicos del Cine’ a cargo de la Agrupación Musical Montesinos \nLugar: Plaza del Ayuntamiento
URL:https://www.losmontesinos.es/event/fiestas-de-la-segregacion-10/
LOCATION:Plaza del Ayuntamiento\, Plaza del Ayuntamiento\, 1\, Los Montesinos\, Alicante\, 03187\, España
CATEGORIES:Fiestas Patronales
ATTACH;FMTTYPE=image/jpeg:https://www.losmontesinos.es/wp-content/uploads/2025/07/35-aniversario-segregacion-montesinos.jpg
END:VEVENT
BEGIN:VEVENT
DTSTART;TZID=Europe/Madrid:20250731T203000
DTEND;TZID=Europe/Madrid:20250731T213000
DTSTAMP:20260423T130927
CREATED:20250724T075504Z
LAST-MODIFIED:20250724T075504Z
UID:10005239-1753993800-1753997400@www.losmontesinos.es
SUMMARY:Deporte en la calle
DESCRIPTION:Agosto es el mes del deporte en la calle\, todos los martes y jueves del mes de agosto\, en la Plaza del Ayuntamiento a las 20.30h hay cita con el DEPORTE (inscripciones en el Ayuntamiento).
URL:https://www.losmontesinos.es/event/deporte-en-la-calle/
LOCATION:Plaza del Ayuntamiento\, Plaza del Ayuntamiento\, 1\, Los Montesinos\, Alicante\, 03187\, España
CATEGORIES:Deportes
ATTACH;FMTTYPE=image/jpeg:https://www.losmontesinos.es/wp-content/uploads/2025/07/cartel-general.jpg
END:VEVENT
BEGIN:VEVENT
DTSTART;TZID=Europe/Madrid:20250805T203000
DTEND;TZID=Europe/Madrid:20250805T213000
DTSTAMP:20260423T130927
CREATED:20250724T080340Z
LAST-MODIFIED:20250724T080535Z
UID:10005241-1754425800-1754429400@www.losmontesinos.es
SUMMARY:Deporte en la calle
DESCRIPTION:Agosto es el mes del deporte en la calle\, todos los martes y jueves del mes de agosto\, en la Plaza del Ayuntamiento a las 20.30h hay cita con el DEPORTE (inscripciones en el Ayuntamiento).
URL:https://www.losmontesinos.es/event/deporte-en-la-calle-3/
LOCATION:Plaza del Ayuntamiento\, Plaza del Ayuntamiento\, 1\, Los Montesinos\, Alicante\, 03187\, España
CATEGORIES:Deportes
ATTACH;FMTTYPE=image/jpeg:https://www.losmontesinos.es/wp-content/uploads/2025/07/cartel-general.jpg
END:VEVENT
BEGIN:VEVENT
DTSTART;TZID=Europe/Madrid:20250806T090000
DTEND;TZID=Europe/Madrid:20250806T140000
DTSTAMP:20260423T130927
CREATED:20250602T075923Z
LAST-MODIFIED:20250602T075923Z
UID:10005211-1754470800-1754488800@www.losmontesinos.es
SUMMARY:SUMA Gestión Tributaria (cita previa)
DESCRIPTION:*** Es necesario coger CITA PREVIA ***  https://www.suma.es/cita_previa.xhtml o llamando al Ayuntamiento 96 672 10 87   \nPersonal de la oficina de SUMA Gestión Tributaria se desplaza al Ayuntamiento de Los Montesinos para atender consultas y gestiones ciudadanas. \nAtención de 9.00 a 14.00 horas (solo con cita previa)
URL:https://www.losmontesinos.es/event/suma-gestion-tributaria-cita-previa-25/
LOCATION:Ayuntamiento de Los Montesinos\, Plaza Del Ayuntamiento\, 1\, Los Montesinos\, Alicante\, 03187\, España
CATEGORIES:Servicios
ATTACH;FMTTYPE=image/jpeg:https://www.losmontesinos.es/wp-content/uploads/2021/12/logo-suma.jpg
END:VEVENT
END:VCALENDAR