BEGIN:VCALENDAR
VERSION:2.0
PRODID:-//Ayuntamiento - ECPv6.15.15//NONSGML v1.0//EN
CALSCALE:GREGORIAN
METHOD:PUBLISH
X-ORIGINAL-URL:https://www.losmontesinos.es
X-WR-CALDESC:Eventos para Ayuntamiento
REFRESH-INTERVAL;VALUE=DURATION:PT1H
X-Robots-Tag:noindex
X-PUBLISHED-TTL:PT1H
BEGIN:VTIMEZONE
TZID:Europe/Madrid
BEGIN:DAYLIGHT
TZOFFSETFROM:+0100
TZOFFSETTO:+0200
TZNAME:CEST
DTSTART:20190331T010000
END:DAYLIGHT
BEGIN:STANDARD
TZOFFSETFROM:+0200
TZOFFSETTO:+0100
TZNAME:CET
DTSTART:20191027T010000
END:STANDARD
BEGIN:DAYLIGHT
TZOFFSETFROM:+0100
TZOFFSETTO:+0200
TZNAME:CEST
DTSTART:20200329T010000
END:DAYLIGHT
BEGIN:STANDARD
TZOFFSETFROM:+0200
TZOFFSETTO:+0100
TZNAME:CET
DTSTART:20201025T010000
END:STANDARD
BEGIN:DAYLIGHT
TZOFFSETFROM:+0100
TZOFFSETTO:+0200
TZNAME:CEST
DTSTART:20210328T010000
END:DAYLIGHT
BEGIN:STANDARD
TZOFFSETFROM:+0200
TZOFFSETTO:+0100
TZNAME:CET
DTSTART:20211031T010000
END:STANDARD
END:VTIMEZONE
BEGIN:VEVENT
DTSTART;TZID=Europe/Madrid:20200405T110000
DTEND;TZID=Europe/Madrid:20200405T130000
DTSTAMP:20260425T232330
CREATED:20200309T110419Z
LAST-MODIFIED:20200309T110419Z
UID:10004545-1586084400-1586091600@www.losmontesinos.es
SUMMARY:**Actos suspendidos** SEMANA SANTA en Los Montesinos
DESCRIPTION:Para más información contactar con la Parroquia \n___________________________________________________________________ \nA las 11.00h.\, Bendición y Procesión de Ramos\, en la Plaza de la Constitución. \nRecorrido: Plaza de la Constitución (junto consultorio médico)\, salida por C/ Manuel de Falla\, Avda. del Mar\, Avda. de La Marquesa hasta llegar a la Iglesia donde se celebrará la Santa Misa.
URL:https://www.losmontesinos.es/event/semana-santa-en-los-montesinos-8/
LOCATION:Iglesia Parroquial de Los Montesinos\, Plaza del Ayuntamiento\, 2\, Los Montesinos\, Alicante\, 03187\, España
CATEGORIES:Semana Santa
ATTACH;FMTTYPE=image/jpeg:https://www.losmontesinos.es/wp-content/uploads/2020/03/Cartel-Semana-Santa-2020-Los-Montesinos.jpg
END:VEVENT
BEGIN:VEVENT
DTSTART;TZID=Europe/Madrid:20200405T110000
DTEND;TZID=Europe/Madrid:20200405T130000
DTSTAMP:20260425T232330
CREATED:20200309T110419Z
LAST-MODIFIED:20200309T110419Z
UID:10004546-1586084400-1586091600@www.losmontesinos.es
SUMMARY:**Actos suspendidos** SEMANA SANTA en Los Montesinos
DESCRIPTION:Para más información contactar con la Parroquia \n___________________________________________________________________ \nA las 11.00h.\, Bendición y Procesión de Ramos\, en la Plaza de la Constitución. \nRecorrido: Plaza de la Constitución (junto consultorio médico)\, salida por C/ Manuel de Falla\, Avda. del Mar\, Avda. de La Marquesa hasta llegar a la Iglesia donde se celebrará la Santa Misa.
URL:https://www.losmontesinos.es/event/semana-santa-en-los-montesinos-8/
LOCATION:Iglesia Parroquial de Los Montesinos\, Plaza del Ayuntamiento\, 2\, Los Montesinos\, Alicante\, 03187\, España
CATEGORIES:Semana Santa
ATTACH;FMTTYPE=image/jpeg:https://www.losmontesinos.es/wp-content/uploads/2020/03/Cartel-Semana-Santa-2020-Los-Montesinos.jpg
END:VEVENT
BEGIN:VEVENT
DTSTART;TZID=Europe/Madrid:20200405T110000
DTEND;TZID=Europe/Madrid:20200405T130000
DTSTAMP:20260425T232330
CREATED:20200309T110419Z
LAST-MODIFIED:20200309T110419Z
UID:10004547-1586084400-1586091600@www.losmontesinos.es
SUMMARY:**Actos suspendidos** SEMANA SANTA en Los Montesinos
DESCRIPTION:Para más información contactar con la Parroquia \n___________________________________________________________________ \nA las 11.00h.\, Bendición y Procesión de Ramos\, en la Plaza de la Constitución. \nRecorrido: Plaza de la Constitución (junto consultorio médico)\, salida por C/ Manuel de Falla\, Avda. del Mar\, Avda. de La Marquesa hasta llegar a la Iglesia donde se celebrará la Santa Misa.
URL:https://www.losmontesinos.es/event/semana-santa-en-los-montesinos-8-2/
LOCATION:Iglesia Parroquial de Los Montesinos\, Plaza del Ayuntamiento\, 2\, Los Montesinos\, Alicante\, 03187\, España
CATEGORIES:Semana Santa
ATTACH;FMTTYPE=image/jpeg:https://www.losmontesinos.es/wp-content/uploads/2020/03/Cartel-Semana-Santa-2020-Los-Montesinos.jpg
END:VEVENT
BEGIN:VEVENT
DTSTART;TZID=Europe/Madrid:20200406T193000
DTEND;TZID=Europe/Madrid:20200406T210000
DTSTAMP:20260425T232330
CREATED:20200212T121328Z
LAST-MODIFIED:20200212T121328Z
UID:10003901-1586201400-1586206800@www.losmontesinos.es
SUMMARY:***Aplazadas*** II JORNADAS DE ESCUELA DE MADRES Y PADRES
DESCRIPTION:Hoy la psicóloga infanto-juvenil María Gil Huedo nos hablará de las habilidades sociales: ¿Cómo puedo hablar para que los demás me escuchen y cómo escuchar al otro? Habilidades Sociales\, aprendizaje de límites y afecto. \nA las 19.30 horas en el Centro Cívico y Social de Los Montesinos. \nLa entrada es libre\, pero por cuestiones organizativas se requiere previa inscripción en el Ayuntamiento.
URL:https://www.losmontesinos.es/event/ii-jornadas-de-escuela-de-madres-y-padres-3/
LOCATION:Ayuntamiento de Los Montesinos\, Plaza Del Ayuntamiento\, 1\, Los Montesinos\, Alicante\, 03187\, España
CATEGORIES:Bienestar Social
ATTACH;FMTTYPE=image/png:https://www.losmontesinos.es/wp-content/uploads/2020/02/Escuela-Padres-y-Madres-Los-Montesinos-2020.png
END:VEVENT
BEGIN:VEVENT
DTSTART;TZID=Europe/Madrid:20200406T193000
DTEND;TZID=Europe/Madrid:20200406T210000
DTSTAMP:20260425T232330
CREATED:20200212T121328Z
LAST-MODIFIED:20200212T121328Z
UID:10003902-1586201400-1586206800@www.losmontesinos.es
SUMMARY:***Aplazadas*** II JORNADAS DE ESCUELA DE MADRES Y PADRES
DESCRIPTION:Hoy la psicóloga infanto-juvenil María Gil Huedo nos hablará de las habilidades sociales: ¿Cómo puedo hablar para que los demás me escuchen y cómo escuchar al otro? Habilidades Sociales\, aprendizaje de límites y afecto. \nA las 19.30 horas en el Centro Cívico y Social de Los Montesinos. \nLa entrada es libre\, pero por cuestiones organizativas se requiere previa inscripción en el Ayuntamiento.
URL:https://www.losmontesinos.es/event/ii-jornadas-de-escuela-de-madres-y-padres-3-2/
LOCATION:Ayuntamiento de Los Montesinos\, Plaza Del Ayuntamiento\, 1\, Los Montesinos\, Alicante\, 03187\, España
CATEGORIES:Bienestar Social
ATTACH;FMTTYPE=image/png:https://www.losmontesinos.es/wp-content/uploads/2020/02/Escuela-Padres-y-Madres-Los-Montesinos-2020.png
END:VEVENT
BEGIN:VEVENT
DTSTART;TZID=Europe/Madrid:20200406T193000
DTEND;TZID=Europe/Madrid:20200406T210000
DTSTAMP:20260425T232330
CREATED:20200212T121328Z
LAST-MODIFIED:20200212T121328Z
UID:10004510-1586201400-1586206800@www.losmontesinos.es
SUMMARY:***Aplazadas*** II JORNADAS DE ESCUELA DE MADRES Y PADRES
DESCRIPTION:Hoy la psicóloga infanto-juvenil María Gil Huedo nos hablará de las habilidades sociales: ¿Cómo puedo hablar para que los demás me escuchen y cómo escuchar al otro? Habilidades Sociales\, aprendizaje de límites y afecto. \nA las 19.30 horas en el Centro Cívico y Social de Los Montesinos. \nLa entrada es libre\, pero por cuestiones organizativas se requiere previa inscripción en el Ayuntamiento.
URL:https://www.losmontesinos.es/event/ii-jornadas-de-escuela-de-madres-y-padres-3/
LOCATION:Ayuntamiento de Los Montesinos\, Plaza Del Ayuntamiento\, 1\, Los Montesinos\, Alicante\, 03187\, España
CATEGORIES:Bienestar Social
ATTACH;FMTTYPE=image/png:https://www.losmontesinos.es/wp-content/uploads/2020/02/Escuela-Padres-y-Madres-Los-Montesinos-2020.png
END:VEVENT
BEGIN:VEVENT
DTSTART;TZID=Europe/Madrid:20200407T090000
DTEND;TZID=Europe/Madrid:20200407T140000
DTSTAMP:20260425T232330
CREATED:20200220T112850Z
LAST-MODIFIED:20200220T112850Z
UID:10003920-1586250000-1586268000@www.losmontesinos.es
SUMMARY:**Aplazado** contactar por teléfono con ASAJA\, tramitación PAC agricultores
DESCRIPTION:De 9.00 a 14.00 horas técnicos de ASAJA\, jóvenes agricultores asesoran y asisten en el Ayuntamiento para la tramitación de las ayudas PAC campaña 2020.\nNo es necesaria cita previa.
URL:https://www.losmontesinos.es/event/asaja-tramitacion-pac-agricultores-19/
LOCATION:Plaza del Ayuntamiento\, Plaza del Ayuntamiento\, 1\, Los Montesinos\, Alicante\, 03187\, España
CATEGORIES:Servicios
ATTACH;FMTTYPE=image/jpeg:https://www.losmontesinos.es/wp-content/uploads/2020/02/ASAJA-Citricos-PAC-2018-Los-Montesinos-724x1024-1.jpg
END:VEVENT
BEGIN:VEVENT
DTSTART;TZID=Europe/Madrid:20200407T090000
DTEND;TZID=Europe/Madrid:20200407T140000
DTSTAMP:20260425T232330
CREATED:20200220T112850Z
LAST-MODIFIED:20200220T112850Z
UID:10004521-1586250000-1586268000@www.losmontesinos.es
SUMMARY:**Aplazado** contactar por teléfono con ASAJA\, tramitación PAC agricultores
DESCRIPTION:De 9.00 a 14.00 horas técnicos de ASAJA\, jóvenes agricultores asesoran y asisten en el Ayuntamiento para la tramitación de las ayudas PAC campaña 2020.\nNo es necesaria cita previa.
URL:https://www.losmontesinos.es/event/asaja-tramitacion-pac-agricultores-19/
LOCATION:Plaza del Ayuntamiento\, Plaza del Ayuntamiento\, 1\, Los Montesinos\, Alicante\, 03187\, España
CATEGORIES:Servicios
ATTACH;FMTTYPE=image/jpeg:https://www.losmontesinos.es/wp-content/uploads/2020/02/ASAJA-Citricos-PAC-2018-Los-Montesinos-724x1024-1.jpg
END:VEVENT
BEGIN:VEVENT
DTSTART;TZID=Europe/Madrid:20200407T090000
DTEND;TZID=Europe/Madrid:20200407T140000
DTSTAMP:20260425T232330
CREATED:20200220T112850Z
LAST-MODIFIED:20200220T112850Z
UID:10004522-1586250000-1586268000@www.losmontesinos.es
SUMMARY:**Aplazado** contactar por teléfono con ASAJA\, tramitación PAC agricultores
DESCRIPTION:De 9.00 a 14.00 horas técnicos de ASAJA\, jóvenes agricultores asesoran y asisten en el Ayuntamiento para la tramitación de las ayudas PAC campaña 2020.\nNo es necesaria cita previa.
URL:https://www.losmontesinos.es/event/asaja-tramitacion-pac-agricultores-19-2/
LOCATION:Plaza del Ayuntamiento\, Plaza del Ayuntamiento\, 1\, Los Montesinos\, Alicante\, 03187\, España
CATEGORIES:Servicios
ATTACH;FMTTYPE=image/jpeg:https://www.losmontesinos.es/wp-content/uploads/2020/02/ASAJA-Citricos-PAC-2018-Los-Montesinos-724x1024-1.jpg
END:VEVENT
BEGIN:VEVENT
DTSTART;TZID=Europe/Madrid:20200407T220000
DTEND;TZID=Europe/Madrid:20200407T235900
DTSTAMP:20260425T232330
CREATED:20200309T110657Z
LAST-MODIFIED:20200309T110657Z
UID:10004548-1586296800-1586303940@www.losmontesinos.es
SUMMARY:**Actos suspendidos** SEMANA SANTA en Los Montesinos
DESCRIPTION:Para más información contactar con la Parroquia. \n_____________________________________________________________________ \nA las 22.00h.\, celebración del ‘VÍA CRUCIS’ por las calles de nuestro pueblo.
URL:https://www.losmontesinos.es/event/semana-santa-en-los-montesinos-9/
LOCATION:Alicante
CATEGORIES:Semana Santa
ATTACH;FMTTYPE=image/jpeg:https://www.losmontesinos.es/wp-content/uploads/2020/03/Cartel-Semana-Santa-2020-Los-Montesinos.jpg
END:VEVENT
BEGIN:VEVENT
DTSTART;TZID=Europe/Madrid:20200407T220000
DTEND;TZID=Europe/Madrid:20200407T235900
DTSTAMP:20260425T232330
CREATED:20200309T110657Z
LAST-MODIFIED:20200309T110657Z
UID:10004549-1586296800-1586303940@www.losmontesinos.es
SUMMARY:**Actos suspendidos** SEMANA SANTA en Los Montesinos
DESCRIPTION:Para más información contactar con la Parroquia. \n_____________________________________________________________________ \nA las 22.00h.\, celebración del ‘VÍA CRUCIS’ por las calles de nuestro pueblo.
URL:https://www.losmontesinos.es/event/semana-santa-en-los-montesinos-9/
LOCATION:Alicante
CATEGORIES:Semana Santa
ATTACH;FMTTYPE=image/jpeg:https://www.losmontesinos.es/wp-content/uploads/2020/03/Cartel-Semana-Santa-2020-Los-Montesinos.jpg
END:VEVENT
BEGIN:VEVENT
DTSTART;TZID=Europe/Madrid:20200407T220000
DTEND;TZID=Europe/Madrid:20200407T235900
DTSTAMP:20260425T232330
CREATED:20200309T110657Z
LAST-MODIFIED:20200309T110657Z
UID:10004550-1586296800-1586303940@www.losmontesinos.es
SUMMARY:**Actos suspendidos** SEMANA SANTA en Los Montesinos
DESCRIPTION:Para más información contactar con la Parroquia. \n_____________________________________________________________________ \nA las 22.00h.\, celebración del ‘VÍA CRUCIS’ por las calles de nuestro pueblo.
URL:https://www.losmontesinos.es/event/semana-santa-en-los-montesinos-9-2/
LOCATION:Alicante
CATEGORIES:Semana Santa
ATTACH;FMTTYPE=image/jpeg:https://www.losmontesinos.es/wp-content/uploads/2020/03/Cartel-Semana-Santa-2020-Los-Montesinos.jpg
END:VEVENT
BEGIN:VEVENT
DTSTART;TZID=Europe/Madrid:20200408T180000
DTEND;TZID=Europe/Madrid:20200408T200000
DTSTAMP:20260425T232330
CREATED:20200309T112903Z
LAST-MODIFIED:20200309T112903Z
UID:10003941-1586368800-1586376000@www.losmontesinos.es
SUMMARY:**Actos suspendidos** SEMANA SANTA en Los Montesinos
DESCRIPTION:Para más información contactar con la Parroquia. \n____________________________________________________________ \nA las 18.00h.\, Celebración de la Penitencia (confesiones). \nA las 18.30h.\, Santa Misa.
URL:https://www.losmontesinos.es/event/semana-santa-en-los-montesinos-10/
LOCATION:Iglesia Parroquial de Los Montesinos\, Plaza del Ayuntamiento\, 2\, Los Montesinos\, Alicante\, 03187\, España
CATEGORIES:Semana Santa
ATTACH;FMTTYPE=image/jpeg:https://www.losmontesinos.es/wp-content/uploads/2020/03/Cartel-Semana-Santa-2020-Los-Montesinos.jpg
END:VEVENT
BEGIN:VEVENT
DTSTART;TZID=Europe/Madrid:20200408T180000
DTEND;TZID=Europe/Madrid:20200408T200000
DTSTAMP:20260425T232330
CREATED:20200309T112903Z
LAST-MODIFIED:20200309T112903Z
UID:10003942-1586368800-1586376000@www.losmontesinos.es
SUMMARY:**Actos suspendidos** SEMANA SANTA en Los Montesinos
DESCRIPTION:Para más información contactar con la Parroquia. \n____________________________________________________________ \nA las 18.00h.\, Celebración de la Penitencia (confesiones). \nA las 18.30h.\, Santa Misa.
URL:https://www.losmontesinos.es/event/semana-santa-en-los-montesinos-10/
LOCATION:Iglesia Parroquial de Los Montesinos\, Plaza del Ayuntamiento\, 2\, Los Montesinos\, Alicante\, 03187\, España
CATEGORIES:Semana Santa
ATTACH;FMTTYPE=image/jpeg:https://www.losmontesinos.es/wp-content/uploads/2020/03/Cartel-Semana-Santa-2020-Los-Montesinos.jpg
END:VEVENT
BEGIN:VEVENT
DTSTART;TZID=Europe/Madrid:20200408T180000
DTEND;TZID=Europe/Madrid:20200408T200000
DTSTAMP:20260425T232330
CREATED:20200309T112903Z
LAST-MODIFIED:20200309T112903Z
UID:10003943-1586368800-1586376000@www.losmontesinos.es
SUMMARY:**Actos suspendidos** SEMANA SANTA en Los Montesinos
DESCRIPTION:Para más información contactar con la Parroquia. \n____________________________________________________________ \nA las 18.00h.\, Celebración de la Penitencia (confesiones). \nA las 18.30h.\, Santa Misa.
URL:https://www.losmontesinos.es/event/semana-santa-en-los-montesinos-10-2/
LOCATION:Iglesia Parroquial de Los Montesinos\, Plaza del Ayuntamiento\, 2\, Los Montesinos\, Alicante\, 03187\, España
CATEGORIES:Semana Santa
ATTACH;FMTTYPE=image/jpeg:https://www.losmontesinos.es/wp-content/uploads/2020/03/Cartel-Semana-Santa-2020-Los-Montesinos.jpg
END:VEVENT
BEGIN:VEVENT
DTSTART;TZID=Europe/Madrid:20200409T180000
DTEND;TZID=Europe/Madrid:20200409T235900
DTSTAMP:20260425T232330
CREATED:20200309T113732Z
LAST-MODIFIED:20200309T113732Z
UID:10003944-1586455200-1586476740@www.losmontesinos.es
SUMMARY:**Actos suspendidos** SEMANA SANTA en Los Montesinos
DESCRIPTION:Para más información contactar con la Parroquia. \n____________________________________________________________ \nINICIO DEL SANTO TRIDÚO PASCUAL \nA las 18.00h.\, Misa Vespertina de la CENA DEL SEÑOR. \nA las 21.00h.\, HORA SANTA en la Parroquia. \nA las 22.00h.\, PROCESIÓN DEL SILENCIO. El itinerario será: Plaza del Ayuntamiento\, La Marquesa\, San Miguel\, Avda. del Mar\, San Lucas\, La Marquesa\, Iglesia. \nDurante toda la noche se establecerán turnos de vela ante el Monumento.
URL:https://www.losmontesinos.es/event/semana-santa-en-los-montesinos-11/
LOCATION:Iglesia Parroquial de Los Montesinos\, Plaza del Ayuntamiento\, 2\, Los Montesinos\, Alicante\, 03187\, España
CATEGORIES:Semana Santa
ATTACH;FMTTYPE=image/jpeg:https://www.losmontesinos.es/wp-content/uploads/2020/03/Cartel-Semana-Santa-2020-Los-Montesinos.jpg
END:VEVENT
BEGIN:VEVENT
DTSTART;TZID=Europe/Madrid:20200409T180000
DTEND;TZID=Europe/Madrid:20200409T235900
DTSTAMP:20260425T232330
CREATED:20200309T113732Z
LAST-MODIFIED:20200309T113732Z
UID:10003945-1586455200-1586476740@www.losmontesinos.es
SUMMARY:**Actos suspendidos** SEMANA SANTA en Los Montesinos
DESCRIPTION:Para más información contactar con la Parroquia. \n____________________________________________________________ \nINICIO DEL SANTO TRIDÚO PASCUAL \nA las 18.00h.\, Misa Vespertina de la CENA DEL SEÑOR. \nA las 21.00h.\, HORA SANTA en la Parroquia. \nA las 22.00h.\, PROCESIÓN DEL SILENCIO. El itinerario será: Plaza del Ayuntamiento\, La Marquesa\, San Miguel\, Avda. del Mar\, San Lucas\, La Marquesa\, Iglesia. \nDurante toda la noche se establecerán turnos de vela ante el Monumento.
URL:https://www.losmontesinos.es/event/semana-santa-en-los-montesinos-11/
LOCATION:Iglesia Parroquial de Los Montesinos\, Plaza del Ayuntamiento\, 2\, Los Montesinos\, Alicante\, 03187\, España
CATEGORIES:Semana Santa
ATTACH;FMTTYPE=image/jpeg:https://www.losmontesinos.es/wp-content/uploads/2020/03/Cartel-Semana-Santa-2020-Los-Montesinos.jpg
END:VEVENT
BEGIN:VEVENT
DTSTART;TZID=Europe/Madrid:20200409T180000
DTEND;TZID=Europe/Madrid:20200409T235900
DTSTAMP:20260425T232330
CREATED:20200309T113732Z
LAST-MODIFIED:20200309T113732Z
UID:10003946-1586455200-1586476740@www.losmontesinos.es
SUMMARY:**Actos suspendidos** SEMANA SANTA en Los Montesinos
DESCRIPTION:Para más información contactar con la Parroquia. \n____________________________________________________________ \nINICIO DEL SANTO TRIDÚO PASCUAL \nA las 18.00h.\, Misa Vespertina de la CENA DEL SEÑOR. \nA las 21.00h.\, HORA SANTA en la Parroquia. \nA las 22.00h.\, PROCESIÓN DEL SILENCIO. El itinerario será: Plaza del Ayuntamiento\, La Marquesa\, San Miguel\, Avda. del Mar\, San Lucas\, La Marquesa\, Iglesia. \nDurante toda la noche se establecerán turnos de vela ante el Monumento.
URL:https://www.losmontesinos.es/event/semana-santa-en-los-montesinos-11-2/
LOCATION:Iglesia Parroquial de Los Montesinos\, Plaza del Ayuntamiento\, 2\, Los Montesinos\, Alicante\, 03187\, España
CATEGORIES:Semana Santa
ATTACH;FMTTYPE=image/jpeg:https://www.losmontesinos.es/wp-content/uploads/2020/03/Cartel-Semana-Santa-2020-Los-Montesinos.jpg
END:VEVENT
BEGIN:VEVENT
DTSTART;TZID=Europe/Madrid:20200410T100000
DTEND;TZID=Europe/Madrid:20200410T235900
DTSTAMP:20260425T232330
CREATED:20200309T114200Z
LAST-MODIFIED:20200309T114200Z
UID:10003947-1586512800-1586563140@www.losmontesinos.es
SUMMARY:**Actos suspendidos** SEMANA SANTA en Los Montesinos
DESCRIPTION:Para más información contactar con la Parroquia. \n_________________________________________________________________ \nA las 10.00h.\, Vía Crucis de Pasión (hasta la Iglesia de La Marquesa) \nA las 17.30h.\, Celebración de la PASIÓN DEL SEÑOR. \nA las 22.00h.\, PROCESIÓN DEL SANTO ENTIERRO. El itinerario será: Plaza del Ayuntamiento\, La Marquesa\, San Antonio\, Santa Isabel\, Santos Médicos\, La Marquesa\, Avda. del Mar\, San Lucas\, La Marquesa y finaliza en la Iglesia.
URL:https://www.losmontesinos.es/event/semana-santa-en-los-montesinos-12/
LOCATION:Plaza del Ayuntamiento\, Plaza del Ayuntamiento\, 1\, Los Montesinos\, Alicante\, 03187\, España
CATEGORIES:Semana Santa
ATTACH;FMTTYPE=image/jpeg:https://www.losmontesinos.es/wp-content/uploads/2020/03/Cartel-Semana-Santa-2020-Los-Montesinos.jpg
END:VEVENT
BEGIN:VEVENT
DTSTART;TZID=Europe/Madrid:20200410T100000
DTEND;TZID=Europe/Madrid:20200410T235900
DTSTAMP:20260425T232330
CREATED:20200309T114200Z
LAST-MODIFIED:20200309T114200Z
UID:10003948-1586512800-1586563140@www.losmontesinos.es
SUMMARY:**Actos suspendidos** SEMANA SANTA en Los Montesinos
DESCRIPTION:Para más información contactar con la Parroquia. \n_________________________________________________________________ \nA las 10.00h.\, Vía Crucis de Pasión (hasta la Iglesia de La Marquesa) \nA las 17.30h.\, Celebración de la PASIÓN DEL SEÑOR. \nA las 22.00h.\, PROCESIÓN DEL SANTO ENTIERRO. El itinerario será: Plaza del Ayuntamiento\, La Marquesa\, San Antonio\, Santa Isabel\, Santos Médicos\, La Marquesa\, Avda. del Mar\, San Lucas\, La Marquesa y finaliza en la Iglesia.
URL:https://www.losmontesinos.es/event/semana-santa-en-los-montesinos-12/
LOCATION:Plaza del Ayuntamiento\, Plaza del Ayuntamiento\, 1\, Los Montesinos\, Alicante\, 03187\, España
CATEGORIES:Semana Santa
ATTACH;FMTTYPE=image/jpeg:https://www.losmontesinos.es/wp-content/uploads/2020/03/Cartel-Semana-Santa-2020-Los-Montesinos.jpg
END:VEVENT
BEGIN:VEVENT
DTSTART;TZID=Europe/Madrid:20200410T100000
DTEND;TZID=Europe/Madrid:20200410T235900
DTSTAMP:20260425T232330
CREATED:20200309T114200Z
LAST-MODIFIED:20200309T114200Z
UID:10003949-1586512800-1586563140@www.losmontesinos.es
SUMMARY:**Actos suspendidos** SEMANA SANTA en Los Montesinos
DESCRIPTION:Para más información contactar con la Parroquia. \n_________________________________________________________________ \nA las 10.00h.\, Vía Crucis de Pasión (hasta la Iglesia de La Marquesa) \nA las 17.30h.\, Celebración de la PASIÓN DEL SEÑOR. \nA las 22.00h.\, PROCESIÓN DEL SANTO ENTIERRO. El itinerario será: Plaza del Ayuntamiento\, La Marquesa\, San Antonio\, Santa Isabel\, Santos Médicos\, La Marquesa\, Avda. del Mar\, San Lucas\, La Marquesa y finaliza en la Iglesia.
URL:https://www.losmontesinos.es/event/semana-santa-en-los-montesinos-12-2/
LOCATION:Plaza del Ayuntamiento\, Plaza del Ayuntamiento\, 1\, Los Montesinos\, Alicante\, 03187\, España
CATEGORIES:Semana Santa
ATTACH;FMTTYPE=image/jpeg:https://www.losmontesinos.es/wp-content/uploads/2020/03/Cartel-Semana-Santa-2020-Los-Montesinos.jpg
END:VEVENT
BEGIN:VEVENT
DTSTART;TZID=Europe/Madrid:20200411T230000
DTEND;TZID=Europe/Madrid:20200411T230000
DTSTAMP:20260425T232330
CREATED:20200309T114702Z
LAST-MODIFIED:20200309T114702Z
UID:10003950-1586646000-1586646000@www.losmontesinos.es
SUMMARY:**Actos suspendidos** SEMANA SANTA en Los Montesinos
DESCRIPTION:Para más información contactar con la Parroquia. \n__________________________________________________ \nA las 23.00h.\, Solemne VIGILIA PASCUAL
URL:https://www.losmontesinos.es/event/semana-santa-en-los-montesinos-13/
LOCATION:Alicante
CATEGORIES:Semana Santa
ATTACH;FMTTYPE=image/jpeg:https://www.losmontesinos.es/wp-content/uploads/2020/03/Cartel-Semana-Santa-2020-Los-Montesinos.jpg
END:VEVENT
BEGIN:VEVENT
DTSTART;TZID=Europe/Madrid:20200411T230000
DTEND;TZID=Europe/Madrid:20200411T230000
DTSTAMP:20260425T232330
CREATED:20200309T114702Z
LAST-MODIFIED:20200309T114702Z
UID:10004551-1586646000-1586646000@www.losmontesinos.es
SUMMARY:**Actos suspendidos** SEMANA SANTA en Los Montesinos
DESCRIPTION:Para más información contactar con la Parroquia. \n__________________________________________________ \nA las 23.00h.\, Solemne VIGILIA PASCUAL
URL:https://www.losmontesinos.es/event/semana-santa-en-los-montesinos-13/
LOCATION:Alicante
CATEGORIES:Semana Santa
ATTACH;FMTTYPE=image/jpeg:https://www.losmontesinos.es/wp-content/uploads/2020/03/Cartel-Semana-Santa-2020-Los-Montesinos.jpg
END:VEVENT
BEGIN:VEVENT
DTSTART;TZID=Europe/Madrid:20200411T230000
DTEND;TZID=Europe/Madrid:20200411T230000
DTSTAMP:20260425T232330
CREATED:20200309T114702Z
LAST-MODIFIED:20200309T114702Z
UID:10004552-1586646000-1586646000@www.losmontesinos.es
SUMMARY:**Actos suspendidos** SEMANA SANTA en Los Montesinos
DESCRIPTION:Para más información contactar con la Parroquia. \n__________________________________________________ \nA las 23.00h.\, Solemne VIGILIA PASCUAL
URL:https://www.losmontesinos.es/event/semana-santa-en-los-montesinos-13-2/
LOCATION:Alicante
CATEGORIES:Semana Santa
ATTACH;FMTTYPE=image/jpeg:https://www.losmontesinos.es/wp-content/uploads/2020/03/Cartel-Semana-Santa-2020-Los-Montesinos.jpg
END:VEVENT
BEGIN:VEVENT
DTSTART;TZID=Europe/Madrid:20200412T110000
DTEND;TZID=Europe/Madrid:20200412T133000
DTSTAMP:20260425T232330
CREATED:20200309T115718Z
LAST-MODIFIED:20200309T115718Z
UID:10004553-1586689200-1586698200@www.losmontesinos.es
SUMMARY:**Actos suspendidos** SEMANA SANTA en Los Montesinos
DESCRIPTION:Para más información consultar con la Parroquia. \n________________________________________________________________________ \nA partir de las 11.00h.\, PROCESIÓN DEL ENCUENTRO con el siguiente recorrido: \n\nPara Ntra. Sra. de los Dolores: La Marquesa\, San Lucas\, Avda. del Mar.\nPara el Santísimo Sacramento: Plaza del Ayuntamiento\, La Marquesa\, Avda. del Mar\, ENCUENTRO.\n\nEl regreso se realizará desde la Avda. del Mar\, La Marquesa hasta la Iglesia. Al finalizar se celebrará la SANTA MISA.
URL:https://www.losmontesinos.es/event/semana-santa-en-los-montesinos-14/
LOCATION:Alicante
CATEGORIES:Semana Santa
ATTACH;FMTTYPE=image/jpeg:https://www.losmontesinos.es/wp-content/uploads/2020/03/Cartel-Semana-Santa-2020-Los-Montesinos.jpg
END:VEVENT
BEGIN:VEVENT
DTSTART;TZID=Europe/Madrid:20200412T110000
DTEND;TZID=Europe/Madrid:20200412T133000
DTSTAMP:20260425T232330
CREATED:20200309T115718Z
LAST-MODIFIED:20200309T115718Z
UID:10004554-1586689200-1586698200@www.losmontesinos.es
SUMMARY:**Actos suspendidos** SEMANA SANTA en Los Montesinos
DESCRIPTION:Para más información consultar con la Parroquia. \n________________________________________________________________________ \nA partir de las 11.00h.\, PROCESIÓN DEL ENCUENTRO con el siguiente recorrido: \n\nPara Ntra. Sra. de los Dolores: La Marquesa\, San Lucas\, Avda. del Mar.\nPara el Santísimo Sacramento: Plaza del Ayuntamiento\, La Marquesa\, Avda. del Mar\, ENCUENTRO.\n\nEl regreso se realizará desde la Avda. del Mar\, La Marquesa hasta la Iglesia. Al finalizar se celebrará la SANTA MISA.
URL:https://www.losmontesinos.es/event/semana-santa-en-los-montesinos-14/
LOCATION:Alicante
CATEGORIES:Semana Santa
ATTACH;FMTTYPE=image/jpeg:https://www.losmontesinos.es/wp-content/uploads/2020/03/Cartel-Semana-Santa-2020-Los-Montesinos.jpg
END:VEVENT
BEGIN:VEVENT
DTSTART;TZID=Europe/Madrid:20200412T110000
DTEND;TZID=Europe/Madrid:20200412T133000
DTSTAMP:20260425T232330
CREATED:20200309T115718Z
LAST-MODIFIED:20200309T115718Z
UID:10004555-1586689200-1586698200@www.losmontesinos.es
SUMMARY:**Actos suspendidos** SEMANA SANTA en Los Montesinos
DESCRIPTION:Para más información consultar con la Parroquia. \n________________________________________________________________________ \nA partir de las 11.00h.\, PROCESIÓN DEL ENCUENTRO con el siguiente recorrido: \n\nPara Ntra. Sra. de los Dolores: La Marquesa\, San Lucas\, Avda. del Mar.\nPara el Santísimo Sacramento: Plaza del Ayuntamiento\, La Marquesa\, Avda. del Mar\, ENCUENTRO.\n\nEl regreso se realizará desde la Avda. del Mar\, La Marquesa hasta la Iglesia. Al finalizar se celebrará la SANTA MISA.
URL:https://www.losmontesinos.es/event/semana-santa-en-los-montesinos-14-2/
LOCATION:Alicante
CATEGORIES:Semana Santa
ATTACH;FMTTYPE=image/jpeg:https://www.losmontesinos.es/wp-content/uploads/2020/03/Cartel-Semana-Santa-2020-Los-Montesinos.jpg
END:VEVENT
BEGIN:VEVENT
DTSTART;TZID=Europe/Madrid:20200520T090000
DTEND;TZID=Europe/Madrid:20200520T140000
DTSTAMP:20260425T232330
CREATED:20200518T104334Z
LAST-MODIFIED:20200518T104334Z
UID:10003952-1589965200-1589983200@www.losmontesinos.es
SUMMARY:SUMA (sólo pagos\, fraccionamientos y domiciliaciones)
DESCRIPTION:
URL:https://www.losmontesinos.es/event/suma-solo-pagos-fraccionamientos-y-domiciliaciones/
LOCATION:Ayuntamiento de Los Montesinos\, Plaza Del Ayuntamiento\, 1\, Los Montesinos\, Alicante\, 03187\, España
CATEGORIES:Servicios
ATTACH;FMTTYPE=image/jpeg:https://www.losmontesinos.es/wp-content/uploads/2020/02/Escudo-500X500.jpg
END:VEVENT
BEGIN:VEVENT
DTSTART;TZID=Europe/Madrid:20200520T090000
DTEND;TZID=Europe/Madrid:20200520T140000
DTSTAMP:20260425T232330
CREATED:20200518T104334Z
LAST-MODIFIED:20200518T104334Z
UID:10003953-1589965200-1589983200@www.losmontesinos.es
SUMMARY:SUMA (sólo pagos\, fraccionamientos y domiciliaciones)
DESCRIPTION:
URL:https://www.losmontesinos.es/event/suma-solo-pagos-fraccionamientos-y-domiciliaciones/
LOCATION:Ayuntamiento de Los Montesinos\, Plaza Del Ayuntamiento\, 1\, Los Montesinos\, Alicante\, 03187\, España
CATEGORIES:Servicios
ATTACH;FMTTYPE=image/jpeg:https://www.losmontesinos.es/wp-content/uploads/2020/02/Escudo-500X500.jpg
END:VEVENT
BEGIN:VEVENT
DTSTART;TZID=Europe/Madrid:20200520T090000
DTEND;TZID=Europe/Madrid:20200520T140000
DTSTAMP:20260425T232330
CREATED:20200518T104334Z
LAST-MODIFIED:20200518T104334Z
UID:10003954-1589965200-1589983200@www.losmontesinos.es
SUMMARY:SUMA (sólo pagos\, fraccionamientos y domiciliaciones)
DESCRIPTION:
URL:https://www.losmontesinos.es/event/suma-solo-pagos-fraccionamientos-y-domiciliaciones-3/
LOCATION:Ayuntamiento de Los Montesinos\, Plaza Del Ayuntamiento\, 1\, Los Montesinos\, Alicante\, 03187\, España
CATEGORIES:Servicios
ATTACH;FMTTYPE=image/jpeg:https://www.losmontesinos.es/wp-content/uploads/2020/02/Escudo-500X500.jpg
END:VEVENT
END:VCALENDAR