BEGIN:VCALENDAR
VERSION:2.0
PRODID:-//Ayuntamiento - ECPv6.15.15//NONSGML v1.0//EN
CALSCALE:GREGORIAN
METHOD:PUBLISH
X-ORIGINAL-URL:https://www.losmontesinos.es
X-WR-CALDESC:Eventos para Ayuntamiento
REFRESH-INTERVAL;VALUE=DURATION:PT1H
X-Robots-Tag:noindex
X-PUBLISHED-TTL:PT1H
BEGIN:VTIMEZONE
TZID:Europe/Madrid
BEGIN:DAYLIGHT
TZOFFSETFROM:+0100
TZOFFSETTO:+0200
TZNAME:CEST
DTSTART:20190331T010000
END:DAYLIGHT
BEGIN:STANDARD
TZOFFSETFROM:+0200
TZOFFSETTO:+0100
TZNAME:CET
DTSTART:20191027T010000
END:STANDARD
BEGIN:DAYLIGHT
TZOFFSETFROM:+0100
TZOFFSETTO:+0200
TZNAME:CEST
DTSTART:20200329T010000
END:DAYLIGHT
BEGIN:STANDARD
TZOFFSETFROM:+0200
TZOFFSETTO:+0100
TZNAME:CET
DTSTART:20201025T010000
END:STANDARD
BEGIN:DAYLIGHT
TZOFFSETFROM:+0100
TZOFFSETTO:+0200
TZNAME:CEST
DTSTART:20210328T010000
END:DAYLIGHT
BEGIN:STANDARD
TZOFFSETFROM:+0200
TZOFFSETTO:+0100
TZNAME:CET
DTSTART:20211031T010000
END:STANDARD
END:VTIMEZONE
BEGIN:VEVENT
DTSTART;TZID=Europe/Madrid:20200310T090000
DTEND;TZID=Europe/Madrid:20200310T140000
DTSTAMP:20260426T042635
CREATED:20200220T112028Z
LAST-MODIFIED:20200220T112028Z
UID:10004518-1583830800-1583848800@www.losmontesinos.es
SUMMARY:ASAJA\, tramitación PAC agricultores
DESCRIPTION:De 9.00 a 14.00 horas técnicos de ASAJA\, jóvenes agricultores asesoran y asisten en el Ayuntamiento para la tramitación de las ayudas PAC campaña 2020.\nNo es necesaria cita previa.
URL:https://www.losmontesinos.es/event/asaja-tramitacion-pac-agricultores-15/
LOCATION:Ayuntamiento de Los Montesinos\, Plaza Del Ayuntamiento\, 1\, Los Montesinos\, Alicante\, 03187\, España
CATEGORIES:Servicios
ATTACH;FMTTYPE=image/jpeg:https://www.losmontesinos.es/wp-content/uploads/2020/02/ASAJA-Citricos-PAC-2018-Los-Montesinos-724x1024-1.jpg
END:VEVENT
BEGIN:VEVENT
DTSTART;TZID=Europe/Madrid:20200310T090000
DTEND;TZID=Europe/Madrid:20200310T140000
DTSTAMP:20260426T042635
CREATED:20200220T112028Z
LAST-MODIFIED:20200220T112028Z
UID:10004519-1583830800-1583848800@www.losmontesinos.es
SUMMARY:ASAJA\, tramitación PAC agricultores
DESCRIPTION:De 9.00 a 14.00 horas técnicos de ASAJA\, jóvenes agricultores asesoran y asisten en el Ayuntamiento para la tramitación de las ayudas PAC campaña 2020.\nNo es necesaria cita previa.
URL:https://www.losmontesinos.es/event/asaja-tramitacion-pac-agricultores-15/
LOCATION:Ayuntamiento de Los Montesinos\, Plaza Del Ayuntamiento\, 1\, Los Montesinos\, Alicante\, 03187\, España
CATEGORIES:Servicios
ATTACH;FMTTYPE=image/jpeg:https://www.losmontesinos.es/wp-content/uploads/2020/02/ASAJA-Citricos-PAC-2018-Los-Montesinos-724x1024-1.jpg
END:VEVENT
BEGIN:VEVENT
DTSTART;TZID=Europe/Madrid:20200310T090000
DTEND;TZID=Europe/Madrid:20200310T140000
DTSTAMP:20260426T042635
CREATED:20200220T112028Z
LAST-MODIFIED:20200220T112028Z
UID:10004520-1583830800-1583848800@www.losmontesinos.es
SUMMARY:ASAJA\, tramitación PAC agricultores
DESCRIPTION:De 9.00 a 14.00 horas técnicos de ASAJA\, jóvenes agricultores asesoran y asisten en el Ayuntamiento para la tramitación de las ayudas PAC campaña 2020.\nNo es necesaria cita previa.
URL:https://www.losmontesinos.es/event/asaja-tramitacion-pac-agricultores-15-2/
LOCATION:Ayuntamiento de Los Montesinos\, Plaza Del Ayuntamiento\, 1\, Los Montesinos\, Alicante\, 03187\, España
CATEGORIES:Servicios
ATTACH;FMTTYPE=image/jpeg:https://www.losmontesinos.es/wp-content/uploads/2020/02/ASAJA-Citricos-PAC-2018-Los-Montesinos-724x1024-1.jpg
END:VEVENT
BEGIN:VEVENT
DTSTART;TZID=Europe/Madrid:20200313T163000
DTEND;TZID=Europe/Madrid:20200313T203000
DTSTAMP:20260426T042635
CREATED:20200306T131550Z
LAST-MODIFIED:20200306T131550Z
UID:10003928-1584117000-1584131400@www.losmontesinos.es
SUMMARY:***Aplazadas*** III JORNADAS DE LA CIENCIA CON EL MUDIC
DESCRIPTION:A las 16.30 horas\, Taller de Ciencia Divertida y PLANETARIO en la Plaza del Ayuntamiento.
URL:https://www.losmontesinos.es/event/iii-jornadas-de-la-ciencia-con-el-mudic-3/
LOCATION:Plaza del Ayuntamiento\, Plaza del Ayuntamiento\, 1\, Los Montesinos\, Alicante\, 03187\, España
CATEGORIES:Cultura
ATTACH;FMTTYPE=image/png:https://www.losmontesinos.es/wp-content/uploads/2020/03/Jornadas-Ciencia-MUDIC-Los-Montesinos-2020.png
END:VEVENT
BEGIN:VEVENT
DTSTART;TZID=Europe/Madrid:20200313T163000
DTEND;TZID=Europe/Madrid:20200313T203000
DTSTAMP:20260426T042635
CREATED:20200306T131550Z
LAST-MODIFIED:20200306T131550Z
UID:10003929-1584117000-1584131400@www.losmontesinos.es
SUMMARY:***Aplazadas*** III JORNADAS DE LA CIENCIA CON EL MUDIC
DESCRIPTION:A las 16.30 horas\, Taller de Ciencia Divertida y PLANETARIO en la Plaza del Ayuntamiento.
URL:https://www.losmontesinos.es/event/iii-jornadas-de-la-ciencia-con-el-mudic-3/
LOCATION:Plaza del Ayuntamiento\, Plaza del Ayuntamiento\, 1\, Los Montesinos\, Alicante\, 03187\, España
CATEGORIES:Cultura
ATTACH;FMTTYPE=image/png:https://www.losmontesinos.es/wp-content/uploads/2020/03/Jornadas-Ciencia-MUDIC-Los-Montesinos-2020.png
END:VEVENT
BEGIN:VEVENT
DTSTART;TZID=Europe/Madrid:20200313T163000
DTEND;TZID=Europe/Madrid:20200313T203000
DTSTAMP:20260426T042635
CREATED:20200306T131550Z
LAST-MODIFIED:20200306T131550Z
UID:10003930-1584117000-1584131400@www.losmontesinos.es
SUMMARY:***Aplazadas*** III JORNADAS DE LA CIENCIA CON EL MUDIC
DESCRIPTION:A las 16.30 horas\, Taller de Ciencia Divertida y PLANETARIO en la Plaza del Ayuntamiento.
URL:https://www.losmontesinos.es/event/iii-jornadas-de-la-ciencia-con-el-mudic-3-2/
LOCATION:Plaza del Ayuntamiento\, Plaza del Ayuntamiento\, 1\, Los Montesinos\, Alicante\, 03187\, España
CATEGORIES:Cultura
ATTACH;FMTTYPE=image/png:https://www.losmontesinos.es/wp-content/uploads/2020/03/Jornadas-Ciencia-MUDIC-Los-Montesinos-2020.png
END:VEVENT
BEGIN:VEVENT
DTSTART;TZID=Europe/Madrid:20200314T193000
DTEND;TZID=Europe/Madrid:20200314T213000
DTSTAMP:20260426T042635
CREATED:20200312T084104Z
LAST-MODIFIED:20200312T084104Z
UID:10004556-1584214200-1584221400@www.losmontesinos.es
SUMMARY:***Aplazado*** CONCIERTO SOLIDARIO ROTARY CLUB
DESCRIPTION:A las 19.30 horas en el Auditorio de la Escuela de Música y Cultura de Los Montesinos. \nEntrada: 5€ \nLa recaudación es el favor de la Agrupación Musical Montesinos y se destinará a la compra de instrumentos musicales y al viaje de fin de curso de estudios elementales de la Banda Joven. \nEntradas limitadas al aforo del auditorio.
URL:https://www.losmontesinos.es/event/aplazado-concierto-solidario-rotary-club/
LOCATION:Escuela municipal de Música y Cultura (Auditorio municipal)\, C/ Zaragoza\, 5\, Los Montesinos\, Alicante\, 03187\, España
CATEGORIES:Eventos
ATTACH;FMTTYPE=image/jpeg:https://www.losmontesinos.es/wp-content/uploads/2020/03/Concierto-Solidario-Rotary-2020.jpg
END:VEVENT
BEGIN:VEVENT
DTSTART;TZID=Europe/Madrid:20200314T193000
DTEND;TZID=Europe/Madrid:20200314T213000
DTSTAMP:20260426T042635
CREATED:20200312T084104Z
LAST-MODIFIED:20200312T084104Z
UID:10004557-1584214200-1584221400@www.losmontesinos.es
SUMMARY:***Aplazado*** CONCIERTO SOLIDARIO ROTARY CLUB
DESCRIPTION:A las 19.30 horas en el Auditorio de la Escuela de Música y Cultura de Los Montesinos. \nEntrada: 5€ \nLa recaudación es el favor de la Agrupación Musical Montesinos y se destinará a la compra de instrumentos musicales y al viaje de fin de curso de estudios elementales de la Banda Joven. \nEntradas limitadas al aforo del auditorio.
URL:https://www.losmontesinos.es/event/aplazado-concierto-solidario-rotary-club/
LOCATION:Escuela municipal de Música y Cultura (Auditorio municipal)\, C/ Zaragoza\, 5\, Los Montesinos\, Alicante\, 03187\, España
CATEGORIES:Eventos
ATTACH;FMTTYPE=image/jpeg:https://www.losmontesinos.es/wp-content/uploads/2020/03/Concierto-Solidario-Rotary-2020.jpg
END:VEVENT
BEGIN:VEVENT
DTSTART;TZID=Europe/Madrid:20200314T193000
DTEND;TZID=Europe/Madrid:20200314T213000
DTSTAMP:20260426T042635
CREATED:20200312T084104Z
LAST-MODIFIED:20200312T084104Z
UID:10004558-1584214200-1584221400@www.losmontesinos.es
SUMMARY:***Aplazado*** CONCIERTO SOLIDARIO ROTARY CLUB
DESCRIPTION:A las 19.30 horas en el Auditorio de la Escuela de Música y Cultura de Los Montesinos. \nEntrada: 5€ \nLa recaudación es el favor de la Agrupación Musical Montesinos y se destinará a la compra de instrumentos musicales y al viaje de fin de curso de estudios elementales de la Banda Joven. \nEntradas limitadas al aforo del auditorio.
URL:https://www.losmontesinos.es/event/aplazado-concierto-solidario-rotary-club-2/
LOCATION:Escuela municipal de Música y Cultura (Auditorio municipal)\, C/ Zaragoza\, 5\, Los Montesinos\, Alicante\, 03187\, España
CATEGORIES:Eventos
ATTACH;FMTTYPE=image/jpeg:https://www.losmontesinos.es/wp-content/uploads/2020/03/Concierto-Solidario-Rotary-2020.jpg
END:VEVENT
BEGIN:VEVENT
DTSTART;TZID=Europe/Madrid:20200315T070000
DTEND;TZID=Europe/Madrid:20200315T170000
DTSTAMP:20260426T042635
CREATED:20200210T123021Z
LAST-MODIFIED:20200210T123021Z
UID:10003879-1584255600-1584291600@www.losmontesinos.es
SUMMARY:***Aplazada*** RUTA DE SENDERISMO AL 'BARRANCO DEL INFIERNO'
DESCRIPTION:Un recorrido de 15Km. con duración aproximada de 5 horas\, y nivel de dificultad medio por el ‘Barranco del Infierno’ Puerto de la Vall d’Ebo – Fleix (desnivel acumulado de la ruta 1.121 metros). \nSaldremos a las 7.00 horas desde el Ayuntamiento (en autobús)\, y la hora prevista de regreso será las 17.00 horas. \nInscripción previa en el Ayuntamiento (5€ por persona)\, las plazas son limitadas.
URL:https://www.losmontesinos.es/event/ruta-de-senderismo-al-barranco-del-infierno/
LOCATION:Alicante
CATEGORIES:Turismo
ATTACH;FMTTYPE=image/png:https://www.losmontesinos.es/wp-content/uploads/2020/02/Ruta-senderismo-BarrancoInfierno-Los-Montesinos-2020.png
END:VEVENT
BEGIN:VEVENT
DTSTART;TZID=Europe/Madrid:20200315T070000
DTEND;TZID=Europe/Madrid:20200315T170000
DTSTAMP:20260426T042635
CREATED:20200210T123021Z
LAST-MODIFIED:20200210T123021Z
UID:10003880-1584255600-1584291600@www.losmontesinos.es
SUMMARY:***Aplazada*** RUTA DE SENDERISMO AL 'BARRANCO DEL INFIERNO'
DESCRIPTION:Un recorrido de 15Km. con duración aproximada de 5 horas\, y nivel de dificultad medio por el ‘Barranco del Infierno’ Puerto de la Vall d’Ebo – Fleix (desnivel acumulado de la ruta 1.121 metros). \nSaldremos a las 7.00 horas desde el Ayuntamiento (en autobús)\, y la hora prevista de regreso será las 17.00 horas. \nInscripción previa en el Ayuntamiento (5€ por persona)\, las plazas son limitadas.
URL:https://www.losmontesinos.es/event/ruta-de-senderismo-al-barranco-del-infierno/
LOCATION:Alicante
CATEGORIES:Turismo
ATTACH;FMTTYPE=image/png:https://www.losmontesinos.es/wp-content/uploads/2020/02/Ruta-senderismo-BarrancoInfierno-Los-Montesinos-2020.png
END:VEVENT
BEGIN:VEVENT
DTSTART;TZID=Europe/Madrid:20200315T070000
DTEND;TZID=Europe/Madrid:20200315T170000
DTSTAMP:20260426T042635
CREATED:20200210T123021Z
LAST-MODIFIED:20200210T123021Z
UID:10004481-1584255600-1584291600@www.losmontesinos.es
SUMMARY:***Aplazada*** RUTA DE SENDERISMO AL 'BARRANCO DEL INFIERNO'
DESCRIPTION:Un recorrido de 15Km. con duración aproximada de 5 horas\, y nivel de dificultad medio por el ‘Barranco del Infierno’ Puerto de la Vall d’Ebo – Fleix (desnivel acumulado de la ruta 1.121 metros). \nSaldremos a las 7.00 horas desde el Ayuntamiento (en autobús)\, y la hora prevista de regreso será las 17.00 horas. \nInscripción previa en el Ayuntamiento (5€ por persona)\, las plazas son limitadas.
URL:https://www.losmontesinos.es/event/ruta-de-senderismo-al-barranco-del-infierno-2/
LOCATION:Alicante
CATEGORIES:Turismo
ATTACH;FMTTYPE=image/png:https://www.losmontesinos.es/wp-content/uploads/2020/02/Ruta-senderismo-BarrancoInfierno-Los-Montesinos-2020.png
END:VEVENT
BEGIN:VEVENT
DTSTART;TZID=Europe/Madrid:20200317T090000
DTEND;TZID=Europe/Madrid:20200317T140000
DTSTAMP:20260426T042635
CREATED:20200220T112335Z
LAST-MODIFIED:20200220T112335Z
UID:10003911-1584435600-1584453600@www.losmontesinos.es
SUMMARY:***Aplazado*** contactar por teléfono con ASAJA\, tramitación PAC agricultores
DESCRIPTION:Se suspende esta atención personal en las oficinas del Ayuntamiento. Contactar por teléfono con las oficinas de Asaja.\n::::::::::::::::::::::::::::::::::::::::::::::::::::::::::::::::::::::\nDe 9.00 a 14.00 horas técnicos de ASAJA\, jóvenes agricultores asesoran y asisten en el Ayuntamiento para la tramitación de las ayudas PAC campaña 2020.\nNo es necesaria cita previa.
URL:https://www.losmontesinos.es/event/asaja-tramitacion-pac-agricultores-16/
LOCATION:Ayuntamiento de Los Montesinos\, Plaza Del Ayuntamiento\, 1\, Los Montesinos\, Alicante\, 03187\, España
CATEGORIES:Servicios
ATTACH;FMTTYPE=image/jpeg:https://www.losmontesinos.es/wp-content/uploads/2020/02/ASAJA-Citricos-PAC-2018-Los-Montesinos-724x1024-1.jpg
END:VEVENT
BEGIN:VEVENT
DTSTART;TZID=Europe/Madrid:20200317T090000
DTEND;TZID=Europe/Madrid:20200317T140000
DTSTAMP:20260426T042635
CREATED:20200220T112335Z
LAST-MODIFIED:20200220T112335Z
UID:10003912-1584435600-1584453600@www.losmontesinos.es
SUMMARY:***Aplazado*** contactar por teléfono con ASAJA\, tramitación PAC agricultores
DESCRIPTION:Se suspende esta atención personal en las oficinas del Ayuntamiento. Contactar por teléfono con las oficinas de Asaja.\n::::::::::::::::::::::::::::::::::::::::::::::::::::::::::::::::::::::\nDe 9.00 a 14.00 horas técnicos de ASAJA\, jóvenes agricultores asesoran y asisten en el Ayuntamiento para la tramitación de las ayudas PAC campaña 2020.\nNo es necesaria cita previa.
URL:https://www.losmontesinos.es/event/asaja-tramitacion-pac-agricultores-16/
LOCATION:Ayuntamiento de Los Montesinos\, Plaza Del Ayuntamiento\, 1\, Los Montesinos\, Alicante\, 03187\, España
CATEGORIES:Servicios
ATTACH;FMTTYPE=image/jpeg:https://www.losmontesinos.es/wp-content/uploads/2020/02/ASAJA-Citricos-PAC-2018-Los-Montesinos-724x1024-1.jpg
END:VEVENT
BEGIN:VEVENT
DTSTART;TZID=Europe/Madrid:20200317T090000
DTEND;TZID=Europe/Madrid:20200317T140000
DTSTAMP:20260426T042635
CREATED:20200220T112335Z
LAST-MODIFIED:20200220T112335Z
UID:10003913-1584435600-1584453600@www.losmontesinos.es
SUMMARY:***Aplazado*** contactar por teléfono con ASAJA\, tramitación PAC agricultores
DESCRIPTION:Se suspende esta atención personal en las oficinas del Ayuntamiento. Contactar por teléfono con las oficinas de Asaja.\n::::::::::::::::::::::::::::::::::::::::::::::::::::::::::::::::::::::\nDe 9.00 a 14.00 horas técnicos de ASAJA\, jóvenes agricultores asesoran y asisten en el Ayuntamiento para la tramitación de las ayudas PAC campaña 2020.\nNo es necesaria cita previa.
URL:https://www.losmontesinos.es/event/asaja-tramitacion-pac-agricultores-16-2/
LOCATION:Ayuntamiento de Los Montesinos\, Plaza Del Ayuntamiento\, 1\, Los Montesinos\, Alicante\, 03187\, España
CATEGORIES:Servicios
ATTACH;FMTTYPE=image/jpeg:https://www.losmontesinos.es/wp-content/uploads/2020/02/ASAJA-Citricos-PAC-2018-Los-Montesinos-724x1024-1.jpg
END:VEVENT
BEGIN:VEVENT
DTSTART;TZID=Europe/Madrid:20200318T090000
DTEND;TZID=Europe/Madrid:20200318T140000
DTSTAMP:20260426T042635
CREATED:20200211T133802Z
LAST-MODIFIED:20200211T133802Z
UID:10003881-1584522000-1584540000@www.losmontesinos.es
SUMMARY:***Aplazada*** Contactar por teléfono con SUMA atención al ciudadano
DESCRIPTION:Personal de SUMA Gestión Tributaria atiende en el Ayuntamiento en horario de 9 a 14 horas (no es necesaria cita previa).
URL:https://www.losmontesinos.es/event/suma-atencion-al-ciudadano-33/
LOCATION:Ayuntamiento de Los Montesinos\, Plaza Del Ayuntamiento\, 1\, Los Montesinos\, Alicante\, 03187\, España
CATEGORIES:Servicios
ATTACH;FMTTYPE=image/jpeg:https://www.losmontesinos.es/wp-content/uploads/2020/02/Escudo-500X500.jpg
END:VEVENT
BEGIN:VEVENT
DTSTART;TZID=Europe/Madrid:20200318T090000
DTEND;TZID=Europe/Madrid:20200318T140000
DTSTAMP:20260426T042635
CREATED:20200211T133802Z
LAST-MODIFIED:20200211T133802Z
UID:10003882-1584522000-1584540000@www.losmontesinos.es
SUMMARY:***Aplazada*** Contactar por teléfono con SUMA atención al ciudadano
DESCRIPTION:Personal de SUMA Gestión Tributaria atiende en el Ayuntamiento en horario de 9 a 14 horas (no es necesaria cita previa).
URL:https://www.losmontesinos.es/event/suma-atencion-al-ciudadano-33-2/
LOCATION:Ayuntamiento de Los Montesinos\, Plaza Del Ayuntamiento\, 1\, Los Montesinos\, Alicante\, 03187\, España
CATEGORIES:Servicios
ATTACH;FMTTYPE=image/jpeg:https://www.losmontesinos.es/wp-content/uploads/2020/02/Escudo-500X500.jpg
END:VEVENT
BEGIN:VEVENT
DTSTART;TZID=Europe/Madrid:20200318T090000
DTEND;TZID=Europe/Madrid:20200318T140000
DTSTAMP:20260426T042635
CREATED:20200211T133802Z
LAST-MODIFIED:20200211T133802Z
UID:10003883-1584522000-1584540000@www.losmontesinos.es
SUMMARY:***Aplazada*** Contactar por teléfono con SUMA atención al ciudadano
DESCRIPTION:Personal de SUMA Gestión Tributaria atiende en el Ayuntamiento en horario de 9 a 14 horas (no es necesaria cita previa).
URL:https://www.losmontesinos.es/event/suma-atencion-al-ciudadano-33/
LOCATION:Ayuntamiento de Los Montesinos\, Plaza Del Ayuntamiento\, 1\, Los Montesinos\, Alicante\, 03187\, España
CATEGORIES:Servicios
ATTACH;FMTTYPE=image/jpeg:https://www.losmontesinos.es/wp-content/uploads/2020/02/Escudo-500X500.jpg
END:VEVENT
BEGIN:VEVENT
DTSTART;TZID=Europe/Madrid:20200323T193000
DTEND;TZID=Europe/Madrid:20200323T210000
DTSTAMP:20260426T042635
CREATED:20200212T120946Z
LAST-MODIFIED:20200212T120946Z
UID:10004507-1584991800-1584997200@www.losmontesinos.es
SUMMARY:***Aplazadas*** II JORNADAS ESCUELA MADRES Y PADRES
DESCRIPTION:Hoy la psicóloga infanto-juvenil María Gil Huedo nos hablará del miedo: ¿Dónde vive el miedo? Terrores nocturnos\, dificultad para dormir y estrés. \nA las 19.30 horas en el Centro Cívico y Social de Los Montesinos. \nLa entrada es libre\, pero por cuestiones organizativas se requiere previa inscripción en el Ayuntamiento.
URL:https://www.losmontesinos.es/event/ii-jornadas-escuela-madres-y-padres/
LOCATION:Ayuntamiento de Los Montesinos\, Plaza Del Ayuntamiento\, 1\, Los Montesinos\, Alicante\, 03187\, España
CATEGORIES:Bienestar Social
ATTACH;FMTTYPE=image/png:https://www.losmontesinos.es/wp-content/uploads/2020/02/Escuela-Padres-y-Madres-Los-Montesinos-2020.png
END:VEVENT
BEGIN:VEVENT
DTSTART;TZID=Europe/Madrid:20200323T193000
DTEND;TZID=Europe/Madrid:20200323T210000
DTSTAMP:20260426T042635
CREATED:20200212T120946Z
LAST-MODIFIED:20200212T120946Z
UID:10004508-1584991800-1584997200@www.losmontesinos.es
SUMMARY:***Aplazadas*** II JORNADAS ESCUELA MADRES Y PADRES
DESCRIPTION:Hoy la psicóloga infanto-juvenil María Gil Huedo nos hablará del miedo: ¿Dónde vive el miedo? Terrores nocturnos\, dificultad para dormir y estrés. \nA las 19.30 horas en el Centro Cívico y Social de Los Montesinos. \nLa entrada es libre\, pero por cuestiones organizativas se requiere previa inscripción en el Ayuntamiento.
URL:https://www.losmontesinos.es/event/ii-jornadas-escuela-madres-y-padres/
LOCATION:Ayuntamiento de Los Montesinos\, Plaza Del Ayuntamiento\, 1\, Los Montesinos\, Alicante\, 03187\, España
CATEGORIES:Bienestar Social
ATTACH;FMTTYPE=image/png:https://www.losmontesinos.es/wp-content/uploads/2020/02/Escuela-Padres-y-Madres-Los-Montesinos-2020.png
END:VEVENT
BEGIN:VEVENT
DTSTART;TZID=Europe/Madrid:20200323T193000
DTEND;TZID=Europe/Madrid:20200323T210000
DTSTAMP:20260426T042635
CREATED:20200212T120946Z
LAST-MODIFIED:20200212T120946Z
UID:10004509-1584991800-1584997200@www.losmontesinos.es
SUMMARY:***Aplazadas*** II JORNADAS ESCUELA MADRES Y PADRES
DESCRIPTION:Hoy la psicóloga infanto-juvenil María Gil Huedo nos hablará del miedo: ¿Dónde vive el miedo? Terrores nocturnos\, dificultad para dormir y estrés. \nA las 19.30 horas en el Centro Cívico y Social de Los Montesinos. \nLa entrada es libre\, pero por cuestiones organizativas se requiere previa inscripción en el Ayuntamiento.
URL:https://www.losmontesinos.es/event/ii-jornadas-escuela-madres-y-padres-2/
LOCATION:Ayuntamiento de Los Montesinos\, Plaza Del Ayuntamiento\, 1\, Los Montesinos\, Alicante\, 03187\, España
CATEGORIES:Bienestar Social
ATTACH;FMTTYPE=image/png:https://www.losmontesinos.es/wp-content/uploads/2020/02/Escuela-Padres-y-Madres-Los-Montesinos-2020.png
END:VEVENT
BEGIN:VEVENT
DTSTART;TZID=Europe/Madrid:20200324T083000
DTEND;TZID=Europe/Madrid:20200325T113000
DTSTAMP:20260426T042635
CREATED:20200218T135014Z
LAST-MODIFIED:20200218T135014Z
UID:10003906-1585038600-1585135800@www.losmontesinos.es
SUMMARY:***Cancelada***RENOVACIÓN DNI
DESCRIPTION:Se suspende la renovación del DNI que estaba prevista para los próximos días 24 y 25 de marzo en dependencias municipales. No obstante\, señalar que la Policía Nacional ha comunicado que se amplía en seis meses más la validez de los DNI que estuviesen caducados hasta que se restablezca la normalidad en el servicio de renovaciones en el municipio. Disculpen las molestias. \n:::::::::::::::::::::::::::::::::::::::::::::::::::::::::::::::::::::::::::::::::::: \nNo se atenderá sin cita previa\, más información en el Ayuntamiento (966721087).
URL:https://www.losmontesinos.es/event/renovacion-dni-3/
LOCATION:Ayuntamiento de Los Montesinos\, Plaza Del Ayuntamiento\, 1\, Los Montesinos\, Alicante\, 03187\, España
CATEGORIES:Servicios
ATTACH;FMTTYPE=image/jpeg:https://www.losmontesinos.es/wp-content/uploads/2020/02/Escudo-500X500.jpg
END:VEVENT
BEGIN:VEVENT
DTSTART;TZID=Europe/Madrid:20200324T083000
DTEND;TZID=Europe/Madrid:20200325T113000
DTSTAMP:20260426T042635
CREATED:20200218T135014Z
LAST-MODIFIED:20200218T135014Z
UID:10003907-1585038600-1585135800@www.losmontesinos.es
SUMMARY:***Cancelada***RENOVACIÓN DNI
DESCRIPTION:Se suspende la renovación del DNI que estaba prevista para los próximos días 24 y 25 de marzo en dependencias municipales. No obstante\, señalar que la Policía Nacional ha comunicado que se amplía en seis meses más la validez de los DNI que estuviesen caducados hasta que se restablezca la normalidad en el servicio de renovaciones en el municipio. Disculpen las molestias. \n:::::::::::::::::::::::::::::::::::::::::::::::::::::::::::::::::::::::::::::::::::: \nNo se atenderá sin cita previa\, más información en el Ayuntamiento (966721087).
URL:https://www.losmontesinos.es/event/renovacion-dni-3-2/
LOCATION:Ayuntamiento de Los Montesinos\, Plaza Del Ayuntamiento\, 1\, Los Montesinos\, Alicante\, 03187\, España
CATEGORIES:Servicios
ATTACH;FMTTYPE=image/jpeg:https://www.losmontesinos.es/wp-content/uploads/2020/02/Escudo-500X500.jpg
END:VEVENT
BEGIN:VEVENT
DTSTART;TZID=Europe/Madrid:20200324T083000
DTEND;TZID=Europe/Madrid:20200325T113000
DTSTAMP:20260426T042635
CREATED:20200218T135014Z
LAST-MODIFIED:20200218T135014Z
UID:10003908-1585038600-1585135800@www.losmontesinos.es
SUMMARY:***Cancelada***RENOVACIÓN DNI
DESCRIPTION:Se suspende la renovación del DNI que estaba prevista para los próximos días 24 y 25 de marzo en dependencias municipales. No obstante\, señalar que la Policía Nacional ha comunicado que se amplía en seis meses más la validez de los DNI que estuviesen caducados hasta que se restablezca la normalidad en el servicio de renovaciones en el municipio. Disculpen las molestias. \n:::::::::::::::::::::::::::::::::::::::::::::::::::::::::::::::::::::::::::::::::::: \nNo se atenderá sin cita previa\, más información en el Ayuntamiento (966721087).
URL:https://www.losmontesinos.es/event/renovacion-dni-3/
LOCATION:Ayuntamiento de Los Montesinos\, Plaza Del Ayuntamiento\, 1\, Los Montesinos\, Alicante\, 03187\, España
CATEGORIES:Servicios
ATTACH;FMTTYPE=image/jpeg:https://www.losmontesinos.es/wp-content/uploads/2020/02/Escudo-500X500.jpg
END:VEVENT
BEGIN:VEVENT
DTSTART;TZID=Europe/Madrid:20200324T090000
DTEND;TZID=Europe/Madrid:20200324T140000
DTSTAMP:20260426T042635
CREATED:20200220T112507Z
LAST-MODIFIED:20200220T112507Z
UID:10003914-1585040400-1585058400@www.losmontesinos.es
SUMMARY:***Aplazado*** contactar por teléfono con ASAJA\, tramitación PAC agricultores
DESCRIPTION:Se suspende esta atención personal en las oficinas del Ayuntamiento. Contactar por teléfono con las oficinas de Asaja.\n::::::::::::::::::::::::::::::::::::::::::::::::::::::::::::::::::::::\nDe 9.00 a 14.00 horas técnicos de ASAJA\, jóvenes agricultores asesoran y asisten en el Ayuntamiento para la tramitación de las ayudas PAC campaña 2020.\nNo es necesaria cita previa.
URL:https://www.losmontesinos.es/event/asaja-tramitacion-pac-agricultores-17/
LOCATION:Ayuntamiento de Los Montesinos\, Plaza Del Ayuntamiento\, 1\, Los Montesinos\, Alicante\, 03187\, España
CATEGORIES:Servicios
ATTACH;FMTTYPE=image/jpeg:https://www.losmontesinos.es/wp-content/uploads/2020/02/ASAJA-Citricos-PAC-2018-Los-Montesinos-724x1024-1.jpg
END:VEVENT
BEGIN:VEVENT
DTSTART;TZID=Europe/Madrid:20200324T090000
DTEND;TZID=Europe/Madrid:20200324T140000
DTSTAMP:20260426T042635
CREATED:20200220T112507Z
LAST-MODIFIED:20200220T112507Z
UID:10003915-1585040400-1585058400@www.losmontesinos.es
SUMMARY:***Aplazado*** contactar por teléfono con ASAJA\, tramitación PAC agricultores
DESCRIPTION:Se suspende esta atención personal en las oficinas del Ayuntamiento. Contactar por teléfono con las oficinas de Asaja.\n::::::::::::::::::::::::::::::::::::::::::::::::::::::::::::::::::::::\nDe 9.00 a 14.00 horas técnicos de ASAJA\, jóvenes agricultores asesoran y asisten en el Ayuntamiento para la tramitación de las ayudas PAC campaña 2020.\nNo es necesaria cita previa.
URL:https://www.losmontesinos.es/event/asaja-tramitacion-pac-agricultores-17/
LOCATION:Ayuntamiento de Los Montesinos\, Plaza Del Ayuntamiento\, 1\, Los Montesinos\, Alicante\, 03187\, España
CATEGORIES:Servicios
ATTACH;FMTTYPE=image/jpeg:https://www.losmontesinos.es/wp-content/uploads/2020/02/ASAJA-Citricos-PAC-2018-Los-Montesinos-724x1024-1.jpg
END:VEVENT
BEGIN:VEVENT
DTSTART;TZID=Europe/Madrid:20200324T090000
DTEND;TZID=Europe/Madrid:20200324T140000
DTSTAMP:20260426T042635
CREATED:20200220T112507Z
LAST-MODIFIED:20200220T112507Z
UID:10003916-1585040400-1585058400@www.losmontesinos.es
SUMMARY:***Aplazado*** contactar por teléfono con ASAJA\, tramitación PAC agricultores
DESCRIPTION:Se suspende esta atención personal en las oficinas del Ayuntamiento. Contactar por teléfono con las oficinas de Asaja.\n::::::::::::::::::::::::::::::::::::::::::::::::::::::::::::::::::::::\nDe 9.00 a 14.00 horas técnicos de ASAJA\, jóvenes agricultores asesoran y asisten en el Ayuntamiento para la tramitación de las ayudas PAC campaña 2020.\nNo es necesaria cita previa.
URL:https://www.losmontesinos.es/event/asaja-tramitacion-pac-agricultores-17-2/
LOCATION:Ayuntamiento de Los Montesinos\, Plaza Del Ayuntamiento\, 1\, Los Montesinos\, Alicante\, 03187\, España
CATEGORIES:Servicios
ATTACH;FMTTYPE=image/jpeg:https://www.losmontesinos.es/wp-content/uploads/2020/02/ASAJA-Citricos-PAC-2018-Los-Montesinos-724x1024-1.jpg
END:VEVENT
BEGIN:VEVENT
DTSTART;TZID=Europe/Madrid:20200324T100000
DTEND;TZID=Europe/Madrid:20200325T183000
DTSTAMP:20260426T042635
CREATED:20200309T083619Z
LAST-MODIFIED:20200309T083619Z
UID:10004534-1585044000-1585161000@www.losmontesinos.es
SUMMARY:**Actos suspendidos** SEMANA SANTA en Los Montesinos
DESCRIPTION:Para más información contactar con la Parroquia. \n______________________________________________________________ \nDe 10.00 a 12.00 horas\, celebración de las CUARENTA HORAS. \nDe 16.00 a 18.30 horas\, celebración de las CUARENTA HORAS.
URL:https://www.losmontesinos.es/event/semana-santa-en-los-montesinos-2/
LOCATION:Iglesia Parroquial de Los Montesinos\, Plaza del Ayuntamiento\, 2\, Los Montesinos\, Alicante\, 03187\, España
CATEGORIES:Semana Santa
ATTACH;FMTTYPE=image/jpeg:https://www.losmontesinos.es/wp-content/uploads/2020/03/Cartel-Semana-Santa-2020-Los-Montesinos.jpg
END:VEVENT
BEGIN:VEVENT
DTSTART;TZID=Europe/Madrid:20200324T100000
DTEND;TZID=Europe/Madrid:20200325T183000
DTSTAMP:20260426T042635
CREATED:20200309T083619Z
LAST-MODIFIED:20200309T083619Z
UID:10004535-1585044000-1585161000@www.losmontesinos.es
SUMMARY:**Actos suspendidos** SEMANA SANTA en Los Montesinos
DESCRIPTION:Para más información contactar con la Parroquia. \n______________________________________________________________ \nDe 10.00 a 12.00 horas\, celebración de las CUARENTA HORAS. \nDe 16.00 a 18.30 horas\, celebración de las CUARENTA HORAS.
URL:https://www.losmontesinos.es/event/semana-santa-en-los-montesinos-2/
LOCATION:Iglesia Parroquial de Los Montesinos\, Plaza del Ayuntamiento\, 2\, Los Montesinos\, Alicante\, 03187\, España
CATEGORIES:Semana Santa
ATTACH;FMTTYPE=image/jpeg:https://www.losmontesinos.es/wp-content/uploads/2020/03/Cartel-Semana-Santa-2020-Los-Montesinos.jpg
END:VEVENT
BEGIN:VEVENT
DTSTART;TZID=Europe/Madrid:20200324T100000
DTEND;TZID=Europe/Madrid:20200325T183000
DTSTAMP:20260426T042635
CREATED:20200309T083619Z
LAST-MODIFIED:20200309T083619Z
UID:10004536-1585044000-1585161000@www.losmontesinos.es
SUMMARY:**Actos suspendidos** SEMANA SANTA en Los Montesinos
DESCRIPTION:Para más información contactar con la Parroquia. \n______________________________________________________________ \nDe 10.00 a 12.00 horas\, celebración de las CUARENTA HORAS. \nDe 16.00 a 18.30 horas\, celebración de las CUARENTA HORAS.
URL:https://www.losmontesinos.es/event/semana-santa-en-los-montesinos-2-2/
LOCATION:Iglesia Parroquial de Los Montesinos\, Plaza del Ayuntamiento\, 2\, Los Montesinos\, Alicante\, 03187\, España
CATEGORIES:Semana Santa
ATTACH;FMTTYPE=image/jpeg:https://www.losmontesinos.es/wp-content/uploads/2020/03/Cartel-Semana-Santa-2020-Los-Montesinos.jpg
END:VEVENT
END:VCALENDAR