BEGIN:VCALENDAR
VERSION:2.0
PRODID:-//Ayuntamiento - ECPv6.15.15//NONSGML v1.0//EN
CALSCALE:GREGORIAN
METHOD:PUBLISH
X-ORIGINAL-URL:https://www.losmontesinos.es
X-WR-CALDESC:Eventos para Ayuntamiento
REFRESH-INTERVAL;VALUE=DURATION:PT1H
X-Robots-Tag:noindex
X-PUBLISHED-TTL:PT1H
BEGIN:VTIMEZONE
TZID:Europe/Madrid
BEGIN:DAYLIGHT
TZOFFSETFROM:+0100
TZOFFSETTO:+0200
TZNAME:CEST
DTSTART:20190331T010000
END:DAYLIGHT
BEGIN:STANDARD
TZOFFSETFROM:+0200
TZOFFSETTO:+0100
TZNAME:CET
DTSTART:20191027T010000
END:STANDARD
BEGIN:DAYLIGHT
TZOFFSETFROM:+0100
TZOFFSETTO:+0200
TZNAME:CEST
DTSTART:20200329T010000
END:DAYLIGHT
BEGIN:STANDARD
TZOFFSETFROM:+0200
TZOFFSETTO:+0100
TZNAME:CET
DTSTART:20201025T010000
END:STANDARD
BEGIN:DAYLIGHT
TZOFFSETFROM:+0100
TZOFFSETTO:+0200
TZNAME:CEST
DTSTART:20210328T010000
END:DAYLIGHT
BEGIN:STANDARD
TZOFFSETFROM:+0200
TZOFFSETTO:+0100
TZNAME:CET
DTSTART:20211031T010000
END:STANDARD
END:VTIMEZONE
BEGIN:VEVENT
DTSTART;TZID=Europe/Madrid:20200102T110000
DTEND;TZID=Europe/Madrid:20200102T140000
DTSTAMP:20260425T131220
CREATED:20191202T112317Z
LAST-MODIFIED:20191202T112317Z
UID:10003854-1577962800-1577973600@www.losmontesinos.es
SUMMARY:NAVIDAD 2019
DESCRIPTION:A las 11.00h.\, Animación\, Talleres\, Juegos y Elaboración de la Carta a los Reyes Magos y muchos más…. \nLugar: Plaza del Ayuntamiento de Los Montesinos
URL:https://www.losmontesinos.es/event/navidad-2019-13/
LOCATION:Plaza del Ayuntamiento\, Plaza del Ayuntamiento\, 1\, Los Montesinos\, Alicante\, 03187\, España
CATEGORIES:Navidad
ATTACH;FMTTYPE=image/jpeg:https://www.losmontesinos.es/wp-content/uploads/2019/12/Cartel-Navidad-2019-scaled.jpg
END:VEVENT
BEGIN:VEVENT
DTSTART;TZID=Europe/Madrid:20200102T110000
DTEND;TZID=Europe/Madrid:20200102T140000
DTSTAMP:20260425T131221
CREATED:20191202T112317Z
LAST-MODIFIED:20191202T112317Z
UID:10003855-1577962800-1577973600@www.losmontesinos.es
SUMMARY:NAVIDAD 2019
DESCRIPTION:A las 11.00h.\, Animación\, Talleres\, Juegos y Elaboración de la Carta a los Reyes Magos y muchos más…. \nLugar: Plaza del Ayuntamiento de Los Montesinos
URL:https://www.losmontesinos.es/event/navidad-2019-13/
LOCATION:Plaza del Ayuntamiento\, Plaza del Ayuntamiento\, 1\, Los Montesinos\, Alicante\, 03187\, España
CATEGORIES:Navidad
ATTACH;FMTTYPE=image/jpeg:https://www.losmontesinos.es/wp-content/uploads/2019/12/Cartel-Navidad-2019-scaled.jpg
END:VEVENT
BEGIN:VEVENT
DTSTART;TZID=Europe/Madrid:20200102T110000
DTEND;TZID=Europe/Madrid:20200102T140000
DTSTAMP:20260425T131221
CREATED:20191202T112317Z
LAST-MODIFIED:20191202T112317Z
UID:10003856-1577962800-1577973600@www.losmontesinos.es
SUMMARY:NAVIDAD 2019
DESCRIPTION:A las 11.00h.\, Animación\, Talleres\, Juegos y Elaboración de la Carta a los Reyes Magos y muchos más…. \nLugar: Plaza del Ayuntamiento de Los Montesinos
URL:https://www.losmontesinos.es/event/navidad-2019-13-2/
LOCATION:Plaza del Ayuntamiento\, Plaza del Ayuntamiento\, 1\, Los Montesinos\, Alicante\, 03187\, España
CATEGORIES:Navidad
ATTACH;FMTTYPE=image/jpeg:https://www.losmontesinos.es/wp-content/uploads/2019/12/Cartel-Navidad-2019-scaled.jpg
END:VEVENT
BEGIN:VEVENT
DTSTART;TZID=Europe/Madrid:20200103T093000
DTEND;TZID=Europe/Madrid:20200104T133000
DTSTAMP:20260425T131221
CREATED:20191202T114719Z
LAST-MODIFIED:20191202T114719Z
UID:10003861-1578043800-1578144600@www.losmontesinos.es
SUMMARY:ESCUELA DE NAVIDAD para niños y niñas
DESCRIPTION:De 9.30h. a 13.30h.\, ESCUELA DE NAVIDAD para niños y niñas. \nFormaliza tu inscripción en la Sede del organizador ADISMON\, tienes de plazo hasta el 12 de diciembre y podrás realizarla los martes y jueves de 17.30 a 18.30h. \nLugar: Centro Cívico y Social de Los Montesinos. \nColabora Ayuntamiento de Los Montesinos
URL:https://www.losmontesinos.es/event/escuela-de-navidad-para-ninos-y-ninas-3-2/
LOCATION:Centro Cívico y Social (Hogar del Jubilado)\, Plaza del Ayuntamiento\, 2\, Los Montesinos\, Alicante\, 03187\, España
CATEGORIES:Navidad
ATTACH;FMTTYPE=image/jpeg:https://www.losmontesinos.es/wp-content/uploads/2019/12/Cartel-Navidad-2019-scaled.jpg
END:VEVENT
BEGIN:VEVENT
DTSTART;TZID=Europe/Madrid:20200103T093000
DTEND;TZID=Europe/Madrid:20200104T133000
DTSTAMP:20260425T131221
CREATED:20191202T114719Z
LAST-MODIFIED:20191202T114719Z
UID:10004469-1578043800-1578144600@www.losmontesinos.es
SUMMARY:ESCUELA DE NAVIDAD para niños y niñas
DESCRIPTION:De 9.30h. a 13.30h.\, ESCUELA DE NAVIDAD para niños y niñas. \nFormaliza tu inscripción en la Sede del organizador ADISMON\, tienes de plazo hasta el 12 de diciembre y podrás realizarla los martes y jueves de 17.30 a 18.30h. \nLugar: Centro Cívico y Social de Los Montesinos. \nColabora Ayuntamiento de Los Montesinos
URL:https://www.losmontesinos.es/event/escuela-de-navidad-para-ninos-y-ninas-3/
LOCATION:Centro Cívico y Social (Hogar del Jubilado)\, Plaza del Ayuntamiento\, 2\, Los Montesinos\, Alicante\, 03187\, España
CATEGORIES:Navidad
ATTACH;FMTTYPE=image/jpeg:https://www.losmontesinos.es/wp-content/uploads/2019/12/Cartel-Navidad-2019-scaled.jpg
END:VEVENT
BEGIN:VEVENT
DTSTART;TZID=Europe/Madrid:20200103T093000
DTEND;TZID=Europe/Madrid:20200104T133000
DTSTAMP:20260425T131221
CREATED:20191202T114719Z
LAST-MODIFIED:20191202T114719Z
UID:10004470-1578043800-1578144600@www.losmontesinos.es
SUMMARY:ESCUELA DE NAVIDAD para niños y niñas
DESCRIPTION:De 9.30h. a 13.30h.\, ESCUELA DE NAVIDAD para niños y niñas. \nFormaliza tu inscripción en la Sede del organizador ADISMON\, tienes de plazo hasta el 12 de diciembre y podrás realizarla los martes y jueves de 17.30 a 18.30h. \nLugar: Centro Cívico y Social de Los Montesinos. \nColabora Ayuntamiento de Los Montesinos
URL:https://www.losmontesinos.es/event/escuela-de-navidad-para-ninos-y-ninas-3/
LOCATION:Centro Cívico y Social (Hogar del Jubilado)\, Plaza del Ayuntamiento\, 2\, Los Montesinos\, Alicante\, 03187\, España
CATEGORIES:Navidad
ATTACH;FMTTYPE=image/jpeg:https://www.losmontesinos.es/wp-content/uploads/2019/12/Cartel-Navidad-2019-scaled.jpg
END:VEVENT
BEGIN:VEVENT
DTSTART;TZID=Europe/Madrid:20200103T173000
DTEND;TZID=Europe/Madrid:20200103T190000
DTSTAMP:20260425T131221
CREATED:20191202T112646Z
LAST-MODIFIED:20191202T112646Z
UID:10003857-1578072600-1578078000@www.losmontesinos.es
SUMMARY:NAVIDAD 2019
DESCRIPTION:A las 17.30h.\, proyección de cine ‘SMALLFOOT’ (para todos los públicos). \nLugar: Auditorio de la Escuela de Música y Cultura de Los Montesinos.
URL:https://www.losmontesinos.es/event/navidad-2019-14/
LOCATION:Escuela municipal de Música y Cultura (Auditorio municipal)\, C/ Zaragoza\, 5\, Los Montesinos\, Alicante\, 03187\, España
CATEGORIES:Navidad
ATTACH;FMTTYPE=image/jpeg:https://www.losmontesinos.es/wp-content/uploads/2019/12/Cartel-Navidad-2019-scaled.jpg
END:VEVENT
BEGIN:VEVENT
DTSTART;TZID=Europe/Madrid:20200103T173000
DTEND;TZID=Europe/Madrid:20200103T190000
DTSTAMP:20260425T131221
CREATED:20191202T112646Z
LAST-MODIFIED:20191202T112646Z
UID:10003858-1578072600-1578078000@www.losmontesinos.es
SUMMARY:NAVIDAD 2019
DESCRIPTION:A las 17.30h.\, proyección de cine ‘SMALLFOOT’ (para todos los públicos). \nLugar: Auditorio de la Escuela de Música y Cultura de Los Montesinos.
URL:https://www.losmontesinos.es/event/navidad-2019-14/
LOCATION:Escuela municipal de Música y Cultura (Auditorio municipal)\, C/ Zaragoza\, 5\, Los Montesinos\, Alicante\, 03187\, España
CATEGORIES:Navidad
ATTACH;FMTTYPE=image/jpeg:https://www.losmontesinos.es/wp-content/uploads/2019/12/Cartel-Navidad-2019-scaled.jpg
END:VEVENT
BEGIN:VEVENT
DTSTART;TZID=Europe/Madrid:20200103T173000
DTEND;TZID=Europe/Madrid:20200103T190000
DTSTAMP:20260425T131221
CREATED:20191202T112646Z
LAST-MODIFIED:20191202T112646Z
UID:10003859-1578072600-1578078000@www.losmontesinos.es
SUMMARY:NAVIDAD 2019
DESCRIPTION:A las 17.30h.\, proyección de cine ‘SMALLFOOT’ (para todos los públicos). \nLugar: Auditorio de la Escuela de Música y Cultura de Los Montesinos.
URL:https://www.losmontesinos.es/event/navidad-2019-14-2/
LOCATION:Escuela municipal de Música y Cultura (Auditorio municipal)\, C/ Zaragoza\, 5\, Los Montesinos\, Alicante\, 03187\, España
CATEGORIES:Navidad
ATTACH;FMTTYPE=image/jpeg:https://www.losmontesinos.es/wp-content/uploads/2019/12/Cartel-Navidad-2019-scaled.jpg
END:VEVENT
BEGIN:VEVENT
DTSTART;TZID=Europe/Madrid:20200105T180000
DTEND;TZID=Europe/Madrid:20200105T200000
DTSTAMP:20260425T131221
CREATED:20191202T113040Z
LAST-MODIFIED:20191202T113040Z
UID:10003860-1578247200-1578254400@www.losmontesinos.es
SUMMARY:NAVIDAD 2019
DESCRIPTION:A las 18.00h.\, GRAN CABALGATA DE REYES MAGOS. \nSalida desde la calle Mayor hasta la puerta de la Parroquia donde se hará la Adoración de los Reyes al Niño. Seguidamente\, nuestras Majestades saludarán al pueblo y repartirán obsequios a todos los niños y niñas.
URL:https://www.losmontesinos.es/event/navidad-2019-15/
LOCATION:Plaza del Ayuntamiento\, Plaza del Ayuntamiento\, 1\, Los Montesinos\, Alicante\, 03187\, España
CATEGORIES:Navidad
ATTACH;FMTTYPE=image/jpeg:https://www.losmontesinos.es/wp-content/uploads/2019/12/Cartel-Navidad-2019-scaled.jpg
END:VEVENT
BEGIN:VEVENT
DTSTART;TZID=Europe/Madrid:20200105T180000
DTEND;TZID=Europe/Madrid:20200105T200000
DTSTAMP:20260425T131221
CREATED:20191202T113040Z
LAST-MODIFIED:20191202T113040Z
UID:10004461-1578247200-1578254400@www.losmontesinos.es
SUMMARY:NAVIDAD 2019
DESCRIPTION:A las 18.00h.\, GRAN CABALGATA DE REYES MAGOS. \nSalida desde la calle Mayor hasta la puerta de la Parroquia donde se hará la Adoración de los Reyes al Niño. Seguidamente\, nuestras Majestades saludarán al pueblo y repartirán obsequios a todos los niños y niñas.
URL:https://www.losmontesinos.es/event/navidad-2019-15/
LOCATION:Plaza del Ayuntamiento\, Plaza del Ayuntamiento\, 1\, Los Montesinos\, Alicante\, 03187\, España
CATEGORIES:Navidad
ATTACH;FMTTYPE=image/jpeg:https://www.losmontesinos.es/wp-content/uploads/2019/12/Cartel-Navidad-2019-scaled.jpg
END:VEVENT
BEGIN:VEVENT
DTSTART;TZID=Europe/Madrid:20200105T180000
DTEND;TZID=Europe/Madrid:20200105T200000
DTSTAMP:20260425T131221
CREATED:20191202T113040Z
LAST-MODIFIED:20191202T113040Z
UID:10004462-1578247200-1578254400@www.losmontesinos.es
SUMMARY:NAVIDAD 2019
DESCRIPTION:A las 18.00h.\, GRAN CABALGATA DE REYES MAGOS. \nSalida desde la calle Mayor hasta la puerta de la Parroquia donde se hará la Adoración de los Reyes al Niño. Seguidamente\, nuestras Majestades saludarán al pueblo y repartirán obsequios a todos los niños y niñas.
URL:https://www.losmontesinos.es/event/navidad-2019-15-2/
LOCATION:Plaza del Ayuntamiento\, Plaza del Ayuntamiento\, 1\, Los Montesinos\, Alicante\, 03187\, España
CATEGORIES:Navidad
ATTACH;FMTTYPE=image/jpeg:https://www.losmontesinos.es/wp-content/uploads/2019/12/Cartel-Navidad-2019-scaled.jpg
END:VEVENT
BEGIN:VEVENT
DTSTART;TZID=Europe/Madrid:20200115T090000
DTEND;TZID=Europe/Madrid:20200115T140000
DTSTAMP:20260425T131221
CREATED:20200212T110542Z
LAST-MODIFIED:20200212T110542Z
UID:10004504-1579078800-1579096800@www.losmontesinos.es
SUMMARY:SUMA atención al ciudadano
DESCRIPTION:Personal de SUMA Gestión Tributaria atiende en el Ayuntamiento en horario de 9 a 14 horas (no es necesaria cita previa).
URL:https://www.losmontesinos.es/event/suma-atencion-al-ciudadano-47/
LOCATION:Ayuntamiento de Los Montesinos\, Plaza Del Ayuntamiento\, 1\, Los Montesinos\, Alicante\, 03187\, España
CATEGORIES:Servicios
ATTACH;FMTTYPE=image/jpeg:https://www.losmontesinos.es/wp-content/uploads/2020/02/Escudo-500X500.jpg
END:VEVENT
BEGIN:VEVENT
DTSTART;TZID=Europe/Madrid:20200115T090000
DTEND;TZID=Europe/Madrid:20200115T140000
DTSTAMP:20260425T131221
CREATED:20200212T110542Z
LAST-MODIFIED:20200212T110542Z
UID:10004505-1579078800-1579096800@www.losmontesinos.es
SUMMARY:SUMA atención al ciudadano
DESCRIPTION:Personal de SUMA Gestión Tributaria atiende en el Ayuntamiento en horario de 9 a 14 horas (no es necesaria cita previa).
URL:https://www.losmontesinos.es/event/suma-atencion-al-ciudadano-47/
LOCATION:Ayuntamiento de Los Montesinos\, Plaza Del Ayuntamiento\, 1\, Los Montesinos\, Alicante\, 03187\, España
CATEGORIES:Servicios
ATTACH;FMTTYPE=image/jpeg:https://www.losmontesinos.es/wp-content/uploads/2020/02/Escudo-500X500.jpg
END:VEVENT
BEGIN:VEVENT
DTSTART;TZID=Europe/Madrid:20200115T090000
DTEND;TZID=Europe/Madrid:20200115T140000
DTSTAMP:20260425T131221
CREATED:20200212T110542Z
LAST-MODIFIED:20200212T110542Z
UID:10004506-1579078800-1579096800@www.losmontesinos.es
SUMMARY:SUMA atención al ciudadano
DESCRIPTION:Personal de SUMA Gestión Tributaria atiende en el Ayuntamiento en horario de 9 a 14 horas (no es necesaria cita previa).
URL:https://www.losmontesinos.es/event/suma-atencion-al-ciudadano-47-2/
LOCATION:Ayuntamiento de Los Montesinos\, Plaza Del Ayuntamiento\, 1\, Los Montesinos\, Alicante\, 03187\, España
CATEGORIES:Servicios
ATTACH;FMTTYPE=image/jpeg:https://www.losmontesinos.es/wp-content/uploads/2020/02/Escudo-500X500.jpg
END:VEVENT
BEGIN:VEVENT
DTSTART;TZID=Europe/Madrid:20200127T193000
DTEND;TZID=Europe/Madrid:20200127T210000
DTSTAMP:20260425T131221
CREATED:20200210T125835Z
LAST-MODIFIED:20200210T125835Z
UID:10004482-1580153400-1580158800@www.losmontesinos.es
SUMMARY:II JORNADAS DE ESCUELA DE MADRES Y PADRES
DESCRIPTION:Hoy la psicóloga infanto-juvenil María Gil Huedo hablará de las emociones: ¿Qué son las emociones? Identificación y gestión de emociones básicas. \nA las 19.30 horas en el Centro Cívico y Social de Los Montesinos. \nLa entrada es libre\, pero por cuestiones organizativas se requiere previa inscripción en el Ayuntamiento.
URL:https://www.losmontesinos.es/event/ii-jornadas-de-escuela-de-madres-y-padres/
LOCATION:Centro Cívico y Social (Hogar del Jubilado)\, Plaza del Ayuntamiento\, 2\, Los Montesinos\, Alicante\, 03187\, España
CATEGORIES:Bienestar Social
ATTACH;FMTTYPE=image/png:https://www.losmontesinos.es/wp-content/uploads/2020/02/Escuela-Padres-y-Madres-Los-Montesinos-2020.png
END:VEVENT
BEGIN:VEVENT
DTSTART;TZID=Europe/Madrid:20200127T193000
DTEND;TZID=Europe/Madrid:20200127T210000
DTSTAMP:20260425T131221
CREATED:20200210T125835Z
LAST-MODIFIED:20200210T125835Z
UID:10004483-1580153400-1580158800@www.losmontesinos.es
SUMMARY:II JORNADAS DE ESCUELA DE MADRES Y PADRES
DESCRIPTION:Hoy la psicóloga infanto-juvenil María Gil Huedo hablará de las emociones: ¿Qué son las emociones? Identificación y gestión de emociones básicas. \nA las 19.30 horas en el Centro Cívico y Social de Los Montesinos. \nLa entrada es libre\, pero por cuestiones organizativas se requiere previa inscripción en el Ayuntamiento.
URL:https://www.losmontesinos.es/event/ii-jornadas-de-escuela-de-madres-y-padres/
LOCATION:Centro Cívico y Social (Hogar del Jubilado)\, Plaza del Ayuntamiento\, 2\, Los Montesinos\, Alicante\, 03187\, España
CATEGORIES:Bienestar Social
ATTACH;FMTTYPE=image/png:https://www.losmontesinos.es/wp-content/uploads/2020/02/Escuela-Padres-y-Madres-Los-Montesinos-2020.png
END:VEVENT
BEGIN:VEVENT
DTSTART;TZID=Europe/Madrid:20200127T193000
DTEND;TZID=Europe/Madrid:20200127T210000
DTSTAMP:20260425T131221
CREATED:20200210T125835Z
LAST-MODIFIED:20200210T125835Z
UID:10004484-1580153400-1580158800@www.losmontesinos.es
SUMMARY:II JORNADAS DE ESCUELA DE MADRES Y PADRES
DESCRIPTION:Hoy la psicóloga infanto-juvenil María Gil Huedo hablará de las emociones: ¿Qué son las emociones? Identificación y gestión de emociones básicas. \nA las 19.30 horas en el Centro Cívico y Social de Los Montesinos. \nLa entrada es libre\, pero por cuestiones organizativas se requiere previa inscripción en el Ayuntamiento.
URL:https://www.losmontesinos.es/event/ii-jornadas-de-escuela-de-madres-y-padres-6/
LOCATION:Centro Cívico y Social (Hogar del Jubilado)\, Plaza del Ayuntamiento\, 2\, Los Montesinos\, Alicante\, 03187\, España
CATEGORIES:Bienestar Social
ATTACH;FMTTYPE=image/png:https://www.losmontesinos.es/wp-content/uploads/2020/02/Escuela-Padres-y-Madres-Los-Montesinos-2020.png
END:VEVENT
BEGIN:VEVENT
DTSTART;TZID=Europe/Madrid:20200201T203000
DTEND;TZID=Europe/Madrid:20200201T220000
DTSTAMP:20260425T131221
CREATED:20200116T124113Z
LAST-MODIFIED:20200116T124113Z
UID:10004471-1580589000-1580594400@www.losmontesinos.es
SUMMARY:JORNADAS TEATRO UNIVERSITARIO
DESCRIPTION:Obra: La Tempestad \nAutor: William Shakespeare \nDirección y dramaturgia: Iván Jiménez \nA las 20.30 horas en el Auditorio de la Escuela de Música y Cultura de Los Montesinos. \nEntrada libre\, limitada al aforo.
URL:https://www.losmontesinos.es/event/jornadas-teatro-universitario/
LOCATION:Escuela municipal de Música y Cultura (Auditorio municipal)\, C/ Zaragoza\, 5\, Los Montesinos\, Alicante\, 03187\, España
CATEGORIES:Cultura
ATTACH;FMTTYPE=image/jpeg:https://www.losmontesinos.es/wp-content/uploads/2020/01/Cartel-Jornadas-Teatro-2020-Los-Montesinos.jpg
END:VEVENT
BEGIN:VEVENT
DTSTART;TZID=Europe/Madrid:20200201T203000
DTEND;TZID=Europe/Madrid:20200201T220000
DTSTAMP:20260425T131221
CREATED:20200116T124113Z
LAST-MODIFIED:20200116T124113Z
UID:10004472-1580589000-1580594400@www.losmontesinos.es
SUMMARY:JORNADAS TEATRO UNIVERSITARIO
DESCRIPTION:Obra: La Tempestad \nAutor: William Shakespeare \nDirección y dramaturgia: Iván Jiménez \nA las 20.30 horas en el Auditorio de la Escuela de Música y Cultura de Los Montesinos. \nEntrada libre\, limitada al aforo.
URL:https://www.losmontesinos.es/event/jornadas-teatro-universitario/
LOCATION:Escuela municipal de Música y Cultura (Auditorio municipal)\, C/ Zaragoza\, 5\, Los Montesinos\, Alicante\, 03187\, España
CATEGORIES:Cultura
ATTACH;FMTTYPE=image/jpeg:https://www.losmontesinos.es/wp-content/uploads/2020/01/Cartel-Jornadas-Teatro-2020-Los-Montesinos.jpg
END:VEVENT
BEGIN:VEVENT
DTSTART;TZID=Europe/Madrid:20200201T203000
DTEND;TZID=Europe/Madrid:20200201T220000
DTSTAMP:20260425T131221
CREATED:20200116T124113Z
LAST-MODIFIED:20200116T124113Z
UID:10004473-1580589000-1580594400@www.losmontesinos.es
SUMMARY:JORNADAS TEATRO UNIVERSITARIO
DESCRIPTION:Obra: La Tempestad \nAutor: William Shakespeare \nDirección y dramaturgia: Iván Jiménez \nA las 20.30 horas en el Auditorio de la Escuela de Música y Cultura de Los Montesinos. \nEntrada libre\, limitada al aforo.
URL:https://www.losmontesinos.es/event/jornadas-teatro-universitario-6/
LOCATION:Escuela municipal de Música y Cultura (Auditorio municipal)\, C/ Zaragoza\, 5\, Los Montesinos\, Alicante\, 03187\, España
CATEGORIES:Cultura
ATTACH;FMTTYPE=image/jpeg:https://www.losmontesinos.es/wp-content/uploads/2020/01/Cartel-Jornadas-Teatro-2020-Los-Montesinos.jpg
END:VEVENT
BEGIN:VEVENT
DTSTART;TZID=Europe/Madrid:20200205T090000
DTEND;TZID=Europe/Madrid:20200205T140000
DTSTAMP:20260425T131221
CREATED:20200212T110301Z
LAST-MODIFIED:20200212T110301Z
UID:10004501-1580893200-1580911200@www.losmontesinos.es
SUMMARY:SUMA atención al ciudadano
DESCRIPTION:Personal de SUMA Gestión Tributaria atiende en el Ayuntamiento en horario de 9 a 14 horas (no es necesaria cita previa).
URL:https://www.losmontesinos.es/event/suma-atencion-al-ciudadano-46/
LOCATION:Ayuntamiento de Los Montesinos\, Plaza Del Ayuntamiento\, 1\, Los Montesinos\, Alicante\, 03187\, España
CATEGORIES:Servicios
ATTACH;FMTTYPE=image/jpeg:https://www.losmontesinos.es/wp-content/uploads/2020/02/Escudo-500X500.jpg
END:VEVENT
BEGIN:VEVENT
DTSTART;TZID=Europe/Madrid:20200205T090000
DTEND;TZID=Europe/Madrid:20200205T140000
DTSTAMP:20260425T131221
CREATED:20200212T110301Z
LAST-MODIFIED:20200212T110301Z
UID:10004502-1580893200-1580911200@www.losmontesinos.es
SUMMARY:SUMA atención al ciudadano
DESCRIPTION:Personal de SUMA Gestión Tributaria atiende en el Ayuntamiento en horario de 9 a 14 horas (no es necesaria cita previa).
URL:https://www.losmontesinos.es/event/suma-atencion-al-ciudadano-46/
LOCATION:Ayuntamiento de Los Montesinos\, Plaza Del Ayuntamiento\, 1\, Los Montesinos\, Alicante\, 03187\, España
CATEGORIES:Servicios
ATTACH;FMTTYPE=image/jpeg:https://www.losmontesinos.es/wp-content/uploads/2020/02/Escudo-500X500.jpg
END:VEVENT
BEGIN:VEVENT
DTSTART;TZID=Europe/Madrid:20200205T090000
DTEND;TZID=Europe/Madrid:20200205T140000
DTSTAMP:20260425T131221
CREATED:20200212T110301Z
LAST-MODIFIED:20200212T110301Z
UID:10004503-1580893200-1580911200@www.losmontesinos.es
SUMMARY:SUMA atención al ciudadano
DESCRIPTION:Personal de SUMA Gestión Tributaria atiende en el Ayuntamiento en horario de 9 a 14 horas (no es necesaria cita previa).
URL:https://www.losmontesinos.es/event/suma-atencion-al-ciudadano-46-2/
LOCATION:Ayuntamiento de Los Montesinos\, Plaza Del Ayuntamiento\, 1\, Los Montesinos\, Alicante\, 03187\, España
CATEGORIES:Servicios
ATTACH;FMTTYPE=image/jpeg:https://www.losmontesinos.es/wp-content/uploads/2020/02/Escudo-500X500.jpg
END:VEVENT
BEGIN:VEVENT
DTSTART;TZID=Europe/Madrid:20200208T203000
DTEND;TZID=Europe/Madrid:20200208T220000
DTSTAMP:20260425T131221
CREATED:20200116T124846Z
LAST-MODIFIED:20200116T124846Z
UID:10004474-1581193800-1581199200@www.losmontesinos.es
SUMMARY:JORNADAS TEATRO UNIVERSITARIO
DESCRIPTION:Obra: Contra el amor \nAutor: Esteve Soler \nDirección: Xiomara Wanden \nA las 20.30 horas en el Auditorio de la Escuela de Música y Cultura de Los Montesinos. \nEntrada libre\, limitada al aforo.
URL:https://www.losmontesinos.es/event/jornadas-teatro-universitario-2/
LOCATION:Escuela municipal de Música y Cultura (Auditorio municipal)\, C/ Zaragoza\, 5\, Los Montesinos\, Alicante\, 03187\, España
CATEGORIES:Cultura
ATTACH;FMTTYPE=image/jpeg:https://www.losmontesinos.es/wp-content/uploads/2020/01/Cartel-Jornadas-Teatro-2020-Los-Montesinos.jpg
END:VEVENT
BEGIN:VEVENT
DTSTART;TZID=Europe/Madrid:20200208T203000
DTEND;TZID=Europe/Madrid:20200208T220000
DTSTAMP:20260425T131221
CREATED:20200116T124846Z
LAST-MODIFIED:20200116T124846Z
UID:10004475-1581193800-1581199200@www.losmontesinos.es
SUMMARY:JORNADAS TEATRO UNIVERSITARIO
DESCRIPTION:Obra: Contra el amor \nAutor: Esteve Soler \nDirección: Xiomara Wanden \nA las 20.30 horas en el Auditorio de la Escuela de Música y Cultura de Los Montesinos. \nEntrada libre\, limitada al aforo.
URL:https://www.losmontesinos.es/event/jornadas-teatro-universitario-2/
LOCATION:Escuela municipal de Música y Cultura (Auditorio municipal)\, C/ Zaragoza\, 5\, Los Montesinos\, Alicante\, 03187\, España
CATEGORIES:Cultura
ATTACH;FMTTYPE=image/jpeg:https://www.losmontesinos.es/wp-content/uploads/2020/01/Cartel-Jornadas-Teatro-2020-Los-Montesinos.jpg
END:VEVENT
BEGIN:VEVENT
DTSTART;TZID=Europe/Madrid:20200208T203000
DTEND;TZID=Europe/Madrid:20200208T220000
DTSTAMP:20260425T131221
CREATED:20200116T124846Z
LAST-MODIFIED:20200116T124846Z
UID:10004476-1581193800-1581199200@www.losmontesinos.es
SUMMARY:JORNADAS TEATRO UNIVERSITARIO
DESCRIPTION:Obra: Contra el amor \nAutor: Esteve Soler \nDirección: Xiomara Wanden \nA las 20.30 horas en el Auditorio de la Escuela de Música y Cultura de Los Montesinos. \nEntrada libre\, limitada al aforo.
URL:https://www.losmontesinos.es/event/jornadas-teatro-universitario-2-2/
LOCATION:Escuela municipal de Música y Cultura (Auditorio municipal)\, C/ Zaragoza\, 5\, Los Montesinos\, Alicante\, 03187\, España
CATEGORIES:Cultura
ATTACH;FMTTYPE=image/jpeg:https://www.losmontesinos.es/wp-content/uploads/2020/01/Cartel-Jornadas-Teatro-2020-Los-Montesinos.jpg
END:VEVENT
BEGIN:VEVENT
DTSTART;TZID=Europe/Madrid:20200215T203000
DTEND;TZID=Europe/Madrid:20200215T220000
DTSTAMP:20260425T131221
CREATED:20200116T125329Z
LAST-MODIFIED:20200116T125329Z
UID:10004477-1581798600-1581804000@www.losmontesinos.es
SUMMARY:JORNADAS TEATRO UNIVERSITARIO
DESCRIPTION:Obra: El Trastero \nAutor: Inma Escobedo Rico \nDirección: Inma Escobedo Rico (adaptación de su obra) \nA las 20.30 horas en el Auditorio de la Escuela de Música y Cultura de Los Montesinos. \nEntrada libre\, limitada al aforo.
URL:https://www.losmontesinos.es/event/jornadas-teatro-universitario-3/
LOCATION:Escuela municipal de Música y Cultura (Auditorio municipal)\, C/ Zaragoza\, 5\, Los Montesinos\, Alicante\, 03187\, España
CATEGORIES:Cultura
ATTACH;FMTTYPE=image/jpeg:https://www.losmontesinos.es/wp-content/uploads/2020/01/Cartel-Jornadas-Teatro-2020-Los-Montesinos.jpg
END:VEVENT
BEGIN:VEVENT
DTSTART;TZID=Europe/Madrid:20200215T203000
DTEND;TZID=Europe/Madrid:20200215T220000
DTSTAMP:20260425T131221
CREATED:20200116T125329Z
LAST-MODIFIED:20200116T125329Z
UID:10004478-1581798600-1581804000@www.losmontesinos.es
SUMMARY:JORNADAS TEATRO UNIVERSITARIO
DESCRIPTION:Obra: El Trastero \nAutor: Inma Escobedo Rico \nDirección: Inma Escobedo Rico (adaptación de su obra) \nA las 20.30 horas en el Auditorio de la Escuela de Música y Cultura de Los Montesinos. \nEntrada libre\, limitada al aforo.
URL:https://www.losmontesinos.es/event/jornadas-teatro-universitario-3/
LOCATION:Escuela municipal de Música y Cultura (Auditorio municipal)\, C/ Zaragoza\, 5\, Los Montesinos\, Alicante\, 03187\, España
CATEGORIES:Cultura
ATTACH;FMTTYPE=image/jpeg:https://www.losmontesinos.es/wp-content/uploads/2020/01/Cartel-Jornadas-Teatro-2020-Los-Montesinos.jpg
END:VEVENT
BEGIN:VEVENT
DTSTART;TZID=Europe/Madrid:20200215T203000
DTEND;TZID=Europe/Madrid:20200215T220000
DTSTAMP:20260425T131221
CREATED:20200116T125329Z
LAST-MODIFIED:20200116T125329Z
UID:10004479-1581798600-1581804000@www.losmontesinos.es
SUMMARY:JORNADAS TEATRO UNIVERSITARIO
DESCRIPTION:Obra: El Trastero \nAutor: Inma Escobedo Rico \nDirección: Inma Escobedo Rico (adaptación de su obra) \nA las 20.30 horas en el Auditorio de la Escuela de Música y Cultura de Los Montesinos. \nEntrada libre\, limitada al aforo.
URL:https://www.losmontesinos.es/event/jornadas-teatro-universitario-3-2/
LOCATION:Escuela municipal de Música y Cultura (Auditorio municipal)\, C/ Zaragoza\, 5\, Los Montesinos\, Alicante\, 03187\, España
CATEGORIES:Cultura
ATTACH;FMTTYPE=image/jpeg:https://www.losmontesinos.es/wp-content/uploads/2020/01/Cartel-Jornadas-Teatro-2020-Los-Montesinos.jpg
END:VEVENT
END:VCALENDAR