BEGIN:VCALENDAR
VERSION:2.0
PRODID:-//Ayuntamiento - ECPv6.15.15//NONSGML v1.0//EN
CALSCALE:GREGORIAN
METHOD:PUBLISH
X-ORIGINAL-URL:https://www.losmontesinos.es
X-WR-CALDESC:Eventos para Ayuntamiento
REFRESH-INTERVAL;VALUE=DURATION:PT1H
X-Robots-Tag:noindex
X-PUBLISHED-TTL:PT1H
BEGIN:VTIMEZONE
TZID:Europe/Madrid
BEGIN:DAYLIGHT
TZOFFSETFROM:+0100
TZOFFSETTO:+0200
TZNAME:CEST
DTSTART:20180325T010000
END:DAYLIGHT
BEGIN:STANDARD
TZOFFSETFROM:+0200
TZOFFSETTO:+0100
TZNAME:CET
DTSTART:20181028T010000
END:STANDARD
BEGIN:DAYLIGHT
TZOFFSETFROM:+0100
TZOFFSETTO:+0200
TZNAME:CEST
DTSTART:20190331T010000
END:DAYLIGHT
BEGIN:STANDARD
TZOFFSETFROM:+0200
TZOFFSETTO:+0100
TZNAME:CET
DTSTART:20191027T010000
END:STANDARD
BEGIN:DAYLIGHT
TZOFFSETFROM:+0100
TZOFFSETTO:+0200
TZNAME:CEST
DTSTART:20200329T010000
END:DAYLIGHT
BEGIN:STANDARD
TZOFFSETFROM:+0200
TZOFFSETTO:+0100
TZNAME:CET
DTSTART:20201025T010000
END:STANDARD
END:VTIMEZONE
BEGIN:VEVENT
DTSTART;TZID=Europe/Madrid:20190419T100000
DTEND;TZID=Europe/Madrid:20190419T230000
DTSTAMP:20260425T030416
CREATED:20190311T090718Z
LAST-MODIFIED:20190311T090718Z
UID:10003680-1555668000-1555714800@www.losmontesinos.es
SUMMARY:SEMANA SANTA 2019
DESCRIPTION:INICIO DEL SANTO TRIDUO PASCUAL \nVIERNES SANTO \nA las 10.00 horas –> Vía Crucis de Pasión hasta la Iglesia de La Marquesa. \nA las 17.30 horas –> Celebración de la PASIÓN DEL SEÑOR. \nA las 22.00 horas –> PROCESIÓN DEL SANTO ENTIERRO. El itinerario será: Plaza del Ayuntamiento\, La Marquesa\, San Miguel\, Avda. del Mar\, San Lucas\, La Marquesa e Iglesia. \nDurante toda la noche\, se establecerán turnos de vela ante el Monumento.
URL:https://www.losmontesinos.es/event/semana-santa-2019-14/
LOCATION:Iglesia Parroquial de Los Montesinos\, Plaza del Ayuntamiento\, 2\, Los Montesinos\, Alicante\, 03187\, España
CATEGORIES:Semana Santa
ATTACH;FMTTYPE=image/jpeg:https://www.losmontesinos.es/wp-content/uploads/2019/03/Cartel-Semana-Santa-2019.jpg
END:VEVENT
BEGIN:VEVENT
DTSTART;TZID=Europe/Madrid:20190419T100000
DTEND;TZID=Europe/Madrid:20190419T230000
DTSTAMP:20260425T030416
CREATED:20190311T090718Z
LAST-MODIFIED:20190311T090718Z
UID:10004281-1555668000-1555714800@www.losmontesinos.es
SUMMARY:EASTER EVENTS 2019
DESCRIPTION:START OF THE THREE HOLY DAYS OF EASTER \nEASTER FRIDAY \n10.00 am –> Celebration of ‘The Station of the Cross’  of the Passion. To The Parish of La Marquesa. \n5.30 pm –> CELEBRATION OF THE PASSION OF CHRIST. \n10.00 pm –> PROCESSION OF THE HOLY BURIAL. 
URL:https://www.losmontesinos.es/event/semana-santa-2019-14-2/
LOCATION:Iglesia Parroquial de Los Montesinos\, Plaza del Ayuntamiento\, 2\, Los Montesinos\, Alicante\, 03187\, España
ATTACH;FMTTYPE=image/jpeg:https://www.losmontesinos.es/wp-content/uploads/2019/03/Cartel-Semana-Santa-2019.jpg
END:VEVENT
BEGIN:VEVENT
DTSTART;TZID=Europe/Madrid:20190419T100000
DTEND;TZID=Europe/Madrid:20190419T230000
DTSTAMP:20260425T030416
CREATED:20190311T090718Z
LAST-MODIFIED:20190311T090718Z
UID:10004282-1555668000-1555714800@www.losmontesinos.es
SUMMARY:SEMANA SANTA 2019
DESCRIPTION:INICIO DEL SANTO TRIDUO PASCUAL \nVIERNES SANTO \nA las 10.00 horas –> Vía Crucis de Pasión hasta la Iglesia de La Marquesa. \nA las 17.30 horas –> Celebración de la PASIÓN DEL SEÑOR. \nA las 22.00 horas –> PROCESIÓN DEL SANTO ENTIERRO. El itinerario será: Plaza del Ayuntamiento\, La Marquesa\, San Miguel\, Avda. del Mar\, San Lucas\, La Marquesa e Iglesia. \nDurante toda la noche\, se establecerán turnos de vela ante el Monumento.
URL:https://www.losmontesinos.es/event/semana-santa-2019-14-3/
LOCATION:Iglesia Parroquial de Los Montesinos\, Plaza del Ayuntamiento\, 2\, Los Montesinos\, Alicante\, 03187\, España
CATEGORIES:Semana Santa
ATTACH;FMTTYPE=image/jpeg:https://www.losmontesinos.es/wp-content/uploads/2019/03/Cartel-Semana-Santa-2019.jpg
END:VEVENT
BEGIN:VEVENT
DTSTART;TZID=Europe/Madrid:20190419T100000
DTEND;TZID=Europe/Madrid:20190419T230000
DTSTAMP:20260425T030416
CREATED:20190311T090718Z
LAST-MODIFIED:20190311T090718Z
UID:10004283-1555668000-1555714800@www.losmontesinos.es
SUMMARY:EASTER EVENTS 2019
DESCRIPTION:START OF THE THREE HOLY DAYS OF EASTER \nEASTER FRIDAY \n10.00 am –> Celebration of ‘The Station of the Cross’  of the Passion. To The Parish of La Marquesa. \n5.30 pm –> CELEBRATION OF THE PASSION OF CHRIST. \n10.00 pm –> PROCESSION OF THE HOLY BURIAL. 
URL:https://www.losmontesinos.es/event/semana-santa-2019-14-4/
LOCATION:Iglesia Parroquial de Los Montesinos\, Plaza del Ayuntamiento\, 2\, Los Montesinos\, Alicante\, 03187\, España
ATTACH;FMTTYPE=image/jpeg:https://www.losmontesinos.es/wp-content/uploads/2019/03/Cartel-Semana-Santa-2019.jpg
END:VEVENT
BEGIN:VEVENT
DTSTART;TZID=Europe/Madrid:20190419T100000
DTEND;TZID=Europe/Madrid:20190419T230000
DTSTAMP:20260425T030416
CREATED:20190311T090718Z
LAST-MODIFIED:20190311T090718Z
UID:10004284-1555668000-1555714800@www.losmontesinos.es
SUMMARY:SEMANA SANTA 2019
DESCRIPTION:INICIO DEL SANTO TRIDUO PASCUAL \nVIERNES SANTO \nA las 10.00 horas –> Vía Crucis de Pasión hasta la Iglesia de La Marquesa. \nA las 17.30 horas –> Celebración de la PASIÓN DEL SEÑOR. \nA las 22.00 horas –> PROCESIÓN DEL SANTO ENTIERRO. El itinerario será: Plaza del Ayuntamiento\, La Marquesa\, San Miguel\, Avda. del Mar\, San Lucas\, La Marquesa e Iglesia. \nDurante toda la noche\, se establecerán turnos de vela ante el Monumento.
URL:https://www.losmontesinos.es/event/semana-santa-2019-14-5/
LOCATION:Iglesia Parroquial de Los Montesinos\, Plaza del Ayuntamiento\, 2\, Los Montesinos\, Alicante\, 03187\, España
CATEGORIES:Semana Santa
ATTACH;FMTTYPE=image/jpeg:https://www.losmontesinos.es/wp-content/uploads/2019/03/Cartel-Semana-Santa-2019.jpg
END:VEVENT
BEGIN:VEVENT
DTSTART;TZID=Europe/Madrid:20190419T100000
DTEND;TZID=Europe/Madrid:20190419T230000
DTSTAMP:20260425T030416
CREATED:20190311T090718Z
LAST-MODIFIED:20190311T090718Z
UID:10004285-1555668000-1555714800@www.losmontesinos.es
SUMMARY:EASTER EVENTS 2019
DESCRIPTION:START OF THE THREE HOLY DAYS OF EASTER \nEASTER FRIDAY \n10.00 am –> Celebration of ‘The Station of the Cross’  of the Passion. To The Parish of La Marquesa. \n5.30 pm –> CELEBRATION OF THE PASSION OF CHRIST. \n10.00 pm –> PROCESSION OF THE HOLY BURIAL. 
URL:https://www.losmontesinos.es/event/semana-santa-2019-14-6/
LOCATION:Iglesia Parroquial de Los Montesinos\, Plaza del Ayuntamiento\, 2\, Los Montesinos\, Alicante\, 03187\, España
ATTACH;FMTTYPE=image/jpeg:https://www.losmontesinos.es/wp-content/uploads/2019/03/Cartel-Semana-Santa-2019.jpg
END:VEVENT
BEGIN:VEVENT
DTSTART;TZID=Europe/Madrid:20190419T100000
DTEND;TZID=Europe/Madrid:20190421T220000
DTSTAMP:20260425T030416
CREATED:20190411T091141Z
LAST-MODIFIED:20190411T091141Z
UID:10003712-1555668000-1555884000@www.losmontesinos.es
SUMMARY:X RUTA DE LA TAPA EN LOS MONTESINOS
DESCRIPTION:Del 19 al 21 de abril –> Tres días durante los cuales tendremos la oportunidad de degustar ‘Tapas de la Casa’ y ‘Tapas Gourmet’ a precios populares.\nAdemás\, tus consumiciones tienen premio: sella tu boleto en 6 establecimientos diferentes y participa en el Concurso de una cena para dos personas en uno de los establecimientos ganadores.\nComparte tus fotos en Redes Sociales con el hashtag #LosMontesinosTapas2019\nRecoge tu folleto en el Ayuntamiento y en los establecimientos participantes\, también lo puedes descargar AQUÍ
URL:https://www.losmontesinos.es/event/x-ruta-de-la-tapa-en-los-montesinos/
LOCATION:Alicante
CATEGORIES:Turismo
ATTACH;FMTTYPE=image/jpeg:https://www.losmontesinos.es/wp-content/uploads/2019/04/X-Ruta-Tapa-Los-Montesinos-2019.jpg
END:VEVENT
BEGIN:VEVENT
DTSTART;TZID=Europe/Madrid:20190419T100000
DTEND;TZID=Europe/Madrid:20190421T220000
DTSTAMP:20260425T030416
CREATED:20190411T091141Z
LAST-MODIFIED:20190411T091141Z
UID:10003713-1555668000-1555884000@www.losmontesinos.es
SUMMARY:X RUTA DE LA TAPA EN LOS MONTESINOS
DESCRIPTION:Del 19 al 21 de abril –> Tres días durante los cuales tendremos la oportunidad de degustar ‘Tapas de la Casa’ y ‘Tapas Gourmet’ a precios populares.\nAdemás\, tus consumiciones tienen premio: sella tu boleto en 6 establecimientos diferentes y participa en el Concurso de una cena para dos personas en uno de los establecimientos ganadores.\nComparte tus fotos en Redes Sociales con el hashtag #LosMontesinosTapas2019\nRecoge tu folleto en el Ayuntamiento y en los establecimientos participantes\, también lo puedes descargar AQUÍ
URL:https://www.losmontesinos.es/event/x-ruta-de-la-tapa-en-los-montesinos-2/
LOCATION:Alicante
ATTACH;FMTTYPE=image/jpeg:https://www.losmontesinos.es/wp-content/uploads/2019/04/X-Ruta-Tapa-Los-Montesinos-2019-1.jpg
END:VEVENT
BEGIN:VEVENT
DTSTART;TZID=Europe/Madrid:20190419T100000
DTEND;TZID=Europe/Madrid:20190421T220000
DTSTAMP:20260425T030416
CREATED:20190411T091141Z
LAST-MODIFIED:20190411T091141Z
UID:10003714-1555668000-1555884000@www.losmontesinos.es
SUMMARY:X RUTA DE LA TAPA EN LOS MONTESINOS
DESCRIPTION:Del 19 al 21 de abril –> Tres días durante los cuales tendremos la oportunidad de degustar ‘Tapas de la Casa’ y ‘Tapas Gourmet’ a precios populares.\nAdemás\, tus consumiciones tienen premio: sella tu boleto en 6 establecimientos diferentes y participa en el Concurso de una cena para dos personas en uno de los establecimientos ganadores.\nComparte tus fotos en Redes Sociales con el hashtag #LosMontesinosTapas2019\nRecoge tu folleto en el Ayuntamiento y en los establecimientos participantes\, también lo puedes descargar AQUÍ
URL:https://www.losmontesinos.es/event/x-ruta-de-la-tapa-en-los-montesinos-3/
LOCATION:Alicante
CATEGORIES:Turismo
ATTACH;FMTTYPE=image/jpeg:https://www.losmontesinos.es/wp-content/uploads/2019/04/X-Ruta-Tapa-Los-Montesinos-2019.jpg
END:VEVENT
BEGIN:VEVENT
DTSTART;TZID=Europe/Madrid:20190419T100000
DTEND;TZID=Europe/Madrid:20190421T220000
DTSTAMP:20260425T030416
CREATED:20190411T091141Z
LAST-MODIFIED:20190411T091141Z
UID:10003715-1555668000-1555884000@www.losmontesinos.es
SUMMARY:X RUTA DE LA TAPA EN LOS MONTESINOS
DESCRIPTION:Del 19 al 21 de abril –> Tres días durante los cuales tendremos la oportunidad de degustar ‘Tapas de la Casa’ y ‘Tapas Gourmet’ a precios populares.\nAdemás\, tus consumiciones tienen premio: sella tu boleto en 6 establecimientos diferentes y participa en el Concurso de una cena para dos personas en uno de los establecimientos ganadores.\nComparte tus fotos en Redes Sociales con el hashtag #LosMontesinosTapas2019\nRecoge tu folleto en el Ayuntamiento y en los establecimientos participantes\, también lo puedes descargar AQUÍ
URL:https://www.losmontesinos.es/event/x-ruta-de-la-tapa-en-los-montesinos-4/
LOCATION:Alicante
ATTACH;FMTTYPE=image/jpeg:https://www.losmontesinos.es/wp-content/uploads/2019/04/X-Ruta-Tapa-Los-Montesinos-2019-1.jpg
END:VEVENT
BEGIN:VEVENT
DTSTART;TZID=Europe/Madrid:20190419T100000
DTEND;TZID=Europe/Madrid:20190421T220000
DTSTAMP:20260425T030416
CREATED:20190411T091141Z
LAST-MODIFIED:20190411T091141Z
UID:10003716-1555668000-1555884000@www.losmontesinos.es
SUMMARY:X RUTA DE LA TAPA EN LOS MONTESINOS
DESCRIPTION:Del 19 al 21 de abril –> Tres días durante los cuales tendremos la oportunidad de degustar ‘Tapas de la Casa’ y ‘Tapas Gourmet’ a precios populares.\nAdemás\, tus consumiciones tienen premio: sella tu boleto en 6 establecimientos diferentes y participa en el Concurso de una cena para dos personas en uno de los establecimientos ganadores.\nComparte tus fotos en Redes Sociales con el hashtag #LosMontesinosTapas2019\nRecoge tu folleto en el Ayuntamiento y en los establecimientos participantes\, también lo puedes descargar AQUÍ
URL:https://www.losmontesinos.es/event/x-ruta-de-la-tapa-en-los-montesinos-5/
LOCATION:Alicante
CATEGORIES:Turismo
ATTACH;FMTTYPE=image/jpeg:https://www.losmontesinos.es/wp-content/uploads/2019/04/X-Ruta-Tapa-Los-Montesinos-2019.jpg
END:VEVENT
BEGIN:VEVENT
DTSTART;TZID=Europe/Madrid:20190419T100000
DTEND;TZID=Europe/Madrid:20190421T220000
DTSTAMP:20260425T030416
CREATED:20190411T091141Z
LAST-MODIFIED:20190411T091141Z
UID:10003717-1555668000-1555884000@www.losmontesinos.es
SUMMARY:X RUTA DE LA TAPA EN LOS MONTESINOS
DESCRIPTION:Del 19 al 21 de abril –> Tres días durante los cuales tendremos la oportunidad de degustar ‘Tapas de la Casa’ y ‘Tapas Gourmet’ a precios populares.\nAdemás\, tus consumiciones tienen premio: sella tu boleto en 6 establecimientos diferentes y participa en el Concurso de una cena para dos personas en uno de los establecimientos ganadores.\nComparte tus fotos en Redes Sociales con el hashtag #LosMontesinosTapas2019\nRecoge tu folleto en el Ayuntamiento y en los establecimientos participantes\, también lo puedes descargar AQUÍ
URL:https://www.losmontesinos.es/event/x-ruta-de-la-tapa-en-los-montesinos-6/
LOCATION:Alicante
ATTACH;FMTTYPE=image/jpeg:https://www.losmontesinos.es/wp-content/uploads/2019/04/X-Ruta-Tapa-Los-Montesinos-2019-1.jpg
END:VEVENT
BEGIN:VEVENT
DTSTART;TZID=Europe/Madrid:20190420T230000
DTEND;TZID=Europe/Madrid:20190420T235900
DTSTAMP:20260425T030416
CREATED:20190311T091146Z
LAST-MODIFIED:20190311T091146Z
UID:10003681-1555801200-1555804740@www.losmontesinos.es
SUMMARY:EASTER EVENTS 2019
DESCRIPTION:START OF THE THREE HOLY DAYS OF EASTER \nEASTER SATURDAY \n11.00 pm –> SOLEMN EASTER VIGIL. During wich a celebration of the baptism of the children will take place.
URL:https://www.losmontesinos.es/event/semana-santa-2019-15-6/
LOCATION:Iglesia Parroquial de Los Montesinos\, Plaza del Ayuntamiento\, 2\, Los Montesinos\, Alicante\, 03187\, España
ATTACH;FMTTYPE=image/jpeg:https://www.losmontesinos.es/wp-content/uploads/2019/03/Cartel-Semana-Santa-2019.jpg
END:VEVENT
BEGIN:VEVENT
DTSTART;TZID=Europe/Madrid:20190420T230000
DTEND;TZID=Europe/Madrid:20190420T235900
DTSTAMP:20260425T030416
CREATED:20190311T091146Z
LAST-MODIFIED:20190311T091146Z
UID:10004286-1555801200-1555804740@www.losmontesinos.es
SUMMARY:SEMANA SANTA 2019
DESCRIPTION:INICIO DEL SANTO TRIDUO PASCUAL \nSÁBADO SANTO \nA las 23.00 horas –> SOLEMNE VIGILIA PASCUAL.
URL:https://www.losmontesinos.es/event/semana-santa-2019-15/
LOCATION:Iglesia Parroquial de Los Montesinos\, Plaza del Ayuntamiento\, 2\, Los Montesinos\, Alicante\, 03187\, España
CATEGORIES:Semana Santa
ATTACH;FMTTYPE=image/jpeg:https://www.losmontesinos.es/wp-content/uploads/2019/03/Cartel-Semana-Santa-2019.jpg
END:VEVENT
BEGIN:VEVENT
DTSTART;TZID=Europe/Madrid:20190420T230000
DTEND;TZID=Europe/Madrid:20190420T235900
DTSTAMP:20260425T030416
CREATED:20190311T091146Z
LAST-MODIFIED:20190311T091146Z
UID:10004287-1555801200-1555804740@www.losmontesinos.es
SUMMARY:EASTER EVENTS 2019
DESCRIPTION:START OF THE THREE HOLY DAYS OF EASTER \nEASTER SATURDAY \n11.00 pm –> SOLEMN EASTER VIGIL. During wich a celebration of the baptism of the children will take place.
URL:https://www.losmontesinos.es/event/semana-santa-2019-15-2/
LOCATION:Iglesia Parroquial de Los Montesinos\, Plaza del Ayuntamiento\, 2\, Los Montesinos\, Alicante\, 03187\, España
ATTACH;FMTTYPE=image/jpeg:https://www.losmontesinos.es/wp-content/uploads/2019/03/Cartel-Semana-Santa-2019.jpg
END:VEVENT
BEGIN:VEVENT
DTSTART;TZID=Europe/Madrid:20190420T230000
DTEND;TZID=Europe/Madrid:20190420T235900
DTSTAMP:20260425T030416
CREATED:20190311T091146Z
LAST-MODIFIED:20190311T091146Z
UID:10004288-1555801200-1555804740@www.losmontesinos.es
SUMMARY:SEMANA SANTA 2019
DESCRIPTION:INICIO DEL SANTO TRIDUO PASCUAL \nSÁBADO SANTO \nA las 23.00 horas –> SOLEMNE VIGILIA PASCUAL.
URL:https://www.losmontesinos.es/event/semana-santa-2019-15-3/
LOCATION:Iglesia Parroquial de Los Montesinos\, Plaza del Ayuntamiento\, 2\, Los Montesinos\, Alicante\, 03187\, España
CATEGORIES:Semana Santa
ATTACH;FMTTYPE=image/jpeg:https://www.losmontesinos.es/wp-content/uploads/2019/03/Cartel-Semana-Santa-2019.jpg
END:VEVENT
BEGIN:VEVENT
DTSTART;TZID=Europe/Madrid:20190420T230000
DTEND;TZID=Europe/Madrid:20190420T235900
DTSTAMP:20260425T030416
CREATED:20190311T091146Z
LAST-MODIFIED:20190311T091146Z
UID:10004289-1555801200-1555804740@www.losmontesinos.es
SUMMARY:EASTER EVENTS 2019
DESCRIPTION:START OF THE THREE HOLY DAYS OF EASTER \nEASTER SATURDAY \n11.00 pm –> SOLEMN EASTER VIGIL. During wich a celebration of the baptism of the children will take place.
URL:https://www.losmontesinos.es/event/semana-santa-2019-15-4/
LOCATION:Iglesia Parroquial de Los Montesinos\, Plaza del Ayuntamiento\, 2\, Los Montesinos\, Alicante\, 03187\, España
ATTACH;FMTTYPE=image/jpeg:https://www.losmontesinos.es/wp-content/uploads/2019/03/Cartel-Semana-Santa-2019.jpg
END:VEVENT
BEGIN:VEVENT
DTSTART;TZID=Europe/Madrid:20190420T230000
DTEND;TZID=Europe/Madrid:20190420T235900
DTSTAMP:20260425T030416
CREATED:20190311T091146Z
LAST-MODIFIED:20190311T091146Z
UID:10004290-1555801200-1555804740@www.losmontesinos.es
SUMMARY:SEMANA SANTA 2019
DESCRIPTION:INICIO DEL SANTO TRIDUO PASCUAL \nSÁBADO SANTO \nA las 23.00 horas –> SOLEMNE VIGILIA PASCUAL.
URL:https://www.losmontesinos.es/event/semana-santa-2019-15-5/
LOCATION:Iglesia Parroquial de Los Montesinos\, Plaza del Ayuntamiento\, 2\, Los Montesinos\, Alicante\, 03187\, España
CATEGORIES:Semana Santa
ATTACH;FMTTYPE=image/jpeg:https://www.losmontesinos.es/wp-content/uploads/2019/03/Cartel-Semana-Santa-2019.jpg
END:VEVENT
BEGIN:VEVENT
DTSTART;TZID=Europe/Madrid:20190421T110000
DTEND;TZID=Europe/Madrid:20190421T133000
DTSTAMP:20260425T030416
CREATED:20190311T092541Z
LAST-MODIFIED:20190311T092541Z
UID:10003682-1555844400-1555853400@www.losmontesinos.es
SUMMARY:SEMANA SANTA 2019
DESCRIPTION:INICIO DEL SANTO TRIDUO PASCUAL \nDOMINGO DE RESURRECCIÓN \nA las 11.00 horas –> PROCESIÓN DEL ENCUENTRO: \nRecorrido: Ntra. Sra. de los Dolores: La Marquesa\, San Lucas\, Avda\, del Mar. \nRecorrido: Santísimo Sacramento: Plaza del Ayuntamiento\, La Marquesa\, Avda. del Mar.  ENCUENTRO
URL:https://www.losmontesinos.es/event/semana-santa-2019-16/
LOCATION:Plaza del Ayuntamiento\, Plaza del Ayuntamiento\, 1\, Los Montesinos\, Alicante\, 03187\, España
CATEGORIES:Semana Santa
ATTACH;FMTTYPE=image/jpeg:https://www.losmontesinos.es/wp-content/uploads/2019/03/Cartel-Semana-Santa-2019.jpg
END:VEVENT
BEGIN:VEVENT
DTSTART;TZID=Europe/Madrid:20190421T110000
DTEND;TZID=Europe/Madrid:20190421T133000
DTSTAMP:20260425T030416
CREATED:20190311T092541Z
LAST-MODIFIED:20190311T092541Z
UID:10003683-1555844400-1555853400@www.losmontesinos.es
SUMMARY:EASTER EVENTS 2019
DESCRIPTION:START OF THE THREE HOLY DAYS OF EASTER \nEASTER SUNDAY \n11.00 am –> PROCESSION OF THE ENCOUNTER.  \nFestivities will conclude with the celebration of Holy Mass.
URL:https://www.losmontesinos.es/event/semana-santa-2019-16-2/
LOCATION:Plaza del Ayuntamiento\, Plaza del Ayuntamiento\, 1\, Los Montesinos\, Alicante\, 03187\, España
ATTACH;FMTTYPE=image/jpeg:https://www.losmontesinos.es/wp-content/uploads/2019/03/Cartel-Semana-Santa-2019.jpg
END:VEVENT
BEGIN:VEVENT
DTSTART;TZID=Europe/Madrid:20190421T110000
DTEND;TZID=Europe/Madrid:20190421T133000
DTSTAMP:20260425T030416
CREATED:20190311T092541Z
LAST-MODIFIED:20190311T092541Z
UID:10003684-1555844400-1555853400@www.losmontesinos.es
SUMMARY:SEMANA SANTA 2019
DESCRIPTION:INICIO DEL SANTO TRIDUO PASCUAL \nDOMINGO DE RESURRECCIÓN \nA las 11.00 horas –> PROCESIÓN DEL ENCUENTRO: \nRecorrido: Ntra. Sra. de los Dolores: La Marquesa\, San Lucas\, Avda\, del Mar. \nRecorrido: Santísimo Sacramento: Plaza del Ayuntamiento\, La Marquesa\, Avda. del Mar.  ENCUENTRO
URL:https://www.losmontesinos.es/event/semana-santa-2019-16-3/
LOCATION:Plaza del Ayuntamiento\, Plaza del Ayuntamiento\, 1\, Los Montesinos\, Alicante\, 03187\, España
CATEGORIES:Semana Santa
ATTACH;FMTTYPE=image/jpeg:https://www.losmontesinos.es/wp-content/uploads/2019/03/Cartel-Semana-Santa-2019.jpg
END:VEVENT
BEGIN:VEVENT
DTSTART;TZID=Europe/Madrid:20190421T110000
DTEND;TZID=Europe/Madrid:20190421T133000
DTSTAMP:20260425T030416
CREATED:20190311T092541Z
LAST-MODIFIED:20190311T092541Z
UID:10003685-1555844400-1555853400@www.losmontesinos.es
SUMMARY:EASTER EVENTS 2019
DESCRIPTION:START OF THE THREE HOLY DAYS OF EASTER \nEASTER SUNDAY \n11.00 am –> PROCESSION OF THE ENCOUNTER.  \nFestivities will conclude with the celebration of Holy Mass.
URL:https://www.losmontesinos.es/event/semana-santa-2019-16-4/
LOCATION:Plaza del Ayuntamiento\, Plaza del Ayuntamiento\, 1\, Los Montesinos\, Alicante\, 03187\, España
ATTACH;FMTTYPE=image/jpeg:https://www.losmontesinos.es/wp-content/uploads/2019/03/Cartel-Semana-Santa-2019.jpg
END:VEVENT
BEGIN:VEVENT
DTSTART;TZID=Europe/Madrid:20190421T110000
DTEND;TZID=Europe/Madrid:20190421T133000
DTSTAMP:20260425T030416
CREATED:20190311T092541Z
LAST-MODIFIED:20190311T092541Z
UID:10003686-1555844400-1555853400@www.losmontesinos.es
SUMMARY:SEMANA SANTA 2019
DESCRIPTION:INICIO DEL SANTO TRIDUO PASCUAL \nDOMINGO DE RESURRECCIÓN \nA las 11.00 horas –> PROCESIÓN DEL ENCUENTRO: \nRecorrido: Ntra. Sra. de los Dolores: La Marquesa\, San Lucas\, Avda\, del Mar. \nRecorrido: Santísimo Sacramento: Plaza del Ayuntamiento\, La Marquesa\, Avda. del Mar.  ENCUENTRO
URL:https://www.losmontesinos.es/event/semana-santa-2019-16-5/
LOCATION:Plaza del Ayuntamiento\, Plaza del Ayuntamiento\, 1\, Los Montesinos\, Alicante\, 03187\, España
CATEGORIES:Semana Santa
ATTACH;FMTTYPE=image/jpeg:https://www.losmontesinos.es/wp-content/uploads/2019/03/Cartel-Semana-Santa-2019.jpg
END:VEVENT
BEGIN:VEVENT
DTSTART;TZID=Europe/Madrid:20190421T110000
DTEND;TZID=Europe/Madrid:20190421T133000
DTSTAMP:20260425T030416
CREATED:20190311T092541Z
LAST-MODIFIED:20190311T092541Z
UID:10003687-1555844400-1555853400@www.losmontesinos.es
SUMMARY:EASTER EVENTS 2019
DESCRIPTION:START OF THE THREE HOLY DAYS OF EASTER \nEASTER SUNDAY \n11.00 am –> PROCESSION OF THE ENCOUNTER.  \nFestivities will conclude with the celebration of Holy Mass.
URL:https://www.losmontesinos.es/event/semana-santa-2019-16-6/
LOCATION:Plaza del Ayuntamiento\, Plaza del Ayuntamiento\, 1\, Los Montesinos\, Alicante\, 03187\, España
ATTACH;FMTTYPE=image/jpeg:https://www.losmontesinos.es/wp-content/uploads/2019/03/Cartel-Semana-Santa-2019.jpg
END:VEVENT
BEGIN:VEVENT
DTSTART;TZID=Europe/Madrid:20190423T100000
DTEND;TZID=Europe/Madrid:20190426T130000
DTSTAMP:20260425T030416
CREATED:20190326T130821Z
LAST-MODIFIED:20190326T130821Z
UID:10003693-1556013600-1556283600@www.losmontesinos.es
SUMMARY:II CURSO INFORMÁTICA BÁSICA PARA PERSONAS ADULTAS
DESCRIPTION:SEMANA del    8 al 12 de abril de 2019–> WORD y EXCEL (se requieren conocimientos básicos)\nSEMANA del 23 al 26 de abril de 2019 –> INTERNET (correo electrónico\, buscadores\, redes sociales y procesador de textos) –> No son necesarios conocimientos previos.\n\nInscripciones GRATUITAS en el Ayuntamiento (hasta completar plazas).\n\nHorario de mañanas de 10.00 a 13.00 horas.
URL:https://www.losmontesinos.es/event/ii-curso-informatica-basica-para-personas-adultas-2/
LOCATION:Alicante
CATEGORIES:Formación
ATTACH;FMTTYPE=image/png:https://www.losmontesinos.es/wp-content/uploads/2019/03/segundo-curso-informatica-Los-Montesinos-2019.png
END:VEVENT
BEGIN:VEVENT
DTSTART;TZID=Europe/Madrid:20190423T100000
DTEND;TZID=Europe/Madrid:20190426T130000
DTSTAMP:20260425T030416
CREATED:20190326T130821Z
LAST-MODIFIED:20190326T130821Z
UID:10003694-1556013600-1556283600@www.losmontesinos.es
SUMMARY:II CURSO INFORMÁTICA BÁSICA PARA PERSONAS ADULTAS
DESCRIPTION:SEMANA del    8 al 12 de abril de 2019–> WORD y EXCEL (se requieren conocimientos básicos)\nSEMANA del 23 al 26 de abril de 2019 –> INTERNET (correo electrónico\, buscadores\, redes sociales y procesador de textos) –> No son necesarios conocimientos previos.\n\nInscripciones GRATUITAS en el Ayuntamiento (hasta completar plazas).\n\nHorario de mañanas de 10.00 a 13.00 horas.
URL:https://www.losmontesinos.es/event/ii-curso-informatica-basica-para-personas-adultas-2-2/
LOCATION:Alicante
CATEGORIES:Formación
ATTACH;FMTTYPE=image/png:https://www.losmontesinos.es/wp-content/uploads/2019/03/segundo-curso-informatica-Los-Montesinos-2019.png
END:VEVENT
BEGIN:VEVENT
DTSTART;TZID=Europe/Madrid:20190423T100000
DTEND;TZID=Europe/Madrid:20190426T130000
DTSTAMP:20260425T030416
CREATED:20190326T130821Z
LAST-MODIFIED:20190326T130821Z
UID:10003695-1556013600-1556283600@www.losmontesinos.es
SUMMARY:II CURSO INFORMÁTICA BÁSICA PARA PERSONAS ADULTAS
DESCRIPTION:SEMANA del    8 al 12 de abril de 2019–> WORD y EXCEL (se requieren conocimientos básicos)\nSEMANA del 23 al 26 de abril de 2019 –> INTERNET (correo electrónico\, buscadores\, redes sociales y procesador de textos) –> No son necesarios conocimientos previos.\n\nInscripciones GRATUITAS en el Ayuntamiento (hasta completar plazas).\n\nHorario de mañanas de 10.00 a 13.00 horas.
URL:https://www.losmontesinos.es/event/ii-curso-informatica-basica-para-personas-adultas-2-3/
LOCATION:Alicante
CATEGORIES:Formación
ATTACH;FMTTYPE=image/png:https://www.losmontesinos.es/wp-content/uploads/2019/03/segundo-curso-informatica-Los-Montesinos-2019.png
END:VEVENT
BEGIN:VEVENT
DTSTART;TZID=Europe/Madrid:20190423T193000
DTEND;TZID=Europe/Madrid:20190423T213000
DTSTAMP:20260425T030416
CREATED:20190411T102005Z
LAST-MODIFIED:20190411T102005Z
UID:10003718-1556047800-1556055000@www.losmontesinos.es
SUMMARY:EL PROXENETA: PASO CORTO\, MALA LECHE -DOCUMENTAL-
DESCRIPTION:‘Cuando tu cuerpo vale 5€ tu vida no vale nada’\n-La exclavitud del Siglo XXI-\nMartes 23 de abril\, a las 19.30 horas\, en el Auditorio de la Escuela de Música y Cultura de Los Montesinos\, proyección del documental: ‘El Proxeneta: Paso corto\, Mala leche’.\nAl finalizar la proyección habrá un espacio de debate sobre el gran negocio de la prostitución y nos acompañará Mabel Lozano.\nEntrada gratuita\, aforo limitado.\nConcejalía de Igualdad\,  Ayuntamiento de Los Montesinos \nDiputación Provincial de Alicante \nMinisterio de la Presidencia\, Relaciones con las Cortes e Igualdad \nPacto de Estado contra la Violencia de Género
URL:https://www.losmontesinos.es/event/el-proxeneta-paso-corto-mala-leche-documental/
LOCATION:Escuela municipal de Música y Cultura (Auditorio municipal)\, C/ Zaragoza\, 5\, Los Montesinos\, Alicante\, 03187\, España
CATEGORIES:Eventos
ATTACH;FMTTYPE=image/jpeg:https://www.losmontesinos.es/wp-content/uploads/2019/04/CARTEL-EL-PROXENETA-scaled.jpg
END:VEVENT
BEGIN:VEVENT
DTSTART;TZID=Europe/Madrid:20190423T193000
DTEND;TZID=Europe/Madrid:20190423T213000
DTSTAMP:20260425T030416
CREATED:20190411T102005Z
LAST-MODIFIED:20190411T102005Z
UID:10003719-1556047800-1556055000@www.losmontesinos.es
SUMMARY:EL PROXENETA: PASO CORTO\, MALA LECHE -DOCUMENTAL-
DESCRIPTION:‘Cuando tu cuerpo vale 5€ tu vida no vale nada’\n-La exclavitud del Siglo XXI-\nMartes 23 de abril\, a las 19.30 horas\, en el Auditorio de la Escuela de Música y Cultura de Los Montesinos\, proyección del documental: ‘El Proxeneta: Paso corto\, Mala leche’.\nAl finalizar la proyección habrá un espacio de debate sobre el gran negocio de la prostitución y nos acompañará Mabel Lozano.\nEntrada gratuita\, aforo limitado.\nConcejalía de Igualdad\,  Ayuntamiento de Los Montesinos \nDiputación Provincial de Alicante \nMinisterio de la Presidencia\, Relaciones con las Cortes e Igualdad \nPacto de Estado contra la Violencia de Género
URL:https://www.losmontesinos.es/event/el-proxeneta-paso-corto-mala-leche-documental-2/
LOCATION:Escuela municipal de Música y Cultura (Auditorio municipal)\, C/ Zaragoza\, 5\, Los Montesinos\, Alicante\, 03187\, España
ATTACH;FMTTYPE=image/jpeg:https://www.losmontesinos.es/wp-content/uploads/2019/04/CARTEL-EL-PROXENETA-scaled.jpg
END:VEVENT
BEGIN:VEVENT
DTSTART;TZID=Europe/Madrid:20190423T193000
DTEND;TZID=Europe/Madrid:20190423T213000
DTSTAMP:20260425T030416
CREATED:20190411T102005Z
LAST-MODIFIED:20190411T102005Z
UID:10003720-1556047800-1556055000@www.losmontesinos.es
SUMMARY:EL PROXENETA: PASO CORTO\, MALA LECHE -DOCUMENTAL-
DESCRIPTION:‘Cuando tu cuerpo vale 5€ tu vida no vale nada’\n-La exclavitud del Siglo XXI-\nMartes 23 de abril\, a las 19.30 horas\, en el Auditorio de la Escuela de Música y Cultura de Los Montesinos\, proyección del documental: ‘El Proxeneta: Paso corto\, Mala leche’.\nAl finalizar la proyección habrá un espacio de debate sobre el gran negocio de la prostitución y nos acompañará Mabel Lozano.\nEntrada gratuita\, aforo limitado.\nConcejalía de Igualdad\,  Ayuntamiento de Los Montesinos \nDiputación Provincial de Alicante \nMinisterio de la Presidencia\, Relaciones con las Cortes e Igualdad \nPacto de Estado contra la Violencia de Género
URL:https://www.losmontesinos.es/event/el-proxeneta-paso-corto-mala-leche-documental-3/
LOCATION:Escuela municipal de Música y Cultura (Auditorio municipal)\, C/ Zaragoza\, 5\, Los Montesinos\, Alicante\, 03187\, España
CATEGORIES:Eventos
ATTACH;FMTTYPE=image/jpeg:https://www.losmontesinos.es/wp-content/uploads/2019/04/CARTEL-EL-PROXENETA-scaled.jpg
END:VEVENT
END:VCALENDAR