BEGIN:VCALENDAR
VERSION:2.0
PRODID:-//Ayuntamiento - ECPv6.15.15//NONSGML v1.0//EN
CALSCALE:GREGORIAN
METHOD:PUBLISH
X-WR-CALNAME:Ayuntamiento
X-ORIGINAL-URL:https://www.losmontesinos.es
X-WR-CALDESC:Eventos para Ayuntamiento
REFRESH-INTERVAL;VALUE=DURATION:PT1H
X-Robots-Tag:noindex
X-PUBLISHED-TTL:PT1H
BEGIN:VTIMEZONE
TZID:Europe/Madrid
BEGIN:DAYLIGHT
TZOFFSETFROM:+0100
TZOFFSETTO:+0200
TZNAME:CEST
DTSTART:20180325T010000
END:DAYLIGHT
BEGIN:STANDARD
TZOFFSETFROM:+0200
TZOFFSETTO:+0100
TZNAME:CET
DTSTART:20181028T010000
END:STANDARD
BEGIN:DAYLIGHT
TZOFFSETFROM:+0100
TZOFFSETTO:+0200
TZNAME:CEST
DTSTART:20190331T010000
END:DAYLIGHT
BEGIN:STANDARD
TZOFFSETFROM:+0200
TZOFFSETTO:+0100
TZNAME:CET
DTSTART:20191027T010000
END:STANDARD
BEGIN:DAYLIGHT
TZOFFSETFROM:+0100
TZOFFSETTO:+0200
TZNAME:CEST
DTSTART:20200329T010000
END:DAYLIGHT
BEGIN:STANDARD
TZOFFSETFROM:+0200
TZOFFSETTO:+0100
TZNAME:CET
DTSTART:20201025T010000
END:STANDARD
END:VTIMEZONE
BEGIN:VEVENT
DTSTART;TZID=Europe/Madrid:20190701T083000
DTEND;TZID=Europe/Madrid:20190731T130000
DTSTAMP:20260425T043921
CREATED:20190603T112615Z
LAST-MODIFIED:20190603T112615Z
UID:10003748-1561969800-1564578000@www.losmontesinos.es
SUMMARY:ESCUELA DEPORTIVA DE VERANO
DESCRIPTION:Del 1 al 31 de julio\, en horario de 8.30 – 9.00 a 13.00 horas (previa matrícula en el Ayuntamiento) \nLugar: Instalaciones Deportivas Municipales \nEdad: de 4 a 16 años (nacidos/as de 2003 a 2015) \n 
URL:https://www.losmontesinos.es/event/escuela-deportiva-de-verano/
LOCATION:Instalaciones municipales deportivas\, Partida Los Miras\, s/n\, Los Montesinos\, Alicante\, 03187\, España
CATEGORIES:Deportes
ATTACH;FMTTYPE=image/jpeg:https://www.losmontesinos.es/wp-content/uploads/2019/06/cartel-verano-deportivo-Los-Montesinos-2019.jpg
END:VEVENT
BEGIN:VEVENT
DTSTART;TZID=Europe/Madrid:20190701T083000
DTEND;TZID=Europe/Madrid:20190731T130000
DTSTAMP:20260425T043921
CREATED:20190603T112615Z
LAST-MODIFIED:20190603T112615Z
UID:10003749-1561969800-1564578000@www.losmontesinos.es
SUMMARY:ESCUELA DEPORTIVA DE VERANO
DESCRIPTION:Del 1 al 31 de julio\, en horario de 8.30 – 9.00 a 13.00 horas (previa matrícula en el Ayuntamiento) \nLugar: Instalaciones Deportivas Municipales \nEdad: de 4 a 16 años (nacidos/as de 2003 a 2015) \n 
URL:https://www.losmontesinos.es/event/escuela-deportiva-de-verano-2/
LOCATION:Instalaciones municipales deportivas\, Partida Los Miras\, s/n\, Los Montesinos\, Alicante\, 03187\, España
CATEGORIES:Deportes
ATTACH;FMTTYPE=image/jpeg:https://www.losmontesinos.es/wp-content/uploads/2019/06/cartel-verano-deportivo-Los-Montesinos-2019.jpg
END:VEVENT
BEGIN:VEVENT
DTSTART;TZID=Europe/Madrid:20190701T083000
DTEND;TZID=Europe/Madrid:20190731T130000
DTSTAMP:20260425T043921
CREATED:20190603T112615Z
LAST-MODIFIED:20190603T112615Z
UID:10003750-1561969800-1564578000@www.losmontesinos.es
SUMMARY:ESCUELA DEPORTIVA DE VERANO
DESCRIPTION:Del 1 al 31 de julio\, en horario de 8.30 – 9.00 a 13.00 horas (previa matrícula en el Ayuntamiento) \nLugar: Instalaciones Deportivas Municipales \nEdad: de 4 a 16 años (nacidos/as de 2003 a 2015) \n 
URL:https://www.losmontesinos.es/event/escuela-deportiva-de-verano-3/
LOCATION:Instalaciones municipales deportivas\, Partida Los Miras\, s/n\, Los Montesinos\, Alicante\, 03187\, España
CATEGORIES:Deportes
ATTACH;FMTTYPE=image/jpeg:https://www.losmontesinos.es/wp-content/uploads/2019/06/cartel-verano-deportivo-Los-Montesinos-2019.jpg
END:VEVENT
BEGIN:VEVENT
DTSTART;TZID=Europe/Madrid:20190708T000000
DTEND;TZID=Europe/Madrid:20190726T000000
DTSTAMP:20260425T043921
CREATED:20190603T110807Z
LAST-MODIFIED:20190603T110807Z
UID:10003742-1562544000-1564099200@www.losmontesinos.es
SUMMARY:CURSOS DE NATACIÓN
DESCRIPTION:Bebés – Niños – Adultos (previa inscripción) \nDel 8 al 26 de julio (diferentes horarios) \nDel 5 al 23 de agosto (diferentes horarios)
URL:https://www.losmontesinos.es/event/cursos-de-natacion/
LOCATION:Piscina municipal\, Partida Los Miras\, s/n\, Los Montesinos\, Alicante\, 03187\, España
CATEGORIES:Servicios
ATTACH;FMTTYPE=image/jpeg:https://www.losmontesinos.es/wp-content/uploads/2019/06/cartel-verano-deportivo-Los-Montesinos-2019.jpg
END:VEVENT
BEGIN:VEVENT
DTSTART;TZID=Europe/Madrid:20190708T000000
DTEND;TZID=Europe/Madrid:20190726T000000
DTSTAMP:20260425T043921
CREATED:20190603T110807Z
LAST-MODIFIED:20190603T110807Z
UID:10003743-1562544000-1564099200@www.losmontesinos.es
SUMMARY:CURSOS DE NATACIÓN
DESCRIPTION:Bebés – Niños – Adultos (previa inscripción) \nDel 8 al 26 de julio (diferentes horarios) \nDel 5 al 23 de agosto (diferentes horarios)
URL:https://www.losmontesinos.es/event/cursos-de-natacion-3/
LOCATION:Piscina municipal\, Partida Los Miras\, s/n\, Los Montesinos\, Alicante\, 03187\, España
CATEGORIES:Servicios
ATTACH;FMTTYPE=image/jpeg:https://www.losmontesinos.es/wp-content/uploads/2019/06/cartel-verano-deportivo-Los-Montesinos-2019.jpg
END:VEVENT
BEGIN:VEVENT
DTSTART;TZID=Europe/Madrid:20190708T000000
DTEND;TZID=Europe/Madrid:20190726T000000
DTSTAMP:20260425T043921
CREATED:20190603T110807Z
LAST-MODIFIED:20190603T110807Z
UID:10003744-1562544000-1564099200@www.losmontesinos.es
SUMMARY:CURSOS DE NATACIÓN
DESCRIPTION:Bebés – Niños – Adultos (previa inscripción) \nDel 8 al 26 de julio (diferentes horarios) \nDel 5 al 23 de agosto (diferentes horarios)
URL:https://www.losmontesinos.es/event/cursos-de-natacion-4/
LOCATION:Piscina municipal\, Partida Los Miras\, s/n\, Los Montesinos\, Alicante\, 03187\, España
CATEGORIES:Servicios
ATTACH;FMTTYPE=image/jpeg:https://www.losmontesinos.es/wp-content/uploads/2019/06/cartel-verano-deportivo-Los-Montesinos-2019.jpg
END:VEVENT
BEGIN:VEVENT
DTSTART;TZID=Europe/Madrid:20190722T170000
DTEND;TZID=Europe/Madrid:20190722T203000
DTSTAMP:20260425T043921
CREATED:20190719T110039Z
LAST-MODIFIED:20190719T110039Z
UID:10004387-1563814800-1563827400@www.losmontesinos.es
SUMMARY:DONACIÓN DE SANGRE
DESCRIPTION:DONANTERS\, La Red Más Social \n-Concejalía de Sanidad- \nEn época estival aumenta la necesidad de sangre en los hospitales y\, para poder atender esta demanda\, se solicita la colaboración ciudadana. \nDe 17.00 a 20.30h. en el Centro Cívico y Social de #LosMontesinos \nMás información en: https://www.centro-transfusion.san.gva.es
URL:https://www.losmontesinos.es/event/donacion-de-sangre-3/
LOCATION:Centro Cívico y Social (Hogar del Jubilado)\, Plaza del Ayuntamiento\, 2\, Los Montesinos\, Alicante\, 03187\, España
CATEGORIES:Bienestar Social
ATTACH;FMTTYPE=image/jpeg:https://www.losmontesinos.es/wp-content/uploads/2019/07/Donacion-Sangre-Julio-Los-Montesinos-2019.jpg
END:VEVENT
BEGIN:VEVENT
DTSTART;TZID=Europe/Madrid:20190722T170000
DTEND;TZID=Europe/Madrid:20190722T203000
DTSTAMP:20260425T043921
CREATED:20190719T110039Z
LAST-MODIFIED:20190719T110039Z
UID:10004388-1563814800-1563827400@www.losmontesinos.es
SUMMARY:DONACIÓN DE SANGRE
DESCRIPTION:DONANTERS\, La Red Más Social \n-Concejalía de Sanidad- \nEn época estival aumenta la necesidad de sangre en los hospitales y\, para poder atender esta demanda\, se solicita la colaboración ciudadana. \nDe 17.00 a 20.30h. en el Centro Cívico y Social de #LosMontesinos \nMás información en: https://www.centro-transfusion.san.gva.es
URL:https://www.losmontesinos.es/event/donacion-de-sangre-3-2/
LOCATION:Centro Cívico y Social (Hogar del Jubilado)\, Plaza del Ayuntamiento\, 2\, Los Montesinos\, Alicante\, 03187\, España
CATEGORIES:Bienestar Social
ATTACH;FMTTYPE=image/jpeg:https://www.losmontesinos.es/wp-content/uploads/2019/07/Donacion-Sangre-Julio-Los-Montesinos-2019.jpg
END:VEVENT
BEGIN:VEVENT
DTSTART;TZID=Europe/Madrid:20190722T170000
DTEND;TZID=Europe/Madrid:20190722T203000
DTSTAMP:20260425T043921
CREATED:20190719T110039Z
LAST-MODIFIED:20190719T110039Z
UID:10004389-1563814800-1563827400@www.losmontesinos.es
SUMMARY:DONACIÓN DE SANGRE
DESCRIPTION:DONANTERS\, La Red Más Social \n-Concejalía de Sanidad- \nEn época estival aumenta la necesidad de sangre en los hospitales y\, para poder atender esta demanda\, se solicita la colaboración ciudadana. \nDe 17.00 a 20.30h. en el Centro Cívico y Social de #LosMontesinos \nMás información en: https://www.centro-transfusion.san.gva.es
URL:https://www.losmontesinos.es/event/donacion-de-sangre-3-3/
LOCATION:Centro Cívico y Social (Hogar del Jubilado)\, Plaza del Ayuntamiento\, 2\, Los Montesinos\, Alicante\, 03187\, España
CATEGORIES:Bienestar Social
ATTACH;FMTTYPE=image/jpeg:https://www.losmontesinos.es/wp-content/uploads/2019/07/Donacion-Sangre-Julio-Los-Montesinos-2019.jpg
END:VEVENT
BEGIN:VEVENT
DTSTART;TZID=Europe/Madrid:20190725T190000
DTEND;TZID=Europe/Madrid:20190725T220000
DTSTAMP:20260425T043921
CREATED:20190719T083252Z
LAST-MODIFIED:20190719T083252Z
UID:10003771-1564081200-1564092000@www.losmontesinos.es
SUMMARY:FIESTAS DE LA SEGREGACIÓN 2019
DESCRIPTION:XXIX FIESTAS DE LA SEGREGACIÓN de LOS MONTESINOS\,\ndel 25 al 30 de julio de 2019\nA partir de las 19.00 horas\, Fiesta Infantil de agua y espuma en la Plaza del Ayuntamiento\, con hinchables y diversión para niños y niñas de 3 a 14 años.
URL:https://www.losmontesinos.es/event/fiestas-de-la-segregacion-2019-8/
LOCATION:Plaza del Ayuntamiento\, Plaza del Ayuntamiento\, 1\, Los Montesinos\, Alicante\, 03187\, España
CATEGORIES:Fiestas Patronales
ATTACH;FMTTYPE=image/jpeg:https://www.losmontesinos.es/wp-content/uploads/2019/07/Cartel-Fiestas-Segregacion-Los-Montesinos-2019-scaled.jpg
END:VEVENT
BEGIN:VEVENT
DTSTART;TZID=Europe/Madrid:20190725T190000
DTEND;TZID=Europe/Madrid:20190725T220000
DTSTAMP:20260425T043921
CREATED:20190719T083252Z
LAST-MODIFIED:20190719T083252Z
UID:10004379-1564081200-1564092000@www.losmontesinos.es
SUMMARY:FIESTAS DE LA SEGREGACIÓN 2019
DESCRIPTION:XXIX FIESTAS DE LA SEGREGACIÓN de LOS MONTESINOS\,\ndel 25 al 30 de julio de 2019\nA partir de las 19.00 horas\, Fiesta Infantil de agua y espuma en la Plaza del Ayuntamiento\, con hinchables y diversión para niños y niñas de 3 a 14 años.
URL:https://www.losmontesinos.es/event/fiestas-de-la-segregacion-2019/
LOCATION:Plaza del Ayuntamiento\, Plaza del Ayuntamiento\, 1\, Los Montesinos\, Alicante\, 03187\, España
CATEGORIES:Fiestas Patronales
ATTACH;FMTTYPE=image/jpeg:https://www.losmontesinos.es/wp-content/uploads/2019/07/Cartel-Fiestas-Segregacion-Los-Montesinos-2019-scaled.jpg
END:VEVENT
BEGIN:VEVENT
DTSTART;TZID=Europe/Madrid:20190725T190000
DTEND;TZID=Europe/Madrid:20190725T220000
DTSTAMP:20260425T043921
CREATED:20190719T083252Z
LAST-MODIFIED:20190719T083252Z
UID:10004380-1564081200-1564092000@www.losmontesinos.es
SUMMARY:FIESTAS DE LA SEGREGACIÓN 2019
DESCRIPTION:XXIX FIESTAS DE LA SEGREGACIÓN de LOS MONTESINOS\,\ndel 25 al 30 de julio de 2019\nA partir de las 19.00 horas\, Fiesta Infantil de agua y espuma en la Plaza del Ayuntamiento\, con hinchables y diversión para niños y niñas de 3 a 14 años.
URL:https://www.losmontesinos.es/event/fiestas-de-la-segregacion-2019-7/
LOCATION:Plaza del Ayuntamiento\, Plaza del Ayuntamiento\, 1\, Los Montesinos\, Alicante\, 03187\, España
CATEGORIES:Fiestas Patronales
ATTACH;FMTTYPE=image/jpeg:https://www.losmontesinos.es/wp-content/uploads/2019/07/Cartel-Fiestas-Segregacion-Los-Montesinos-2019-scaled.jpg
END:VEVENT
BEGIN:VEVENT
DTSTART;TZID=Europe/Madrid:20190726T190000
DTEND;TZID=Europe/Madrid:20190726T235900
DTSTAMP:20260425T043921
CREATED:20190719T083926Z
LAST-MODIFIED:20190719T083926Z
UID:10003772-1564167600-1564185540@www.losmontesinos.es
SUMMARY:FIESTAS DE LA SEGREGACIÓN 2019
DESCRIPTION:XXIX FIESTAS DE LA SEGREGACIÓN de LOS MONTESINOS\,\ndel 25 al 30 de julio de 2019\nA las 19.00h. Animación Infantil en la Avenida de La Marquesa. \nA las 21.00h. Degustación de productos típicos locales en la Plaza del Ayuntamiento. Colaboran las Panaderías Torregrosa\, Rodríguez y Montesinos y los Supermercados Queremón\, Nicasio y SPAR. \nA las 22.00h. Actuación del Grupo ‘EVEREST’.
URL:https://www.losmontesinos.es/event/fiestas-de-la-segregacion-2019-2/
LOCATION:Alicante
CATEGORIES:Fiestas Patronales
ATTACH;FMTTYPE=image/jpeg:https://www.losmontesinos.es/wp-content/uploads/2019/07/Cartel-Fiestas-Segregacion-Los-Montesinos-2019-scaled.jpg
END:VEVENT
BEGIN:VEVENT
DTSTART;TZID=Europe/Madrid:20190726T190000
DTEND;TZID=Europe/Madrid:20190726T235900
DTSTAMP:20260425T043921
CREATED:20190719T083926Z
LAST-MODIFIED:20190719T083926Z
UID:10003773-1564167600-1564185540@www.losmontesinos.es
SUMMARY:FIESTAS DE LA SEGREGACIÓN 2019
DESCRIPTION:XXIX FIESTAS DE LA SEGREGACIÓN de LOS MONTESINOS\,\ndel 25 al 30 de julio de 2019\nA las 19.00h. Animación Infantil en la Avenida de La Marquesa. \nA las 21.00h. Degustación de productos típicos locales en la Plaza del Ayuntamiento. Colaboran las Panaderías Torregrosa\, Rodríguez y Montesinos y los Supermercados Queremón\, Nicasio y SPAR. \nA las 22.00h. Actuación del Grupo ‘EVEREST’.
URL:https://www.losmontesinos.es/event/fiestas-de-la-segregacion-2019-2-2/
LOCATION:Alicante
CATEGORIES:Fiestas Patronales
ATTACH;FMTTYPE=image/jpeg:https://www.losmontesinos.es/wp-content/uploads/2019/07/Cartel-Fiestas-Segregacion-Los-Montesinos-2019-scaled.jpg
END:VEVENT
BEGIN:VEVENT
DTSTART;TZID=Europe/Madrid:20190726T190000
DTEND;TZID=Europe/Madrid:20190726T235900
DTSTAMP:20260425T043921
CREATED:20190719T083926Z
LAST-MODIFIED:20190719T083926Z
UID:10003774-1564167600-1564185540@www.losmontesinos.es
SUMMARY:FIESTAS DE LA SEGREGACIÓN 2019
DESCRIPTION:XXIX FIESTAS DE LA SEGREGACIÓN de LOS MONTESINOS\,\ndel 25 al 30 de julio de 2019\nA las 19.00h. Animación Infantil en la Avenida de La Marquesa. \nA las 21.00h. Degustación de productos típicos locales en la Plaza del Ayuntamiento. Colaboran las Panaderías Torregrosa\, Rodríguez y Montesinos y los Supermercados Queremón\, Nicasio y SPAR. \nA las 22.00h. Actuación del Grupo ‘EVEREST’.
URL:https://www.losmontesinos.es/event/fiestas-de-la-segregacion-2019-2-3/
LOCATION:Alicante
CATEGORIES:Fiestas Patronales
ATTACH;FMTTYPE=image/jpeg:https://www.losmontesinos.es/wp-content/uploads/2019/07/Cartel-Fiestas-Segregacion-Los-Montesinos-2019-scaled.jpg
END:VEVENT
BEGIN:VEVENT
DTSTART;TZID=Europe/Madrid:20190727T000000
DTEND;TZID=Europe/Madrid:20190727T000000
DTSTAMP:20260425T043921
CREATED:20190603T110053Z
LAST-MODIFIED:20190603T110053Z
UID:10003741-1564185600-1564185600@www.losmontesinos.es
SUMMARY:GALA DEL DEPORTE PARA TOD@S
DESCRIPTION:A LAS 10.00h.\,  Funcional Trainning (Deisa Wellnes Center). \nA las 11.00h.\, Senior (Gimnasio Ballesta). \nA las 11.30h.\, Zumba y Aero Dance (Gimnasio Ballesta). \nA las 12.00h.\, Aquagym (Gimnasio Ballesta). \nA partir de las 16.15h. y hasta las 21.15h.\, Sesiones de Ciclo Indoor. \nA las 23.00h.\, Barbacoa. \nA partir de las 00.15h.\, Fiesta Ibicenca.
URL:https://www.losmontesinos.es/event/gala-del-deporte-para-tods-3/
LOCATION:Alicante
CATEGORIES:Eventos
ATTACH;FMTTYPE=image/jpeg:https://www.losmontesinos.es/wp-content/uploads/2019/07/Cartel-Gala-Deporte-Los-Montesinos-2019.jpg
END:VEVENT
BEGIN:VEVENT
DTSTART;TZID=Europe/Madrid:20190727T000000
DTEND;TZID=Europe/Madrid:20190727T000000
DTSTAMP:20260425T043921
CREATED:20190603T110053Z
LAST-MODIFIED:20190603T110053Z
UID:10004349-1564185600-1564185600@www.losmontesinos.es
SUMMARY:GALA DEL DEPORTE PARA TOD@S
DESCRIPTION:A LAS 10.00h.\,  Funcional Trainning (Deisa Wellnes Center). \nA las 11.00h.\, Senior (Gimnasio Ballesta). \nA las 11.30h.\, Zumba y Aero Dance (Gimnasio Ballesta). \nA las 12.00h.\, Aquagym (Gimnasio Ballesta). \nA partir de las 16.15h. y hasta las 21.15h.\, Sesiones de Ciclo Indoor. \nA las 23.00h.\, Barbacoa. \nA partir de las 00.15h.\, Fiesta Ibicenca.
URL:https://www.losmontesinos.es/event/gala-del-deporte-para-tods/
LOCATION:Alicante
CATEGORIES:Eventos
ATTACH;FMTTYPE=image/jpeg:https://www.losmontesinos.es/wp-content/uploads/2019/07/Cartel-Gala-Deporte-Los-Montesinos-2019.jpg
END:VEVENT
BEGIN:VEVENT
DTSTART;TZID=Europe/Madrid:20190727T000000
DTEND;TZID=Europe/Madrid:20190727T000000
DTSTAMP:20260425T043921
CREATED:20190603T110053Z
LAST-MODIFIED:20190603T110053Z
UID:10004350-1564185600-1564185600@www.losmontesinos.es
SUMMARY:GALA DEL DEPORTE PARA TOD@S
DESCRIPTION:A LAS 10.00h.\,  Funcional Trainning (Deisa Wellnes Center). \nA las 11.00h.\, Senior (Gimnasio Ballesta). \nA las 11.30h.\, Zumba y Aero Dance (Gimnasio Ballesta). \nA las 12.00h.\, Aquagym (Gimnasio Ballesta). \nA partir de las 16.15h. y hasta las 21.15h.\, Sesiones de Ciclo Indoor. \nA las 23.00h.\, Barbacoa. \nA partir de las 00.15h.\, Fiesta Ibicenca.
URL:https://www.losmontesinos.es/event/gala-del-deporte-para-tods-2/
LOCATION:Alicante
CATEGORIES:Eventos
ATTACH;FMTTYPE=image/jpeg:https://www.losmontesinos.es/wp-content/uploads/2019/07/Cartel-Gala-Deporte-Los-Montesinos-2019.jpg
END:VEVENT
BEGIN:VEVENT
DTSTART;TZID=Europe/Madrid:20190727T220000
DTEND;TZID=Europe/Madrid:20190727T235900
DTSTAMP:20260425T043921
CREATED:20190719T085521Z
LAST-MODIFIED:20190719T085521Z
UID:10003775-1564264800-1564271940@www.losmontesinos.es
SUMMARY:FIESTAS DE LA SEGREGACIÓN 2019
DESCRIPTION:XXIX FIESTAS DE LA SEGREGACIÓN de LOS MONTESINOS\,\ndel 25 al 30 de julio de 2019\nDurante todo el día Gala del Deporte para todos/as: maratón ciclo indoor\, pilates\, bodyjump\, agua gym\, funcional training\, zumba. Organiza: Concejalía de Deportes. \nA las 22.00h. Actuación del Grupo ‘THE NEW WAVE’\, éxitos del pop rock nacional e internacional en la Plaza Sagrado Corazón. \nA las 22.30h. Elección de Reinas y Damas de las Fiestas Patronales 2019. \n 
URL:https://www.losmontesinos.es/event/fiestas-de-la-segregacion-2019-3/
LOCATION:Plaza Sagrado Corazón de Jesús de Los Montesinos\, Plaza Sagrado Corazón\, 1\, Los Montesinos\, Alicante\, 03187\, España
CATEGORIES:Fiestas Patronales
ATTACH;FMTTYPE=image/jpeg:https://www.losmontesinos.es/wp-content/uploads/2019/07/Cartel-Fiestas-Segregacion-Los-Montesinos-2019-scaled.jpg
END:VEVENT
BEGIN:VEVENT
DTSTART;TZID=Europe/Madrid:20190727T220000
DTEND;TZID=Europe/Madrid:20190727T235900
DTSTAMP:20260425T043921
CREATED:20190719T085521Z
LAST-MODIFIED:20190719T085521Z
UID:10003776-1564264800-1564271940@www.losmontesinos.es
SUMMARY:FIESTAS DE LA SEGREGACIÓN 2019
DESCRIPTION:XXIX FIESTAS DE LA SEGREGACIÓN de LOS MONTESINOS\,\ndel 25 al 30 de julio de 2019\nDurante todo el día Gala del Deporte para todos/as: maratón ciclo indoor\, pilates\, bodyjump\, agua gym\, funcional training\, zumba. Organiza: Concejalía de Deportes. \nA las 22.00h. Actuación del Grupo ‘THE NEW WAVE’\, éxitos del pop rock nacional e internacional en la Plaza Sagrado Corazón. \nA las 22.30h. Elección de Reinas y Damas de las Fiestas Patronales 2019. \n 
URL:https://www.losmontesinos.es/event/fiestas-de-la-segregacion-2019-3-2/
LOCATION:Plaza Sagrado Corazón de Jesús de Los Montesinos\, Plaza Sagrado Corazón\, 1\, Los Montesinos\, Alicante\, 03187\, España
CATEGORIES:Fiestas Patronales
ATTACH;FMTTYPE=image/jpeg:https://www.losmontesinos.es/wp-content/uploads/2019/07/Cartel-Fiestas-Segregacion-Los-Montesinos-2019-scaled.jpg
END:VEVENT
BEGIN:VEVENT
DTSTART;TZID=Europe/Madrid:20190727T220000
DTEND;TZID=Europe/Madrid:20190727T235900
DTSTAMP:20260425T043921
CREATED:20190719T085521Z
LAST-MODIFIED:20190719T085521Z
UID:10003777-1564264800-1564271940@www.losmontesinos.es
SUMMARY:FIESTAS DE LA SEGREGACIÓN 2019
DESCRIPTION:XXIX FIESTAS DE LA SEGREGACIÓN de LOS MONTESINOS\,\ndel 25 al 30 de julio de 2019\nDurante todo el día Gala del Deporte para todos/as: maratón ciclo indoor\, pilates\, bodyjump\, agua gym\, funcional training\, zumba. Organiza: Concejalía de Deportes. \nA las 22.00h. Actuación del Grupo ‘THE NEW WAVE’\, éxitos del pop rock nacional e internacional en la Plaza Sagrado Corazón. \nA las 22.30h. Elección de Reinas y Damas de las Fiestas Patronales 2019. \n 
URL:https://www.losmontesinos.es/event/fiestas-de-la-segregacion-2019-3-3/
LOCATION:Plaza Sagrado Corazón de Jesús de Los Montesinos\, Plaza Sagrado Corazón\, 1\, Los Montesinos\, Alicante\, 03187\, España
CATEGORIES:Fiestas Patronales
ATTACH;FMTTYPE=image/jpeg:https://www.losmontesinos.es/wp-content/uploads/2019/07/Cartel-Fiestas-Segregacion-Los-Montesinos-2019-scaled.jpg
END:VEVENT
BEGIN:VEVENT
DTSTART;TZID=Europe/Madrid:20190728T090000
DTEND;TZID=Europe/Madrid:20190728T210000
DTSTAMP:20260425T043921
CREATED:20190719T092113Z
LAST-MODIFIED:20190719T092113Z
UID:10003778-1564304400-1564347600@www.losmontesinos.es
SUMMARY:FIESTAS DE LA SEGREGACIÓN 2019
DESCRIPTION:XXIX FIESTAS DE LA SEGREGACIÓN de LOS MONTESINOS\,\ndel 25 al 30 de julio de 2019\nDe 9.00 a 11.00h.\, Concentración de motos y coches antiguos a cargo del Club de Motos y Coches Antiguos de Los Montesinos. Lugar: Avenida de La Marquesa. \nDe 17.30h. a 21.00h. GRAN ‘COCO SPLASH’\, divertida gymkana acuática por equipos. Recomendada para mayores de 14 años (inscripciones en el Ayuntamiento).
URL:https://www.losmontesinos.es/event/fiestas-de-la-segregacion-2019-4/
LOCATION:Avda. de La Marquesa de Los Montesinos\, Avda. de La Marquesa\, Los Montesinos\, Alicante\, 03187\, España
CATEGORIES:Fiestas Patronales
ATTACH;FMTTYPE=image/jpeg:https://www.losmontesinos.es/wp-content/uploads/2019/07/Cartel-Fiestas-Segregacion-Los-Montesinos-2019-scaled.jpg
END:VEVENT
BEGIN:VEVENT
DTSTART;TZID=Europe/Madrid:20190728T090000
DTEND;TZID=Europe/Madrid:20190728T210000
DTSTAMP:20260425T043921
CREATED:20190719T092113Z
LAST-MODIFIED:20190719T092113Z
UID:10003779-1564304400-1564347600@www.losmontesinos.es
SUMMARY:FIESTAS DE LA SEGREGACIÓN 2019
DESCRIPTION:XXIX FIESTAS DE LA SEGREGACIÓN de LOS MONTESINOS\,\ndel 25 al 30 de julio de 2019\nDe 9.00 a 11.00h.\, Concentración de motos y coches antiguos a cargo del Club de Motos y Coches Antiguos de Los Montesinos. Lugar: Avenida de La Marquesa. \nDe 17.30h. a 21.00h. GRAN ‘COCO SPLASH’\, divertida gymkana acuática por equipos. Recomendada para mayores de 14 años (inscripciones en el Ayuntamiento).
URL:https://www.losmontesinos.es/event/fiestas-de-la-segregacion-2019-4-2/
LOCATION:Avda. de La Marquesa de Los Montesinos\, Avda. de La Marquesa\, Los Montesinos\, Alicante\, 03187\, España
CATEGORIES:Fiestas Patronales
ATTACH;FMTTYPE=image/jpeg:https://www.losmontesinos.es/wp-content/uploads/2019/07/Cartel-Fiestas-Segregacion-Los-Montesinos-2019-scaled.jpg
END:VEVENT
BEGIN:VEVENT
DTSTART;TZID=Europe/Madrid:20190728T090000
DTEND;TZID=Europe/Madrid:20190728T210000
DTSTAMP:20260425T043921
CREATED:20190719T092113Z
LAST-MODIFIED:20190719T092113Z
UID:10003780-1564304400-1564347600@www.losmontesinos.es
SUMMARY:FIESTAS DE LA SEGREGACIÓN 2019
DESCRIPTION:XXIX FIESTAS DE LA SEGREGACIÓN de LOS MONTESINOS\,\ndel 25 al 30 de julio de 2019\nDe 9.00 a 11.00h.\, Concentración de motos y coches antiguos a cargo del Club de Motos y Coches Antiguos de Los Montesinos. Lugar: Avenida de La Marquesa. \nDe 17.30h. a 21.00h. GRAN ‘COCO SPLASH’\, divertida gymkana acuática por equipos. Recomendada para mayores de 14 años (inscripciones en el Ayuntamiento).
URL:https://www.losmontesinos.es/event/fiestas-de-la-segregacion-2019-4-3/
LOCATION:Avda. de La Marquesa de Los Montesinos\, Avda. de La Marquesa\, Los Montesinos\, Alicante\, 03187\, España
CATEGORIES:Fiestas Patronales
ATTACH;FMTTYPE=image/jpeg:https://www.losmontesinos.es/wp-content/uploads/2019/07/Cartel-Fiestas-Segregacion-Los-Montesinos-2019-scaled.jpg
END:VEVENT
BEGIN:VEVENT
DTSTART;TZID=Europe/Madrid:20190729T210000
DTEND;TZID=Europe/Madrid:20190729T235900
DTSTAMP:20260425T043921
CREATED:20190719T093127Z
LAST-MODIFIED:20190719T093127Z
UID:10004381-1564434000-1564444740@www.losmontesinos.es
SUMMARY:FIESTAS DE LA SEGREGACIÓN 2019
DESCRIPTION:XXIX FIESTAS DE LA SEGREGACIÓN de LOS MONTESINOS\,\ndel 25 al 30 de julio de 2019\nA las 21.00h. Baile para la 3ª Edad en el Centro Cívico-Social con Manolo ‘El Trompeta’.
URL:https://www.losmontesinos.es/event/fiestas-de-la-segregacion-2019-5/
LOCATION:Centro Cívico y Social (Hogar del Jubilado)\, Plaza del Ayuntamiento\, 2\, Los Montesinos\, Alicante\, 03187\, España
CATEGORIES:Fiestas Patronales
ATTACH;FMTTYPE=image/jpeg:https://www.losmontesinos.es/wp-content/uploads/2019/07/Cartel-Fiestas-Segregacion-Los-Montesinos-2019-scaled.jpg
END:VEVENT
BEGIN:VEVENT
DTSTART;TZID=Europe/Madrid:20190729T210000
DTEND;TZID=Europe/Madrid:20190729T235900
DTSTAMP:20260425T043922
CREATED:20190719T093127Z
LAST-MODIFIED:20190719T093127Z
UID:10004382-1564434000-1564444740@www.losmontesinos.es
SUMMARY:FIESTAS DE LA SEGREGACIÓN 2019
DESCRIPTION:XXIX FIESTAS DE LA SEGREGACIÓN de LOS MONTESINOS\,\ndel 25 al 30 de julio de 2019\nA las 21.00h. Baile para la 3ª Edad en el Centro Cívico-Social con Manolo ‘El Trompeta’.
URL:https://www.losmontesinos.es/event/fiestas-de-la-segregacion-2019-5-2/
LOCATION:Centro Cívico y Social (Hogar del Jubilado)\, Plaza del Ayuntamiento\, 2\, Los Montesinos\, Alicante\, 03187\, España
CATEGORIES:Fiestas Patronales
ATTACH;FMTTYPE=image/jpeg:https://www.losmontesinos.es/wp-content/uploads/2019/07/Cartel-Fiestas-Segregacion-Los-Montesinos-2019-scaled.jpg
END:VEVENT
BEGIN:VEVENT
DTSTART;TZID=Europe/Madrid:20190729T210000
DTEND;TZID=Europe/Madrid:20190729T235900
DTSTAMP:20260425T043922
CREATED:20190719T093127Z
LAST-MODIFIED:20190719T093127Z
UID:10004383-1564434000-1564444740@www.losmontesinos.es
SUMMARY:FIESTAS DE LA SEGREGACIÓN 2019
DESCRIPTION:XXIX FIESTAS DE LA SEGREGACIÓN de LOS MONTESINOS\,\ndel 25 al 30 de julio de 2019\nA las 21.00h. Baile para la 3ª Edad en el Centro Cívico-Social con Manolo ‘El Trompeta’.
URL:https://www.losmontesinos.es/event/fiestas-de-la-segregacion-2019-5-3/
LOCATION:Centro Cívico y Social (Hogar del Jubilado)\, Plaza del Ayuntamiento\, 2\, Los Montesinos\, Alicante\, 03187\, España
CATEGORIES:Fiestas Patronales
ATTACH;FMTTYPE=image/jpeg:https://www.losmontesinos.es/wp-content/uploads/2019/07/Cartel-Fiestas-Segregacion-Los-Montesinos-2019-scaled.jpg
END:VEVENT
BEGIN:VEVENT
DTSTART;TZID=Europe/Madrid:20190730T200000
DTEND;TZID=Europe/Madrid:20190730T220000
DTSTAMP:20260425T043922
CREATED:20190719T094201Z
LAST-MODIFIED:20190719T094201Z
UID:10004384-1564516800-1564524000@www.losmontesinos.es
SUMMARY:FIESTAS DE LA SEGREGACIÓN 2019
DESCRIPTION:XXIX FIESTAS DE LA SEGREGACIÓN de LOS MONTESINOS\,\ndel 25 al 30 de julio de 2019\n¡¡DURANTE TODO EL DÍA LA ENTRADA A LA PISCINA MUNICIPAL ES GRATUITA!! \nA las 20.00h.\, Misa de Acción de Gracias en conmemoración del XXIX Aniversario de la Segregación de Los Montesinos. \nA las 21.00h. Exposición de fotografías del concurso ‘Los Montesinos\, una mirada jóven’\, basado en nuestro entorno natural. Lugar: Salón de Plenos del Ayuntamiento. Al finalizar el acto se ofrecerá un vino de honor.
URL:https://www.losmontesinos.es/event/fiestas-de-la-segregacion-2019-6/
LOCATION:Ayuntamiento de Los Montesinos\, Plaza Del Ayuntamiento\, 1\, Los Montesinos\, Alicante\, 03187\, España
CATEGORIES:Fiestas Patronales
ATTACH;FMTTYPE=image/jpeg:https://www.losmontesinos.es/wp-content/uploads/2019/07/Cartel-Fiestas-Segregacion-Los-Montesinos-2019-scaled.jpg
END:VEVENT
BEGIN:VEVENT
DTSTART;TZID=Europe/Madrid:20190730T200000
DTEND;TZID=Europe/Madrid:20190730T220000
DTSTAMP:20260425T043922
CREATED:20190719T094201Z
LAST-MODIFIED:20190719T094201Z
UID:10004385-1564516800-1564524000@www.losmontesinos.es
SUMMARY:FIESTAS DE LA SEGREGACIÓN 2019
DESCRIPTION:XXIX FIESTAS DE LA SEGREGACIÓN de LOS MONTESINOS\,\ndel 25 al 30 de julio de 2019\n¡¡DURANTE TODO EL DÍA LA ENTRADA A LA PISCINA MUNICIPAL ES GRATUITA!! \nA las 20.00h.\, Misa de Acción de Gracias en conmemoración del XXIX Aniversario de la Segregación de Los Montesinos. \nA las 21.00h. Exposición de fotografías del concurso ‘Los Montesinos\, una mirada jóven’\, basado en nuestro entorno natural. Lugar: Salón de Plenos del Ayuntamiento. Al finalizar el acto se ofrecerá un vino de honor.
URL:https://www.losmontesinos.es/event/fiestas-de-la-segregacion-2019-6-2/
LOCATION:Ayuntamiento de Los Montesinos\, Plaza Del Ayuntamiento\, 1\, Los Montesinos\, Alicante\, 03187\, España
CATEGORIES:Fiestas Patronales
ATTACH;FMTTYPE=image/jpeg:https://www.losmontesinos.es/wp-content/uploads/2019/07/Cartel-Fiestas-Segregacion-Los-Montesinos-2019-scaled.jpg
END:VEVENT
BEGIN:VEVENT
DTSTART;TZID=Europe/Madrid:20190730T200000
DTEND;TZID=Europe/Madrid:20190730T220000
DTSTAMP:20260425T043922
CREATED:20190719T094201Z
LAST-MODIFIED:20190719T094201Z
UID:10004386-1564516800-1564524000@www.losmontesinos.es
SUMMARY:FIESTAS DE LA SEGREGACIÓN 2019
DESCRIPTION:XXIX FIESTAS DE LA SEGREGACIÓN de LOS MONTESINOS\,\ndel 25 al 30 de julio de 2019\n¡¡DURANTE TODO EL DÍA LA ENTRADA A LA PISCINA MUNICIPAL ES GRATUITA!! \nA las 20.00h.\, Misa de Acción de Gracias en conmemoración del XXIX Aniversario de la Segregación de Los Montesinos. \nA las 21.00h. Exposición de fotografías del concurso ‘Los Montesinos\, una mirada jóven’\, basado en nuestro entorno natural. Lugar: Salón de Plenos del Ayuntamiento. Al finalizar el acto se ofrecerá un vino de honor.
URL:https://www.losmontesinos.es/event/fiestas-de-la-segregacion-2019-6-3/
LOCATION:Ayuntamiento de Los Montesinos\, Plaza Del Ayuntamiento\, 1\, Los Montesinos\, Alicante\, 03187\, España
CATEGORIES:Fiestas Patronales
ATTACH;FMTTYPE=image/jpeg:https://www.losmontesinos.es/wp-content/uploads/2019/07/Cartel-Fiestas-Segregacion-Los-Montesinos-2019-scaled.jpg
END:VEVENT
END:VCALENDAR