BEGIN:VCALENDAR
VERSION:2.0
PRODID:-//Ayuntamiento - ECPv6.15.15//NONSGML v1.0//EN
CALSCALE:GREGORIAN
METHOD:PUBLISH
X-WR-CALNAME:Ayuntamiento
X-ORIGINAL-URL:https://www.losmontesinos.es
X-WR-CALDESC:Eventos para Ayuntamiento
REFRESH-INTERVAL;VALUE=DURATION:PT1H
X-Robots-Tag:noindex
X-PUBLISHED-TTL:PT1H
BEGIN:VTIMEZONE
TZID:Europe/Madrid
BEGIN:DAYLIGHT
TZOFFSETFROM:+0100
TZOFFSETTO:+0200
TZNAME:CEST
DTSTART:20200329T010000
END:DAYLIGHT
BEGIN:STANDARD
TZOFFSETFROM:+0200
TZOFFSETTO:+0100
TZNAME:CET
DTSTART:20201025T010000
END:STANDARD
BEGIN:DAYLIGHT
TZOFFSETFROM:+0100
TZOFFSETTO:+0200
TZNAME:CEST
DTSTART:20210328T010000
END:DAYLIGHT
BEGIN:STANDARD
TZOFFSETFROM:+0200
TZOFFSETTO:+0100
TZNAME:CET
DTSTART:20211031T010000
END:STANDARD
BEGIN:DAYLIGHT
TZOFFSETFROM:+0100
TZOFFSETTO:+0200
TZNAME:CEST
DTSTART:20220327T010000
END:DAYLIGHT
BEGIN:STANDARD
TZOFFSETFROM:+0200
TZOFFSETTO:+0100
TZNAME:CET
DTSTART:20221030T010000
END:STANDARD
END:VTIMEZONE
BEGIN:VEVENT
DTSTART;TZID=Europe/Madrid:20210702T180000
DTEND;TZID=Europe/Madrid:20210704T150000
DTSTAMP:20260426T022844
CREATED:20210702T100942Z
LAST-MODIFIED:20210702T100942Z
UID:10004083-1625248800-1625410800@www.losmontesinos.es
SUMMARY:Blackyard Infinitive Race Los Montesinos (50K · 100K · RELEVOS 10X10K · 5K · 10K)
DESCRIPTION:Informacion útil para los/as participantes y para los/as asistentes. En las siguientes imágenes os mostramos dónde podréis encontrar:\nZona de Aparcamiento\nZona de Autocaravanas\nSalida de Corredores/as\nZona de Relevos\nAparcamiento residentes\nAmbulancia\nSupermercado\nZona de Chips\nCarpa de Backyard y recogida de dorsales\nCarpa de Avituallamiento en carrera\nAseos quimicos\nDucha\nAparcamiento Supermercado Dialprix\nEtc\n  \n\n\nA continuación os mostramos los caminos alternativos para poder entrar y salir de la Urbanización La Herrada de Los Montesinos\, cómo acceder a la zona de parking todos y todas los/as participantes del evento deportivo y las rutas alternativas. En las infografias que os mostramos:\n Salida de La Herrada hacia Los Montesinos\n Entrada a La Herrada y Zona Parking de la carrera desde Los Montesinos
URL:https://www.losmontesinos.es/event/blackyard-infinitive-race-los-montesinos-50k-%c2%b7-100k-%c2%b7-relevos-10x10k-%c2%b7-5k-%c2%b7-10k/
CATEGORIES:Deportes
ATTACH;FMTTYPE=image/jpeg:https://www.losmontesinos.es/wp-content/uploads/2021/07/Aviso-espanol.jpg
END:VEVENT
BEGIN:VEVENT
DTSTART;TZID=Europe/Madrid:20210702T180000
DTEND;TZID=Europe/Madrid:20210704T150000
DTSTAMP:20260426T022844
CREATED:20210702T100942Z
LAST-MODIFIED:20210702T100942Z
UID:10004084-1625248800-1625410800@www.losmontesinos.es
SUMMARY:Blackyard Infinitive Race Los Montesinos (50K · 100K · RELEVOS 10X10K · 5K · 10K)
DESCRIPTION:Informacion útil para los/as participantes y para los/as asistentes. En las siguientes imágenes os mostramos dónde podréis encontrar:\nZona de Aparcamiento\nZona de Autocaravanas\nSalida de Corredores/as\nZona de Relevos\nAparcamiento residentes\nAmbulancia\nSupermercado\nZona de Chips\nCarpa de Backyard y recogida de dorsales\nCarpa de Avituallamiento en carrera\nAseos quimicos\nDucha\nAparcamiento Supermercado Dialprix\nEtc\n  \n\n\nA continuación os mostramos los caminos alternativos para poder entrar y salir de la Urbanización La Herrada de Los Montesinos\, cómo acceder a la zona de parking todos y todas los/as participantes del evento deportivo y las rutas alternativas. En las infografias que os mostramos:\n Salida de La Herrada hacia Los Montesinos\n Entrada a La Herrada y Zona Parking de la carrera desde Los Montesinos
URL:https://www.losmontesinos.es/event/blackyard-infinitive-race-los-montesinos-50k-%c2%b7-100k-%c2%b7-relevos-10x10k-%c2%b7-5k-%c2%b7-10k/
CATEGORIES:Deportes
ATTACH;FMTTYPE=image/jpeg:https://www.losmontesinos.es/wp-content/uploads/2021/07/Aviso-espanol.jpg
END:VEVENT
BEGIN:VEVENT
DTSTART;TZID=Europe/Madrid:20210702T180000
DTEND;TZID=Europe/Madrid:20210704T150000
DTSTAMP:20260426T022844
CREATED:20210702T100942Z
LAST-MODIFIED:20210702T100942Z
UID:10004085-1625248800-1625410800@www.losmontesinos.es
SUMMARY:Blackyard Infinitive Race Los Montesinos (50K · 100K · RELEVOS 10X10K · 5K · 10K)
DESCRIPTION:Informacion útil para los/as participantes y para los/as asistentes. En las siguientes imágenes os mostramos dónde podréis encontrar:\nZona de Aparcamiento\nZona de Autocaravanas\nSalida de Corredores/as\nZona de Relevos\nAparcamiento residentes\nAmbulancia\nSupermercado\nZona de Chips\nCarpa de Backyard y recogida de dorsales\nCarpa de Avituallamiento en carrera\nAseos quimicos\nDucha\nAparcamiento Supermercado Dialprix\nEtc\n  \n\n\nA continuación os mostramos los caminos alternativos para poder entrar y salir de la Urbanización La Herrada de Los Montesinos\, cómo acceder a la zona de parking todos y todas los/as participantes del evento deportivo y las rutas alternativas. En las infografias que os mostramos:\n Salida de La Herrada hacia Los Montesinos\n Entrada a La Herrada y Zona Parking de la carrera desde Los Montesinos
URL:https://www.losmontesinos.es/event/blackyard-infinitive-race-los-montesinos-50k-%c2%b7-100k-%c2%b7-relevos-10x10k-%c2%b7-5k-%c2%b7-10k-2/
CATEGORIES:Deportes
ATTACH;FMTTYPE=image/jpeg:https://www.losmontesinos.es/wp-content/uploads/2021/07/Aviso-espanol.jpg
END:VEVENT
END:VCALENDAR