BEGIN:VCALENDAR
VERSION:2.0
PRODID:-//Ayuntamiento - ECPv6.15.15//NONSGML v1.0//EN
CALSCALE:GREGORIAN
METHOD:PUBLISH
X-ORIGINAL-URL:https://www.losmontesinos.es
X-WR-CALDESC:Eventos para Ayuntamiento
REFRESH-INTERVAL;VALUE=DURATION:PT1H
X-Robots-Tag:noindex
X-PUBLISHED-TTL:PT1H
BEGIN:VTIMEZONE
TZID:Europe/Madrid
BEGIN:DAYLIGHT
TZOFFSETFROM:+0100
TZOFFSETTO:+0200
TZNAME:CEST
DTSTART:20180325T010000
END:DAYLIGHT
BEGIN:STANDARD
TZOFFSETFROM:+0200
TZOFFSETTO:+0100
TZNAME:CET
DTSTART:20181028T010000
END:STANDARD
BEGIN:DAYLIGHT
TZOFFSETFROM:+0100
TZOFFSETTO:+0200
TZNAME:CEST
DTSTART:20190331T010000
END:DAYLIGHT
BEGIN:STANDARD
TZOFFSETFROM:+0200
TZOFFSETTO:+0100
TZNAME:CET
DTSTART:20191027T010000
END:STANDARD
BEGIN:DAYLIGHT
TZOFFSETFROM:+0100
TZOFFSETTO:+0200
TZNAME:CEST
DTSTART:20200329T010000
END:DAYLIGHT
BEGIN:STANDARD
TZOFFSETFROM:+0200
TZOFFSETTO:+0100
TZNAME:CET
DTSTART:20201025T010000
END:STANDARD
END:VTIMEZONE
BEGIN:VEVENT
DTSTART;TZID=Europe/Madrid:20190617T170000
DTEND;TZID=Europe/Madrid:20190621T200000
DTSTAMP:20260425T133123
CREATED:20190603T081400Z
LAST-MODIFIED:20190603T081400Z
UID:10003734-1560790800-1561147200@www.losmontesinos.es
SUMMARY:I CAMPUS DE FÚTBOL 'HÉCTOR PIZANA PASCUAL' LOS MONTESINOS
DESCRIPTION:De 17.00 a 20.00 horas en las instalaciones deportivas municipales. \nEdades: desde los 6 hasta los 16 años. \nPrecio: 20€ \nMás información: deportes@losmontesinos.org \n#ConcejalíadeDeportes
URL:https://www.losmontesinos.es/event/i-campus-de-futbol-hector-pizana-pascual-los-montesinos/
LOCATION:Instalaciones municipales deportivas\, Partida Los Miras\, s/n\, Los Montesinos\, Alicante\, 03187\, España
CATEGORIES:Deportes
ATTACH;FMTTYPE=image/jpeg:https://www.losmontesinos.es/wp-content/uploads/2019/06/campus-futbol-verano-2019_Los-Montesinos.jpg
END:VEVENT
BEGIN:VEVENT
DTSTART;TZID=Europe/Madrid:20190617T170000
DTEND;TZID=Europe/Madrid:20190621T200000
DTSTAMP:20260425T133123
CREATED:20190603T081400Z
LAST-MODIFIED:20190603T081400Z
UID:10003735-1560790800-1561147200@www.losmontesinos.es
SUMMARY:I CAMPUS DE FÚTBOL 'HÉCTOR PIZANA PASCUAL' LOS MONTESINOS
DESCRIPTION:De 17.00 a 20.00 horas en las instalaciones deportivas municipales. \nEdades: desde los 6 hasta los 16 años. \nPrecio: 20€ \nMás información: deportes@losmontesinos.org \n#ConcejalíadeDeportes
URL:https://www.losmontesinos.es/event/i-campus-de-futbol-hector-pizana-pascual-los-montesinos-2/
LOCATION:Instalaciones municipales deportivas\, Partida Los Miras\, s/n\, Los Montesinos\, Alicante\, 03187\, España
CATEGORIES:Deportes
ATTACH;FMTTYPE=image/jpeg:https://www.losmontesinos.es/wp-content/uploads/2019/06/campus-futbol-verano-2019_Los-Montesinos.jpg
END:VEVENT
BEGIN:VEVENT
DTSTART;TZID=Europe/Madrid:20190617T170000
DTEND;TZID=Europe/Madrid:20190621T200000
DTSTAMP:20260425T133123
CREATED:20190603T081400Z
LAST-MODIFIED:20190603T081400Z
UID:10003736-1560790800-1561147200@www.losmontesinos.es
SUMMARY:I CAMPUS DE FÚTBOL 'HÉCTOR PIZANA PASCUAL' LOS MONTESINOS
DESCRIPTION:De 17.00 a 20.00 horas en las instalaciones deportivas municipales. \nEdades: desde los 6 hasta los 16 años. \nPrecio: 20€ \nMás información: deportes@losmontesinos.org \n#ConcejalíadeDeportes
URL:https://www.losmontesinos.es/event/i-campus-de-futbol-hector-pizana-pascual-los-montesinos-3/
LOCATION:Instalaciones municipales deportivas\, Partida Los Miras\, s/n\, Los Montesinos\, Alicante\, 03187\, España
CATEGORIES:Deportes
ATTACH;FMTTYPE=image/jpeg:https://www.losmontesinos.es/wp-content/uploads/2019/06/campus-futbol-verano-2019_Los-Montesinos.jpg
END:VEVENT
END:VCALENDAR