BEGIN:VCALENDAR
VERSION:2.0
PRODID:-//Ayuntamiento - ECPv6.15.15//NONSGML v1.0//EN
CALSCALE:GREGORIAN
METHOD:PUBLISH
X-ORIGINAL-URL:https://www.losmontesinos.es
X-WR-CALDESC:Eventos para Ayuntamiento
REFRESH-INTERVAL;VALUE=DURATION:PT1H
X-Robots-Tag:noindex
X-PUBLISHED-TTL:PT1H
BEGIN:VTIMEZONE
TZID:Europe/Madrid
BEGIN:DAYLIGHT
TZOFFSETFROM:+0100
TZOFFSETTO:+0200
TZNAME:CEST
DTSTART:20240331T010000
END:DAYLIGHT
BEGIN:STANDARD
TZOFFSETFROM:+0200
TZOFFSETTO:+0100
TZNAME:CET
DTSTART:20241027T010000
END:STANDARD
BEGIN:DAYLIGHT
TZOFFSETFROM:+0100
TZOFFSETTO:+0200
TZNAME:CEST
DTSTART:20250330T010000
END:DAYLIGHT
BEGIN:STANDARD
TZOFFSETFROM:+0200
TZOFFSETTO:+0100
TZNAME:CET
DTSTART:20251026T010000
END:STANDARD
BEGIN:DAYLIGHT
TZOFFSETFROM:+0100
TZOFFSETTO:+0200
TZNAME:CEST
DTSTART:20260329T010000
END:DAYLIGHT
BEGIN:STANDARD
TZOFFSETFROM:+0200
TZOFFSETTO:+0100
TZNAME:CET
DTSTART:20261025T010000
END:STANDARD
END:VTIMEZONE
BEGIN:VEVENT
DTSTART;TZID=Europe/Madrid:20251106T193000
DTEND;TZID=Europe/Madrid:20251106T210000
DTSTAMP:20260425T145201
CREATED:20251029T103841Z
LAST-MODIFIED:20251104T081053Z
UID:10005277-1762457400-1762462800@www.losmontesinos.es
SUMMARY:Presentación de los libros de poesía 'Elegí perder' y 'Espejo de mediocridad'
DESCRIPTION:A las 19.30 horas\, en el Auditorio Municipal de la Escuela de Música y Cultura de Los Montesinos (C/ Zaragoza\, 5)\, presentación de los libros de poesía del autor Fernando Mañogil ‘Elegí perder’ y ‘Espejo de mediocridad’. \nUna emocionante obra poética que nos invita a reflexionar sobre la pérdida\, la elección y la belleza de los caminos que recorremos. Presenta: Cristina Matute Martín\, profesora de Lengua Castellana y Literatura. \nAmeniza con música de violonchelo: Julia Vallejos \nPresentación libros poesía Elegí perder y Espejo de mediocridad 2025
URL:https://www.losmontesinos.es/event/presentacion-del-libro-de-poesia-elegi-perder/
LOCATION:Escuela municipal de Música y Cultura (Auditorio municipal)\, C/ Zaragoza\, 5\, Los Montesinos\, Alicante\, 03187\, España
CATEGORIES:Cultura
ATTACH;FMTTYPE=image/jpeg:https://www.losmontesinos.es/wp-content/uploads/2025/10/Presentacion-libros-poesia-elegi-perder-y-espejo-de-mediocridad-2025.jpg
END:VEVENT
END:VCALENDAR