BEGIN:VCALENDAR
VERSION:2.0
PRODID:-//Ayuntamiento - ECPv6.15.15//NONSGML v1.0//EN
CALSCALE:GREGORIAN
METHOD:PUBLISH
X-ORIGINAL-URL:https://www.losmontesinos.es
X-WR-CALDESC:Eventos para Ayuntamiento
REFRESH-INTERVAL;VALUE=DURATION:PT1H
X-Robots-Tag:noindex
X-PUBLISHED-TTL:PT1H
BEGIN:VTIMEZONE
TZID:Europe/Madrid
BEGIN:DAYLIGHT
TZOFFSETFROM:+0100
TZOFFSETTO:+0200
TZNAME:CEST
DTSTART:20240331T010000
END:DAYLIGHT
BEGIN:STANDARD
TZOFFSETFROM:+0200
TZOFFSETTO:+0100
TZNAME:CET
DTSTART:20241027T010000
END:STANDARD
BEGIN:DAYLIGHT
TZOFFSETFROM:+0100
TZOFFSETTO:+0200
TZNAME:CEST
DTSTART:20250330T010000
END:DAYLIGHT
BEGIN:STANDARD
TZOFFSETFROM:+0200
TZOFFSETTO:+0100
TZNAME:CET
DTSTART:20251026T010000
END:STANDARD
BEGIN:DAYLIGHT
TZOFFSETFROM:+0100
TZOFFSETTO:+0200
TZNAME:CEST
DTSTART:20260329T010000
END:DAYLIGHT
BEGIN:STANDARD
TZOFFSETFROM:+0200
TZOFFSETTO:+0100
TZNAME:CET
DTSTART:20261025T010000
END:STANDARD
END:VTIMEZONE
BEGIN:VEVENT
DTSTART;TZID=Europe/Madrid:20250713T201500
DTEND;TZID=Europe/Madrid:20250713T213000
DTSTAMP:20260425T232552
CREATED:20250711T065546Z
LAST-MODIFIED:20250711T065546Z
UID:10005232-1752437700-1752442200@www.losmontesinos.es
SUMMARY:Acto clausura Centenario de la Plaza Sagrado Corazón de Jesús
DESCRIPTION:A las 20.15horas\, en la Plaza Sagrado Corazón de Jesús de Los Montesinos\, celebración del Acto de Clausura de la creación\, nombramiento y consagración de la Plaza Sagrado Corazón de Jesús\, la primera plaza pública del municipio\, instaurada el 13 de julio de 1924.\n\n\nEl acto contará con una ofrenda floral y la actuación conjunta de las Corales Crescendo y Aromas de Azahar\, que interpretarán cantos en honor al Sagrado Corazón.
URL:https://www.losmontesinos.es/event/acto-clausura-centenario-de-la-plaza-sagrado-corazon-de-jesus/
LOCATION:Plaza Sagrado Corazón de Jesús de Los Montesinos\, Plaza Sagrado Corazón\, 1\, Los Montesinos\, Alicante\, 03187\, España
CATEGORIES:Cultura
ATTACH;FMTTYPE=image/jpeg:https://www.losmontesinos.es/wp-content/uploads/2025/07/cartel-clausura-centenario-sangrado-corazon-montesinos.jpg
END:VEVENT
END:VCALENDAR