BEGIN:VCALENDAR
VERSION:2.0
PRODID:-//Ayuntamiento - ECPv6.15.15//NONSGML v1.0//EN
CALSCALE:GREGORIAN
METHOD:PUBLISH
X-WR-CALNAME:Ayuntamiento
X-ORIGINAL-URL:https://www.losmontesinos.es
X-WR-CALDESC:Eventos para Ayuntamiento
REFRESH-INTERVAL;VALUE=DURATION:PT1H
X-Robots-Tag:noindex
X-PUBLISHED-TTL:PT1H
BEGIN:VTIMEZONE
TZID:Europe/Madrid
BEGIN:DAYLIGHT
TZOFFSETFROM:+0100
TZOFFSETTO:+0200
TZNAME:CEST
DTSTART:20250330T010000
END:DAYLIGHT
BEGIN:STANDARD
TZOFFSETFROM:+0200
TZOFFSETTO:+0100
TZNAME:CET
DTSTART:20251026T010000
END:STANDARD
BEGIN:DAYLIGHT
TZOFFSETFROM:+0100
TZOFFSETTO:+0200
TZNAME:CEST
DTSTART:20260329T010000
END:DAYLIGHT
BEGIN:STANDARD
TZOFFSETFROM:+0200
TZOFFSETTO:+0100
TZNAME:CET
DTSTART:20261025T010000
END:STANDARD
BEGIN:DAYLIGHT
TZOFFSETFROM:+0100
TZOFFSETTO:+0200
TZNAME:CEST
DTSTART:20270328T010000
END:DAYLIGHT
BEGIN:STANDARD
TZOFFSETFROM:+0200
TZOFFSETTO:+0100
TZNAME:CET
DTSTART:20271031T010000
END:STANDARD
END:VTIMEZONE
BEGIN:VEVENT
DTSTART;TZID=Europe/Madrid:20260212T120000
DTEND;TZID=Europe/Madrid:20260212T133000
DTSTAMP:20260425T041727
CREATED:20260211T133915Z
LAST-MODIFIED:20260211T133915Z
UID:10005331-1770897600-1770903000@www.losmontesinos.es
SUMMARY:Teatro musical 'Arritmias'
DESCRIPTION:A cargo del alumnado del IES Severo Ochoa. \nLugar: Auditorio de la Escuela de Música y Cultura de Los Montesinos \nEntrada libre hasta completar aforo.
URL:https://www.losmontesinos.es/event/teatro-musical-arritmias/
LOCATION:Escuela municipal de Música y Cultura (Auditorio municipal)\, C/ Zaragoza\, 5\, Los Montesinos\, Alicante\, 03187\, España
CATEGORIES:Cultura
ATTACH;FMTTYPE=image/png:https://www.losmontesinos.es/wp-content/uploads/2026/02/arritmias-teatro-musical-2026.png
END:VEVENT
BEGIN:VEVENT
DTSTART;TZID=Europe/Madrid:20260212T170000
DTEND;TZID=Europe/Madrid:20260212T200000
DTSTAMP:20260425T041727
CREATED:20260206T123322Z
LAST-MODIFIED:20260206T123322Z
UID:10005326-1770915600-1770926400@www.losmontesinos.es
SUMMARY:Fiesta de Carnaval 2026
DESCRIPTION:A partir de las 17h en la Plaza del Ayuntamiento\, ven con tu mejor disfraz y disfruta de una tarde llena de diversión y sorpresas para todas la edades: Pintacaras\, juegos\, bailes y chocolate caliente!
URL:https://www.losmontesinos.es/event/fiesta-de-carnaval-2026/
LOCATION:Plaza del Ayuntamiento\, Plaza del Ayuntamiento\, 1\, Los Montesinos\, Alicante\, 03187\, España
CATEGORIES:Cultura
ATTACH;FMTTYPE=image/jpeg:https://www.losmontesinos.es/wp-content/uploads/2026/02/carnaval-2026-los-montesinos.jpg
END:VEVENT
BEGIN:VEVENT
DTSTART;TZID=Europe/Madrid:20260214T200000
DTEND;TZID=Europe/Madrid:20260214T220000
DTSTAMP:20260425T041727
CREATED:20260212T090721Z
LAST-MODIFIED:20260212T103523Z
UID:10005333-1771099200-1771106400@www.losmontesinos.es
SUMMARY:XXIII Jornadas Teatro Universitario en el Bajo Segura 'Remedios Muñoz'
DESCRIPTION:A las 20h\, en el Auditorio de la Escuela de Música y Cultura\, sube a escena EL PESO DEL SILENCIO\, una interesante propuesta teatral de la mano de Vicente de Ramón Producciones\, que ganó la octava residencia de producción José Estruch.Esta obra que explora la supervivencia y las huellas emocionales en un conflicto bélico\, mostrando la lucha por la supervivencia de gentes sencillas desde el testimonio más emotivo. \nEntrada libre\, limitada al aforo.
URL:https://www.losmontesinos.es/event/xxiii-jornadas-teatro-universitario-en-el-bajo-segura/
LOCATION:Escuela municipal de Música y Cultura (Auditorio municipal)\, C/ Zaragoza\, 5\, Los Montesinos\, Alicante\, 03187\, España
CATEGORIES:Cultura
ATTACH;FMTTYPE=image/jpeg:https://www.losmontesinos.es/wp-content/uploads/2026/02/teatro-el-peso-del-silencio-2026.jpg
END:VEVENT
BEGIN:VEVENT
DTSTART;TZID=Europe/Madrid:20260221T200000
DTEND;TZID=Europe/Madrid:20260221T220000
DTSTAMP:20260425T041727
CREATED:20260212T103302Z
LAST-MODIFIED:20260212T103348Z
UID:10005335-1771704000-1771711200@www.losmontesinos.es
SUMMARY:XXIII Jornadas Teatro Universitario en el Bajo Segura ‘Remedios Muñoz’
DESCRIPTION:A las 20h\, en el Auditorio de la Escuela de Música y Cultura de Los Montesinos\, se representa la obra LA ODISEA. SEGÚN PENÉLOPE. Una versión libre de su director Francesc Sanguino sobre La Odisea de Homero\, representada por el Aula de Teatro de la Universidad de Alicante. \nEsta es una versión de La Odisea de los seres sin poder\, de las víctimas colaterales\, de los distintos y de los inadaptados\, todos ellos encabezados por Penélope en sus distintas edades. No es por ello menos épica\, pero en esta ocasión la épica no reside en su héroe\, sino en una familia separada a causa de la guerra\, enfrentada a sí misma y víctima de la lucha para conseguir el poder en una patria que no les pertenece. \nEntrada libre\, limitada al aforo. \n 
URL:https://www.losmontesinos.es/event/xxiii-jornadas-teatro-universitario-en-el-bajo-segura-remedios-munoz/
LOCATION:Centro Cívico y Social (Hogar del Jubilado)\, Plaza del Ayuntamiento\, 2\, Los Montesinos\, Alicante\, 03187\, España
CATEGORIES:Cultura
ATTACH;FMTTYPE=image/jpeg:https://www.losmontesinos.es/wp-content/uploads/2026/01/Cartel-Jornadas-teatro-universitario-2026.jpg
END:VEVENT
BEGIN:VEVENT
DTSTART;TZID=Europe/Madrid:20260228T200000
DTEND;TZID=Europe/Madrid:20260228T220000
DTSTAMP:20260425T041727
CREATED:20260212T104230Z
LAST-MODIFIED:20260227T074650Z
UID:10005336-1772308800-1772316000@www.losmontesinos.es
SUMMARY:XXIII Jornadas Teatro Universitario en el Bajo Segura 'Remedios Muñoz'
DESCRIPTION:A las 20h\, en el Auditorio de la Escuela de Música y Cultura de Los Montesinos\, se representa la obra del autor Rafael Mendizábal MI TÍA Y SUS COSAS\, dirigida por Javier Pérez Sánchez y representada por el grupo LA DESPERTÁ de la ESCUELA MUNICIPAL DE TEATRO DE LOS MONTESINOS. \nRafaela y su sobrina sobreviven con la pequeña pensión de la primera. Para superar esta situación\, solo se les ocurre la idea de suicidarse\, pero los dos intentos que realizan son fallidos. Un premio de la lotería\, yla reaparición del supuestamente muerto marido de la tía\, hacen que la situación se desmadre. Una divertida comedia que nos hace una caricatura de la sociedad en un barrio humilde de Madrid del siglo XX. \nEntrada libre\, limitada al aforo.
URL:https://www.losmontesinos.es/event/xxiii-jornadas-teatro-universitario-en-el-bajo-segura-remedios-munoz-2/
LOCATION:Centro Cívico y Social (Hogar del Jubilado)\, Plaza del Ayuntamiento\, 2\, Los Montesinos\, Alicante\, 03187\, España
CATEGORIES:Cultura
ATTACH;FMTTYPE=image/jpeg:https://www.losmontesinos.es/wp-content/uploads/2026/01/Cartel-Jornadas-teatro-universitario-2026.jpg
END:VEVENT
END:VCALENDAR