BEGIN:VCALENDAR
VERSION:2.0
PRODID:-//Ayuntamiento - ECPv6.15.15//NONSGML v1.0//EN
CALSCALE:GREGORIAN
METHOD:PUBLISH
X-WR-CALNAME:Ayuntamiento
X-ORIGINAL-URL:https://www.losmontesinos.es
X-WR-CALDESC:Eventos para Ayuntamiento
REFRESH-INTERVAL;VALUE=DURATION:PT1H
X-Robots-Tag:noindex
X-PUBLISHED-TTL:PT1H
BEGIN:VTIMEZONE
TZID:Europe/Madrid
BEGIN:DAYLIGHT
TZOFFSETFROM:+0100
TZOFFSETTO:+0200
TZNAME:CEST
DTSTART:20250330T010000
END:DAYLIGHT
BEGIN:STANDARD
TZOFFSETFROM:+0200
TZOFFSETTO:+0100
TZNAME:CET
DTSTART:20251026T010000
END:STANDARD
BEGIN:DAYLIGHT
TZOFFSETFROM:+0100
TZOFFSETTO:+0200
TZNAME:CEST
DTSTART:20260329T010000
END:DAYLIGHT
BEGIN:STANDARD
TZOFFSETFROM:+0200
TZOFFSETTO:+0100
TZNAME:CET
DTSTART:20261025T010000
END:STANDARD
BEGIN:DAYLIGHT
TZOFFSETFROM:+0100
TZOFFSETTO:+0200
TZNAME:CEST
DTSTART:20270328T010000
END:DAYLIGHT
BEGIN:STANDARD
TZOFFSETFROM:+0200
TZOFFSETTO:+0100
TZNAME:CET
DTSTART:20271031T010000
END:STANDARD
END:VTIMEZONE
BEGIN:VEVENT
DTSTART;TZID=Europe/Madrid:20260425T200000
DTEND;TZID=Europe/Madrid:20260425T220000
DTSTAMP:20260423T182848
CREATED:20260423T061044Z
LAST-MODIFIED:20260423T061044Z
UID:10005382-1777147200-1777154400@www.losmontesinos.es
SUMMARY:Preestreno benéfico 'El hombre del banco' - Coral Internacional Crescendo
DESCRIPTION:La obra teatral ‘El hombre del banco’\, escrita por Lorenzo Segura e interpretada por Isabel Verdejo y Salva Monleón\, promete ser una experiencia escénica emocionante y con un mensaje que no dejará indiferente. \nLa representación estará amenizada con música en directo a cargo de la Coral Internacional Crescendo\, dirigida por Irene Oliva y el violinista Josep Andreu Martínez.*** Donativo de 5 €\, destinados a la asociación Crescendo\, que colabora con diferentes causas benéficas.Más info: www.crescendo-choir.comAdquisición anticipada de entradas a través de miembros de la asociación Crescendo y reserva online: https://forms.gle/RaYftcC4eDMdPhQM7 \nPlazas limitadas al aforo del Auditorio de la Escuela de Música y Cultura de Los Montesinos.
URL:https://www.losmontesinos.es/event/preestreno-benefico-el-hombre-del-banco-coral-internacional-crescendo/
LOCATION:Escuela municipal de Música y Cultura (Auditorio municipal)\, C/ Zaragoza\, 5\, Los Montesinos\, Alicante\, 03187\, España
CATEGORIES:Cultura
ATTACH;FMTTYPE=image/jpeg:https://www.losmontesinos.es/wp-content/uploads/2026/04/Preestreno-el-hombre-del-banco-teatro-2026.jpg
END:VEVENT
END:VCALENDAR