BEGIN:VCALENDAR
VERSION:2.0
PRODID:-//Ayuntamiento - ECPv6.15.15//NONSGML v1.0//EN
CALSCALE:GREGORIAN
METHOD:PUBLISH
X-WR-CALNAME:Ayuntamiento
X-ORIGINAL-URL:https://www.losmontesinos.es
X-WR-CALDESC:Eventos para Ayuntamiento
REFRESH-INTERVAL;VALUE=DURATION:PT1H
X-Robots-Tag:noindex
X-PUBLISHED-TTL:PT1H
BEGIN:VTIMEZONE
TZID:Europe/Madrid
BEGIN:DAYLIGHT
TZOFFSETFROM:+0100
TZOFFSETTO:+0200
TZNAME:CEST
DTSTART:20250330T010000
END:DAYLIGHT
BEGIN:STANDARD
TZOFFSETFROM:+0200
TZOFFSETTO:+0100
TZNAME:CET
DTSTART:20251026T010000
END:STANDARD
BEGIN:DAYLIGHT
TZOFFSETFROM:+0100
TZOFFSETTO:+0200
TZNAME:CEST
DTSTART:20260329T010000
END:DAYLIGHT
BEGIN:STANDARD
TZOFFSETFROM:+0200
TZOFFSETTO:+0100
TZNAME:CET
DTSTART:20261025T010000
END:STANDARD
BEGIN:DAYLIGHT
TZOFFSETFROM:+0100
TZOFFSETTO:+0200
TZNAME:CEST
DTSTART:20270328T010000
END:DAYLIGHT
BEGIN:STANDARD
TZOFFSETFROM:+0200
TZOFFSETTO:+0100
TZNAME:CET
DTSTART:20271031T010000
END:STANDARD
END:VTIMEZONE
BEGIN:VEVENT
DTSTART;TZID=Europe/Madrid:20260424T083000
DTEND;TZID=Europe/Madrid:20260424T143000
DTSTAMP:20260424T021213
CREATED:20260423T064640Z
LAST-MODIFIED:20260423T064640Z
UID:10005384-1777019400-1777041000@www.losmontesinos.es
SUMMARY:Senda del Poeta
DESCRIPTION:Desde el Ayuntamiento de Los Montesinos se quiere facilitar la asistencia poniendo a disposición de las personas interesadas un autobús gratuito para acudir al acto de inauguración y recorrer parte del primer tramo de la senda\, concretamente desde Orihuela hasta Cox\, un recorrido de unos 10-12 km aprox. para caminar juntos honrando al poeta\, su historia y su literatura.Alrededor del mediodía\, el autobús saldrá desde Cox de vuelta a Los Montesinos. \nPlazas limitadas\, inscripciones en el Ayuntamiento.
URL:https://www.losmontesinos.es/event/senda-del-poeta/
LOCATION:Plaza del Ayuntamiento\, Plaza del Ayuntamiento\, 1\, Los Montesinos\, Alicante\, 03187\, España
CATEGORIES:Cultura
ATTACH;FMTTYPE=image/jpeg:https://www.losmontesinos.es/wp-content/uploads/2026/04/Senda-del-Poeta-2026.jpg
END:VEVENT
BEGIN:VEVENT
DTSTART;TZID=Europe/Madrid:20260424T163000
DTEND;TZID=Europe/Madrid:20260424T210000
DTSTAMP:20260424T021213
CREATED:20260423T063020Z
LAST-MODIFIED:20260423T063020Z
UID:10005383-1777048200-1777064400@www.losmontesinos.es
SUMMARY:Feria del libro
DESCRIPTION:A partir de las 16:30h en la Plaza Sagrado Corazón con:\n\n \n\n 	Exposición y venta de libros\n\n \n\n 	Talleres y cuentacuentos (El monstruo de los colores)\n\n \n\n 	Stands con autores locales\n\n \n\nUna oportunidad para disfrutar de la lectura\, compartir cultura y seguir haciendo de Los Montesinos un municipio que apuesta por los libros.
URL:https://www.losmontesinos.es/event/feria-del-libro/
LOCATION:Plaza Sagrado Corazón de Jesús de Los Montesinos\, Plaza Sagrado Corazón\, 1\, Los Montesinos\, Alicante\, 03187\, España
CATEGORIES:Cultura
ATTACH;FMTTYPE=image/jpeg:https://www.losmontesinos.es/wp-content/uploads/2026/04/23-abril-dia-internacional-del-libro-2026_actividades.jpg
END:VEVENT
END:VCALENDAR