BEGIN:VCALENDAR
VERSION:2.0
PRODID:-//Ayuntamiento - ECPv6.15.15//NONSGML v1.0//EN
CALSCALE:GREGORIAN
METHOD:PUBLISH
X-ORIGINAL-URL:https://www.losmontesinos.es
X-WR-CALDESC:Eventos para Ayuntamiento
REFRESH-INTERVAL;VALUE=DURATION:PT1H
X-Robots-Tag:noindex
X-PUBLISHED-TTL:PT1H
BEGIN:VTIMEZONE
TZID:Europe/Madrid
BEGIN:DAYLIGHT
TZOFFSETFROM:+0100
TZOFFSETTO:+0200
TZNAME:CEST
DTSTART:20250330T010000
END:DAYLIGHT
BEGIN:STANDARD
TZOFFSETFROM:+0200
TZOFFSETTO:+0100
TZNAME:CET
DTSTART:20251026T010000
END:STANDARD
BEGIN:DAYLIGHT
TZOFFSETFROM:+0100
TZOFFSETTO:+0200
TZNAME:CEST
DTSTART:20260329T010000
END:DAYLIGHT
BEGIN:STANDARD
TZOFFSETFROM:+0200
TZOFFSETTO:+0100
TZNAME:CET
DTSTART:20261025T010000
END:STANDARD
BEGIN:DAYLIGHT
TZOFFSETFROM:+0100
TZOFFSETTO:+0200
TZNAME:CEST
DTSTART:20270328T010000
END:DAYLIGHT
BEGIN:STANDARD
TZOFFSETFROM:+0200
TZOFFSETTO:+0100
TZNAME:CET
DTSTART:20271031T010000
END:STANDARD
END:VTIMEZONE
BEGIN:VEVENT
DTSTART;TZID=Europe/Madrid:20260422T090000
DTEND;TZID=Europe/Madrid:20260422T140000
DTSTAMP:20260423T165050
CREATED:20260114T134512Z
LAST-MODIFIED:20260114T134512Z
UID:10005320-1776848400-1776866400@www.losmontesinos.es
SUMMARY:SUMA Gestión Tributaria (cita previa)
DESCRIPTION:*** Es necesario coger CITA PREVIA ***  https://www.suma.es/cita_previa.xhtml o llamando al Ayuntamiento 96 672 10 87   \nPersonal de la oficina de SUMA Gestión Tributaria se desplaza al Ayuntamiento de Los Montesinos para atender consultas y gestiones ciudadanas. \nAtención de 9.00 a 14.00 horas (solo con cita previa)
URL:https://www.losmontesinos.es/event/suma-gestion-tributaria-cita-previa-36/
LOCATION:Ayuntamiento de Los Montesinos\, Plaza Del Ayuntamiento\, 1\, Los Montesinos\, Alicante\, 03187\, España
CATEGORIES:Servicios
ATTACH;FMTTYPE=image/jpeg:https://www.losmontesinos.es/wp-content/uploads/2021/12/logo-suma.jpg
END:VEVENT
END:VCALENDAR