BEGIN:VCALENDAR
VERSION:2.0
PRODID:-//Ayuntamiento - ECPv6.15.15//NONSGML v1.0//EN
CALSCALE:GREGORIAN
METHOD:PUBLISH
X-ORIGINAL-URL:https://www.losmontesinos.es
X-WR-CALDESC:Eventos para Ayuntamiento
REFRESH-INTERVAL;VALUE=DURATION:PT1H
X-Robots-Tag:noindex
X-PUBLISHED-TTL:PT1H
BEGIN:VTIMEZONE
TZID:Europe/Madrid
BEGIN:DAYLIGHT
TZOFFSETFROM:+0100
TZOFFSETTO:+0200
TZNAME:CEST
DTSTART:20250330T010000
END:DAYLIGHT
BEGIN:STANDARD
TZOFFSETFROM:+0200
TZOFFSETTO:+0100
TZNAME:CET
DTSTART:20251026T010000
END:STANDARD
BEGIN:DAYLIGHT
TZOFFSETFROM:+0100
TZOFFSETTO:+0200
TZNAME:CEST
DTSTART:20260329T010000
END:DAYLIGHT
BEGIN:STANDARD
TZOFFSETFROM:+0200
TZOFFSETTO:+0100
TZNAME:CET
DTSTART:20261025T010000
END:STANDARD
BEGIN:DAYLIGHT
TZOFFSETFROM:+0100
TZOFFSETTO:+0200
TZNAME:CEST
DTSTART:20270328T010000
END:DAYLIGHT
BEGIN:STANDARD
TZOFFSETFROM:+0200
TZOFFSETTO:+0100
TZNAME:CET
DTSTART:20271031T010000
END:STANDARD
END:VTIMEZONE
BEGIN:VEVENT
DTSTART;TZID=Europe/Madrid:20260418T100000
DTEND;TZID=Europe/Madrid:20260419T235900
DTSTAMP:20260423T183841
CREATED:20260413T061428Z
LAST-MODIFIED:20260413T061428Z
UID:10005378-1776506400-1776643140@www.losmontesinos.es
SUMMARY:XV Ruta de la Tapa
DESCRIPTION:XV Ruta de la Tapa 2026\nEn esta edición participan 25 bares y restaurantes locales que ofrecerán sus mejores creaciones gastronómicas en formato tapa.\nDisfruta de la gastronomía local visitando los establecimientos participantes y\, además\, si completas al menos 6 tapas selladas y votas tu favorita participarás\n\n\nen el sorteo de 2 comidas o cenas para dos personas.\n\n\nLa tapa más votada será reconocida como la mejor de esta edición.\n    
URL:https://www.losmontesinos.es/event/xv-ruta-de-la-tapa/
LOCATION:Alicante
CATEGORIES:Turismo
ATTACH;FMTTYPE=image/jpeg:https://www.losmontesinos.es/wp-content/uploads/2026/04/XV-ruta-tapa-montesinos-2026.jpg
END:VEVENT
END:VCALENDAR