BEGIN:VCALENDAR
VERSION:2.0
PRODID:-//Ayuntamiento - ECPv6.15.15//NONSGML v1.0//EN
CALSCALE:GREGORIAN
METHOD:PUBLISH
X-ORIGINAL-URL:https://www.losmontesinos.es
X-WR-CALDESC:Eventos para Ayuntamiento
REFRESH-INTERVAL;VALUE=DURATION:PT1H
X-Robots-Tag:noindex
X-PUBLISHED-TTL:PT1H
BEGIN:VTIMEZONE
TZID:Europe/Madrid
BEGIN:DAYLIGHT
TZOFFSETFROM:+0100
TZOFFSETTO:+0200
TZNAME:CEST
DTSTART:20250330T010000
END:DAYLIGHT
BEGIN:STANDARD
TZOFFSETFROM:+0200
TZOFFSETTO:+0100
TZNAME:CET
DTSTART:20251026T010000
END:STANDARD
BEGIN:DAYLIGHT
TZOFFSETFROM:+0100
TZOFFSETTO:+0200
TZNAME:CEST
DTSTART:20260329T010000
END:DAYLIGHT
BEGIN:STANDARD
TZOFFSETFROM:+0200
TZOFFSETTO:+0100
TZNAME:CET
DTSTART:20261025T010000
END:STANDARD
BEGIN:DAYLIGHT
TZOFFSETFROM:+0100
TZOFFSETTO:+0200
TZNAME:CEST
DTSTART:20270328T010000
END:DAYLIGHT
BEGIN:STANDARD
TZOFFSETFROM:+0200
TZOFFSETTO:+0100
TZNAME:CET
DTSTART:20271031T010000
END:STANDARD
END:VTIMEZONE
BEGIN:VEVENT
DTSTART;TZID=Europe/Madrid:20260328T193000
DTEND;TZID=Europe/Madrid:20260328T210000
DTSTAMP:20260423T165113
CREATED:20260304T125617Z
LAST-MODIFIED:20260304T125617Z
UID:10005348-1774726200-1774731600@www.losmontesinos.es
SUMMARY:Semana Santa 2026
DESCRIPTION:A las 19:30h\, Recital Coral ‘Aromas de Azahar’ en el Auditorio de la Escuela de Música y Cultura. \nA las 20:00h\, Concierto de Música Sacra a cargo de la Agrupación Musical Montesinos en el Auditorio de la Escuela de Música y Cultura de Los Montesinos.
URL:https://www.losmontesinos.es/event/semana-santa-2026-10/
LOCATION:Escuela municipal de Música y Cultura (Auditorio municipal)\, C/ Zaragoza\, 5\, Los Montesinos\, Alicante\, 03187\, España
CATEGORIES:Semana Santa
ATTACH;FMTTYPE=image/jpeg:https://www.losmontesinos.es/wp-content/uploads/2026/03/Cartel-semana-santa-2026.jpg
END:VEVENT
END:VCALENDAR