BEGIN:VCALENDAR
VERSION:2.0
PRODID:-//Ayuntamiento - ECPv6.15.15//NONSGML v1.0//EN
CALSCALE:GREGORIAN
METHOD:PUBLISH
X-ORIGINAL-URL:https://www.losmontesinos.es
X-WR-CALDESC:Eventos para Ayuntamiento
REFRESH-INTERVAL;VALUE=DURATION:PT1H
X-Robots-Tag:noindex
X-PUBLISHED-TTL:PT1H
BEGIN:VTIMEZONE
TZID:Europe/Madrid
BEGIN:DAYLIGHT
TZOFFSETFROM:+0100
TZOFFSETTO:+0200
TZNAME:CEST
DTSTART:20250330T010000
END:DAYLIGHT
BEGIN:STANDARD
TZOFFSETFROM:+0200
TZOFFSETTO:+0100
TZNAME:CET
DTSTART:20251026T010000
END:STANDARD
BEGIN:DAYLIGHT
TZOFFSETFROM:+0100
TZOFFSETTO:+0200
TZNAME:CEST
DTSTART:20260329T010000
END:DAYLIGHT
BEGIN:STANDARD
TZOFFSETFROM:+0200
TZOFFSETTO:+0100
TZNAME:CET
DTSTART:20261025T010000
END:STANDARD
BEGIN:DAYLIGHT
TZOFFSETFROM:+0100
TZOFFSETTO:+0200
TZNAME:CEST
DTSTART:20270328T010000
END:DAYLIGHT
BEGIN:STANDARD
TZOFFSETFROM:+0200
TZOFFSETTO:+0100
TZNAME:CET
DTSTART:20271031T010000
END:STANDARD
END:VTIMEZONE
BEGIN:VEVENT
DTSTART;TZID=Europe/Madrid:20260228T200000
DTEND;TZID=Europe/Madrid:20260228T220000
DTSTAMP:20260423T145938
CREATED:20260212T104230Z
LAST-MODIFIED:20260227T074650Z
UID:10005336-1772308800-1772316000@www.losmontesinos.es
SUMMARY:XXIII Jornadas Teatro Universitario en el Bajo Segura 'Remedios Muñoz'
DESCRIPTION:A las 20h\, en el Auditorio de la Escuela de Música y Cultura de Los Montesinos\, se representa la obra del autor Rafael Mendizábal MI TÍA Y SUS COSAS\, dirigida por Javier Pérez Sánchez y representada por el grupo LA DESPERTÁ de la ESCUELA MUNICIPAL DE TEATRO DE LOS MONTESINOS. \nRafaela y su sobrina sobreviven con la pequeña pensión de la primera. Para superar esta situación\, solo se les ocurre la idea de suicidarse\, pero los dos intentos que realizan son fallidos. Un premio de la lotería\, yla reaparición del supuestamente muerto marido de la tía\, hacen que la situación se desmadre. Una divertida comedia que nos hace una caricatura de la sociedad en un barrio humilde de Madrid del siglo XX. \nEntrada libre\, limitada al aforo.
URL:https://www.losmontesinos.es/event/xxiii-jornadas-teatro-universitario-en-el-bajo-segura-remedios-munoz-2/
LOCATION:Centro Cívico y Social (Hogar del Jubilado)\, Plaza del Ayuntamiento\, 2\, Los Montesinos\, Alicante\, 03187\, España
CATEGORIES:Cultura
ATTACH;FMTTYPE=image/jpeg:https://www.losmontesinos.es/wp-content/uploads/2026/01/Cartel-Jornadas-teatro-universitario-2026.jpg
END:VEVENT
END:VCALENDAR