BEGIN:VCALENDAR
VERSION:2.0
PRODID:-//Ayuntamiento - ECPv6.15.15//NONSGML v1.0//EN
CALSCALE:GREGORIAN
METHOD:PUBLISH
X-WR-CALNAME:Ayuntamiento
X-ORIGINAL-URL:https://www.losmontesinos.es
X-WR-CALDESC:Eventos para Ayuntamiento
REFRESH-INTERVAL;VALUE=DURATION:PT1H
X-Robots-Tag:noindex
X-PUBLISHED-TTL:PT1H
BEGIN:VTIMEZONE
TZID:Europe/Madrid
BEGIN:DAYLIGHT
TZOFFSETFROM:+0100
TZOFFSETTO:+0200
TZNAME:CEST
DTSTART:20250330T010000
END:DAYLIGHT
BEGIN:STANDARD
TZOFFSETFROM:+0200
TZOFFSETTO:+0100
TZNAME:CET
DTSTART:20251026T010000
END:STANDARD
BEGIN:DAYLIGHT
TZOFFSETFROM:+0100
TZOFFSETTO:+0200
TZNAME:CEST
DTSTART:20260329T010000
END:DAYLIGHT
BEGIN:STANDARD
TZOFFSETFROM:+0200
TZOFFSETTO:+0100
TZNAME:CET
DTSTART:20261025T010000
END:STANDARD
BEGIN:DAYLIGHT
TZOFFSETFROM:+0100
TZOFFSETTO:+0200
TZNAME:CEST
DTSTART:20270328T010000
END:DAYLIGHT
BEGIN:STANDARD
TZOFFSETFROM:+0200
TZOFFSETTO:+0100
TZNAME:CET
DTSTART:20271031T010000
END:STANDARD
END:VTIMEZONE
BEGIN:VEVENT
DTSTART;TZID=Europe/Madrid:20260218T170000
DTEND;TZID=Europe/Madrid:20260218T203000
DTSTAMP:20260423T131440
CREATED:20260212T085719Z
LAST-MODIFIED:20260212T085812Z
UID:10005332-1771434000-1771446600@www.losmontesinos.es
SUMMARY:Donación de sangre
DESCRIPTION:De 17.00 a 20.30 horas en la Plaza del Ayuntamiento . \nDona sangre y plasma\, salva vidas!
URL:https://www.losmontesinos.es/event/donacion-de-sangre-22/
LOCATION:Centro Cívico y Social (Hogar del Jubilado)\, Plaza del Ayuntamiento\, 2\, Los Montesinos\, Alicante\, 03187\, España
CATEGORIES:Servicios
ATTACH;FMTTYPE=image/jpeg:https://www.losmontesinos.es/wp-content/uploads/2026/02/Donacion-sangre-febrero-2026-Los-Montesinso.jpg
END:VEVENT
BEGIN:VEVENT
DTSTART;TZID=Europe/Madrid:20260218T170000
DTEND;TZID=Europe/Madrid:20260218T213000
DTSTAMP:20260423T131440
CREATED:20260305T082131Z
LAST-MODIFIED:20260305T082131Z
UID:10005356-1771434000-1771450200@www.losmontesinos.es
SUMMARY:Semana Santa 2026
DESCRIPTION:MIÉRCOLES DE CENIZA \nA las 17:00h\, celebración de la Imposición de Ceniza a niños y niñas. \nA las 20:00h\, Santa Misa con Imposición de Ceniza y encendido de la Cruz de Cuaresma.
URL:https://www.losmontesinos.es/event/semana-santa-2026-18/
LOCATION:Iglesia Parroquial de Los Montesinos\, Plaza del Ayuntamiento\, 2\, Los Montesinos\, Alicante\, 03187\, España
CATEGORIES:Semana Santa
ATTACH;FMTTYPE=image/jpeg:https://www.losmontesinos.es/wp-content/uploads/2026/03/Cartel-semana-santa-2026.jpg
END:VEVENT
END:VCALENDAR