BEGIN:VCALENDAR
VERSION:2.0
PRODID:-//Ayuntamiento - ECPv6.15.15//NONSGML v1.0//EN
CALSCALE:GREGORIAN
METHOD:PUBLISH
X-ORIGINAL-URL:https://www.losmontesinos.es
X-WR-CALDESC:Eventos para Ayuntamiento
REFRESH-INTERVAL;VALUE=DURATION:PT1H
X-Robots-Tag:noindex
X-PUBLISHED-TTL:PT1H
BEGIN:VTIMEZONE
TZID:Europe/Madrid
BEGIN:DAYLIGHT
TZOFFSETFROM:+0100
TZOFFSETTO:+0200
TZNAME:CEST
DTSTART:20250330T010000
END:DAYLIGHT
BEGIN:STANDARD
TZOFFSETFROM:+0200
TZOFFSETTO:+0100
TZNAME:CET
DTSTART:20251026T010000
END:STANDARD
BEGIN:DAYLIGHT
TZOFFSETFROM:+0100
TZOFFSETTO:+0200
TZNAME:CEST
DTSTART:20260329T010000
END:DAYLIGHT
BEGIN:STANDARD
TZOFFSETFROM:+0200
TZOFFSETTO:+0100
TZNAME:CET
DTSTART:20261025T010000
END:STANDARD
BEGIN:DAYLIGHT
TZOFFSETFROM:+0100
TZOFFSETTO:+0200
TZNAME:CEST
DTSTART:20270328T010000
END:DAYLIGHT
BEGIN:STANDARD
TZOFFSETFROM:+0200
TZOFFSETTO:+0100
TZNAME:CET
DTSTART:20271031T010000
END:STANDARD
END:VTIMEZONE
BEGIN:VEVENT
DTSTART;TZID=Europe/Madrid:20260126T083000
DTEND;TZID=Europe/Madrid:20260126T143000
DTSTAMP:20260423T145946
CREATED:20260108T112751Z
LAST-MODIFIED:20260108T112751Z
UID:10005314-1769416200-1769437800@www.losmontesinos.es
SUMMARY:Visita del Ecoparque móvil 'Consorcio Vega Baja Sostenible'
DESCRIPTION:8.30 a 14.30 horas en C/ El Sol\nDale vida a tus residuos: RECICLA\, REUTILIZA\, REDUCE\nConsulta en la imagen la cantidad máxima de ciertos residuos que puedes llevar:
URL:https://www.losmontesinos.es/event/visita-del-ecoparque-movil-consorcio-vega-baja-sostenible-22/
LOCATION:Alicante
CATEGORIES:Servicios
ATTACH;FMTTYPE=image/jpeg:https://www.losmontesinos.es/wp-content/uploads/2026/01/FUNCIONAMIENTO-ECOPARQUE-MOVIL-Los-Montesinos-2020.jpg
END:VEVENT
END:VCALENDAR