BEGIN:VCALENDAR
VERSION:2.0
PRODID:-//Ayuntamiento - ECPv6.15.15//NONSGML v1.0//EN
CALSCALE:GREGORIAN
METHOD:PUBLISH
X-ORIGINAL-URL:https://www.losmontesinos.es
X-WR-CALDESC:Eventos para Ayuntamiento
REFRESH-INTERVAL;VALUE=DURATION:PT1H
X-Robots-Tag:noindex
X-PUBLISHED-TTL:PT1H
BEGIN:VTIMEZONE
TZID:Europe/Madrid
BEGIN:DAYLIGHT
TZOFFSETFROM:+0100
TZOFFSETTO:+0200
TZNAME:CEST
DTSTART:20250330T010000
END:DAYLIGHT
BEGIN:STANDARD
TZOFFSETFROM:+0200
TZOFFSETTO:+0100
TZNAME:CET
DTSTART:20251026T010000
END:STANDARD
BEGIN:DAYLIGHT
TZOFFSETFROM:+0100
TZOFFSETTO:+0200
TZNAME:CEST
DTSTART:20260329T010000
END:DAYLIGHT
BEGIN:STANDARD
TZOFFSETFROM:+0200
TZOFFSETTO:+0100
TZNAME:CET
DTSTART:20261025T010000
END:STANDARD
BEGIN:DAYLIGHT
TZOFFSETFROM:+0100
TZOFFSETTO:+0200
TZNAME:CEST
DTSTART:20270328T010000
END:DAYLIGHT
BEGIN:STANDARD
TZOFFSETFROM:+0200
TZOFFSETTO:+0100
TZNAME:CET
DTSTART:20271031T010000
END:STANDARD
END:VTIMEZONE
BEGIN:VEVENT
DTSTART;TZID=Europe/Madrid:20260105T083000
DTEND;TZID=Europe/Madrid:20260105T143000
DTSTAMP:20260423T183934
CREATED:20260108T113020Z
LAST-MODIFIED:20260108T113020Z
UID:10005315-1767601800-1767623400@www.losmontesinos.es
SUMMARY:Visita del Ecoparque móvil ‘Consorcio Vega Baja Sostenible’
DESCRIPTION:8.30 a 14.30 horas en C/ El Sol\nDale vida a tus residuos: RECICLA\, REUTILIZA\, REDUCE\nConsulta en la imagen la cantidad máxima de ciertos residuos que puedes llevar: \n \n 
URL:https://www.losmontesinos.es/event/visita-del-ecoparque-movil-consorcio-vega-baja-sostenible-23/
LOCATION:Alicante
CATEGORIES:Servicios
ATTACH;FMTTYPE=image/jpeg:https://www.losmontesinos.es/wp-content/uploads/2026/01/FUNCIONAMIENTO-ECOPARQUE-MOVIL-Los-Montesinos-2020.jpg
END:VEVENT
BEGIN:VEVENT
DTSTART;TZID=Europe/Madrid:20260105T180000
DTEND;TZID=Europe/Madrid:20260105T210000
DTSTAMP:20260423T183934
CREATED:20251201T111827Z
LAST-MODIFIED:20251201T111827Z
UID:10005305-1767636000-1767646800@www.losmontesinos.es
SUMMARY:Navidad 2025
DESCRIPTION:A las 18.00h\, Cabalgata de Reyes Magos con la participación del GYM Ballesta y la Agrupación Musical Montesinos. \nRecorrido: Calle Mayor hasta la Plaza del Ayuntamiento.
URL:https://www.losmontesinos.es/event/navidad-2025-16/
LOCATION:Plaza del Ayuntamiento\, Plaza del Ayuntamiento\, 1\, Los Montesinos\, Alicante\, 03187\, España
CATEGORIES:Navidad
ATTACH;FMTTYPE=image/jpeg:https://www.losmontesinos.es/wp-content/uploads/2025/12/cartel-navidad-2025-montesinos.jpg
END:VEVENT
END:VCALENDAR