BEGIN:VCALENDAR
VERSION:2.0
PRODID:-//Ayuntamiento - ECPv6.15.15//NONSGML v1.0//EN
CALSCALE:GREGORIAN
METHOD:PUBLISH
X-WR-CALNAME:Ayuntamiento
X-ORIGINAL-URL:https://www.losmontesinos.es
X-WR-CALDESC:Eventos para Ayuntamiento
REFRESH-INTERVAL;VALUE=DURATION:PT1H
X-Robots-Tag:noindex
X-PUBLISHED-TTL:PT1H
BEGIN:VTIMEZONE
TZID:Europe/Madrid
BEGIN:DAYLIGHT
TZOFFSETFROM:+0100
TZOFFSETTO:+0200
TZNAME:CEST
DTSTART:20190331T010000
END:DAYLIGHT
BEGIN:STANDARD
TZOFFSETFROM:+0200
TZOFFSETTO:+0100
TZNAME:CET
DTSTART:20191027T010000
END:STANDARD
BEGIN:DAYLIGHT
TZOFFSETFROM:+0100
TZOFFSETTO:+0200
TZNAME:CEST
DTSTART:20200329T010000
END:DAYLIGHT
BEGIN:STANDARD
TZOFFSETFROM:+0200
TZOFFSETTO:+0100
TZNAME:CET
DTSTART:20201025T010000
END:STANDARD
BEGIN:DAYLIGHT
TZOFFSETFROM:+0100
TZOFFSETTO:+0200
TZNAME:CEST
DTSTART:20210328T010000
END:DAYLIGHT
BEGIN:STANDARD
TZOFFSETFROM:+0200
TZOFFSETTO:+0100
TZNAME:CET
DTSTART:20211031T010000
END:STANDARD
END:VTIMEZONE
BEGIN:VEVENT
DTSTART;TZID=Europe/Madrid:20200610T090000
DTEND;TZID=Europe/Madrid:20200610T140000
DTSTAMP:20260426T043807
CREATED:20200518T105042Z
LAST-MODIFIED:20200518T105042Z
UID:10003955-1591779600-1591797600@www.losmontesinos.es
SUMMARY:SUMA (solo pagos\, fraccionamientos y domiciliaciones)
DESCRIPTION:
URL:https://www.losmontesinos.es/event/suma-solo-pagos-fraccionamientos-y-domiciliaciones-2/
LOCATION:Ayuntamiento de Los Montesinos\, Plaza Del Ayuntamiento\, 1\, Los Montesinos\, Alicante\, 03187\, España
CATEGORIES:Servicios
ATTACH;FMTTYPE=image/jpeg:https://www.losmontesinos.es/wp-content/uploads/2020/02/Escudo-500X500.jpg
END:VEVENT
BEGIN:VEVENT
DTSTART;TZID=Europe/Madrid:20200610T090000
DTEND;TZID=Europe/Madrid:20200610T140000
DTSTAMP:20260426T043807
CREATED:20200518T105042Z
LAST-MODIFIED:20200518T105042Z
UID:10003956-1591779600-1591797600@www.losmontesinos.es
SUMMARY:SUMA (solo pagos\, fraccionamientos y domiciliaciones)
DESCRIPTION:
URL:https://www.losmontesinos.es/event/suma-solo-pagos-fraccionamientos-y-domiciliaciones-2/
LOCATION:Ayuntamiento de Los Montesinos\, Plaza Del Ayuntamiento\, 1\, Los Montesinos\, Alicante\, 03187\, España
CATEGORIES:Servicios
ATTACH;FMTTYPE=image/jpeg:https://www.losmontesinos.es/wp-content/uploads/2020/02/Escudo-500X500.jpg
END:VEVENT
BEGIN:VEVENT
DTSTART;TZID=Europe/Madrid:20200610T090000
DTEND;TZID=Europe/Madrid:20200610T140000
DTSTAMP:20260426T043807
CREATED:20200518T105042Z
LAST-MODIFIED:20200518T105042Z
UID:10003957-1591779600-1591797600@www.losmontesinos.es
SUMMARY:SUMA (solo pagos\, fraccionamientos y domiciliaciones)
DESCRIPTION:
URL:https://www.losmontesinos.es/event/suma-solo-pagos-fraccionamientos-y-domiciliaciones-2-2/
LOCATION:Ayuntamiento de Los Montesinos\, Plaza Del Ayuntamiento\, 1\, Los Montesinos\, Alicante\, 03187\, España
CATEGORIES:Servicios
ATTACH;FMTTYPE=image/jpeg:https://www.losmontesinos.es/wp-content/uploads/2020/02/Escudo-500X500.jpg
END:VEVENT
BEGIN:VEVENT
DTSTART;TZID=Europe/Madrid:20200610T170000
DTEND;TZID=Europe/Madrid:20200610T203000
DTSTAMP:20260426T043807
CREATED:20200601T101359Z
LAST-MODIFIED:20200601T101359Z
UID:10003958-1591808400-1591821000@www.losmontesinos.es
SUMMARY:Donación de Sangre
DESCRIPTION:A partir de las 17.00 horas y hasta las 20.30 horas aproximadamente\, la Unidad Móvil del Centro de Transfusiones de la Generalitat Valenciana estará a las puertas del Centro Cívico y Social (Hogar del Jubilado) para atender a todas las personas que deseen donar sangre (les atenderán aplicando todas las medidas de seguridad recomendadas por el Ministerio de Sanidad durante la crisis sanitaria por COVID-19). \n#DonarSangreSalvaVidas \n#DonaSangreSalva3Vidas \n#Donanters 
URL:https://www.losmontesinos.es/event/donacion-de-sangre-6/
LOCATION:Centro Cívico y Social (Hogar del Jubilado)\, Plaza del Ayuntamiento\, 2\, Los Montesinos\, Alicante\, 03187\, España
CATEGORIES:Servicios
ATTACH;FMTTYPE=image/jpeg:https://www.losmontesinos.es/wp-content/uploads/2020/06/Donacion-Sangre-junio-2020.jpg
END:VEVENT
BEGIN:VEVENT
DTSTART;TZID=Europe/Madrid:20200610T170000
DTEND;TZID=Europe/Madrid:20200610T203000
DTSTAMP:20260426T043807
CREATED:20200601T101359Z
LAST-MODIFIED:20200601T101359Z
UID:10003959-1591808400-1591821000@www.losmontesinos.es
SUMMARY:Donación de Sangre
DESCRIPTION:A partir de las 17.00 horas y hasta las 20.30 horas aproximadamente\, la Unidad Móvil del Centro de Transfusiones de la Generalitat Valenciana estará a las puertas del Centro Cívico y Social (Hogar del Jubilado) para atender a todas las personas que deseen donar sangre (les atenderán aplicando todas las medidas de seguridad recomendadas por el Ministerio de Sanidad durante la crisis sanitaria por COVID-19). \n#DonarSangreSalvaVidas \n#DonaSangreSalva3Vidas \n#Donanters 
URL:https://www.losmontesinos.es/event/donacion-de-sangre-6/
LOCATION:Centro Cívico y Social (Hogar del Jubilado)\, Plaza del Ayuntamiento\, 2\, Los Montesinos\, Alicante\, 03187\, España
CATEGORIES:Servicios
ATTACH;FMTTYPE=image/jpeg:https://www.losmontesinos.es/wp-content/uploads/2020/06/Donacion-Sangre-junio-2020.jpg
END:VEVENT
BEGIN:VEVENT
DTSTART;TZID=Europe/Madrid:20200610T170000
DTEND;TZID=Europe/Madrid:20200610T203000
DTSTAMP:20260426T043807
CREATED:20200601T101359Z
LAST-MODIFIED:20200601T101359Z
UID:10003960-1591808400-1591821000@www.losmontesinos.es
SUMMARY:Donación de Sangre
DESCRIPTION:A partir de las 17.00 horas y hasta las 20.30 horas aproximadamente\, la Unidad Móvil del Centro de Transfusiones de la Generalitat Valenciana estará a las puertas del Centro Cívico y Social (Hogar del Jubilado) para atender a todas las personas que deseen donar sangre (les atenderán aplicando todas las medidas de seguridad recomendadas por el Ministerio de Sanidad durante la crisis sanitaria por COVID-19). \n#DonarSangreSalvaVidas \n#DonaSangreSalva3Vidas \n#Donanters 
URL:https://www.losmontesinos.es/event/donacion-de-sangre-6-2/
LOCATION:Centro Cívico y Social (Hogar del Jubilado)\, Plaza del Ayuntamiento\, 2\, Los Montesinos\, Alicante\, 03187\, España
CATEGORIES:Servicios
ATTACH;FMTTYPE=image/jpeg:https://www.losmontesinos.es/wp-content/uploads/2020/06/Donacion-Sangre-junio-2020.jpg
END:VEVENT
END:VCALENDAR