BEGIN:VCALENDAR
VERSION:2.0
PRODID:-//Ayuntamiento - ECPv6.15.15//NONSGML v1.0//EN
CALSCALE:GREGORIAN
METHOD:PUBLISH
X-ORIGINAL-URL:https://www.losmontesinos.es
X-WR-CALDESC:Eventos para Ayuntamiento
REFRESH-INTERVAL;VALUE=DURATION:PT1H
X-Robots-Tag:noindex
X-PUBLISHED-TTL:PT1H
BEGIN:VTIMEZONE
TZID:Europe/Madrid
BEGIN:DAYLIGHT
TZOFFSETFROM:+0100
TZOFFSETTO:+0200
TZNAME:CEST
DTSTART:20190331T010000
END:DAYLIGHT
BEGIN:STANDARD
TZOFFSETFROM:+0200
TZOFFSETTO:+0100
TZNAME:CET
DTSTART:20191027T010000
END:STANDARD
BEGIN:DAYLIGHT
TZOFFSETFROM:+0100
TZOFFSETTO:+0200
TZNAME:CEST
DTSTART:20200329T010000
END:DAYLIGHT
BEGIN:STANDARD
TZOFFSETFROM:+0200
TZOFFSETTO:+0100
TZNAME:CET
DTSTART:20201025T010000
END:STANDARD
BEGIN:DAYLIGHT
TZOFFSETFROM:+0100
TZOFFSETTO:+0200
TZNAME:CEST
DTSTART:20210328T010000
END:DAYLIGHT
BEGIN:STANDARD
TZOFFSETFROM:+0200
TZOFFSETTO:+0100
TZNAME:CET
DTSTART:20211031T010000
END:STANDARD
END:VTIMEZONE
BEGIN:VEVENT
DTSTART;TZID=Europe/Madrid:20200331T090000
DTEND;TZID=Europe/Madrid:20200331T140000
DTSTAMP:20260425T212947
CREATED:20200220T112639Z
LAST-MODIFIED:20200220T112639Z
UID:10003917-1585645200-1585663200@www.losmontesinos.es
SUMMARY:**Aplazado** contactar por teléfono con ASAJA\, tramitación PAC agricultores
DESCRIPTION:De 9.00 a 14.00 horas técnicos de ASAJA\, jóvenes agricultores asesoran y asisten en el Ayuntamiento para la tramitación de las ayudas PAC campaña 2020.\nNo es necesaria cita previa.
URL:https://www.losmontesinos.es/event/asaja-tramitacion-pac-agricultores-18/
LOCATION:Plaza del Ayuntamiento\, Plaza del Ayuntamiento\, 1\, Los Montesinos\, Alicante\, 03187\, España
CATEGORIES:Servicios
ATTACH;FMTTYPE=image/jpeg:https://www.losmontesinos.es/wp-content/uploads/2020/02/ASAJA-Citricos-PAC-2018-Los-Montesinos-724x1024-1.jpg
END:VEVENT
BEGIN:VEVENT
DTSTART;TZID=Europe/Madrid:20200331T090000
DTEND;TZID=Europe/Madrid:20200331T140000
DTSTAMP:20260425T212947
CREATED:20200220T112639Z
LAST-MODIFIED:20200220T112639Z
UID:10003918-1585645200-1585663200@www.losmontesinos.es
SUMMARY:**Aplazado** contactar por teléfono con ASAJA\, tramitación PAC agricultores
DESCRIPTION:De 9.00 a 14.00 horas técnicos de ASAJA\, jóvenes agricultores asesoran y asisten en el Ayuntamiento para la tramitación de las ayudas PAC campaña 2020.\nNo es necesaria cita previa.
URL:https://www.losmontesinos.es/event/asaja-tramitacion-pac-agricultores-18/
LOCATION:Plaza del Ayuntamiento\, Plaza del Ayuntamiento\, 1\, Los Montesinos\, Alicante\, 03187\, España
CATEGORIES:Servicios
ATTACH;FMTTYPE=image/jpeg:https://www.losmontesinos.es/wp-content/uploads/2020/02/ASAJA-Citricos-PAC-2018-Los-Montesinos-724x1024-1.jpg
END:VEVENT
BEGIN:VEVENT
DTSTART;TZID=Europe/Madrid:20200331T090000
DTEND;TZID=Europe/Madrid:20200331T140000
DTSTAMP:20260425T212947
CREATED:20200220T112639Z
LAST-MODIFIED:20200220T112639Z
UID:10003919-1585645200-1585663200@www.losmontesinos.es
SUMMARY:**Aplazado** contactar por teléfono con ASAJA\, tramitación PAC agricultores
DESCRIPTION:De 9.00 a 14.00 horas técnicos de ASAJA\, jóvenes agricultores asesoran y asisten en el Ayuntamiento para la tramitación de las ayudas PAC campaña 2020.\nNo es necesaria cita previa.
URL:https://www.losmontesinos.es/event/asaja-tramitacion-pac-agricultores-18-2/
LOCATION:Plaza del Ayuntamiento\, Plaza del Ayuntamiento\, 1\, Los Montesinos\, Alicante\, 03187\, España
CATEGORIES:Servicios
ATTACH;FMTTYPE=image/jpeg:https://www.losmontesinos.es/wp-content/uploads/2020/02/ASAJA-Citricos-PAC-2018-Los-Montesinos-724x1024-1.jpg
END:VEVENT
END:VCALENDAR