BEGIN:VCALENDAR
VERSION:2.0
PRODID:-//Ayuntamiento - ECPv6.15.15//NONSGML v1.0//EN
CALSCALE:GREGORIAN
METHOD:PUBLISH
X-ORIGINAL-URL:https://www.losmontesinos.es
X-WR-CALDESC:Eventos para Ayuntamiento
REFRESH-INTERVAL;VALUE=DURATION:PT1H
X-Robots-Tag:noindex
X-PUBLISHED-TTL:PT1H
BEGIN:VTIMEZONE
TZID:Europe/Madrid
BEGIN:DAYLIGHT
TZOFFSETFROM:+0100
TZOFFSETTO:+0200
TZNAME:CEST
DTSTART:20190331T010000
END:DAYLIGHT
BEGIN:STANDARD
TZOFFSETFROM:+0200
TZOFFSETTO:+0100
TZNAME:CET
DTSTART:20191027T010000
END:STANDARD
BEGIN:DAYLIGHT
TZOFFSETFROM:+0100
TZOFFSETTO:+0200
TZNAME:CEST
DTSTART:20200329T010000
END:DAYLIGHT
BEGIN:STANDARD
TZOFFSETFROM:+0200
TZOFFSETTO:+0100
TZNAME:CET
DTSTART:20201025T010000
END:STANDARD
BEGIN:DAYLIGHT
TZOFFSETFROM:+0100
TZOFFSETTO:+0200
TZNAME:CEST
DTSTART:20210328T010000
END:DAYLIGHT
BEGIN:STANDARD
TZOFFSETFROM:+0200
TZOFFSETTO:+0100
TZNAME:CET
DTSTART:20211031T010000
END:STANDARD
END:VTIMEZONE
BEGIN:VEVENT
DTSTART;TZID=Europe/Madrid:20200329T193000
DTEND;TZID=Europe/Madrid:20200329T213000
DTSTAMP:20260425T194659
CREATED:20200309T095853Z
LAST-MODIFIED:20200309T095853Z
UID:10003933-1585510200-1585517400@www.losmontesinos.es
SUMMARY:**Actos suspendidos** SEMANA SANTA en Los Montesinos
DESCRIPTION:Para más información contactar con la Parroquia. \n____________________________________________________________- \nA las 19.30h.\, Convocatoria a todos los cofrades\, Junta Mayor de Cofradías\, Directivos de Cofradías\, Autoridades y pueblo en general\, en la Iglesia Parroquial al PREGÓN de la SEMANA SANTA\, desde donde saldremos en comitiva tras los Estandartes de cada Cofradía hacia el Auditorio\, donde a las 20.00h. comenzará el Pregón a cargo de D. José Antonio Andújar Alonso\, Presidente de la Comunidad de Regantes Riegos de Levante\, margen derecha y pregonero de la Semana Santa 2020\, siendo clausurado el acto con la actuación de la Coral ‘Aromas de Azahar’ que interpretará un repertorio Sacro relacionado con nuestra Semana Santa.
URL:https://www.losmontesinos.es/event/semana-santa-en-los-montesinos-5/
LOCATION:Alicante
CATEGORIES:Semana Santa
ATTACH;FMTTYPE=image/jpeg:https://www.losmontesinos.es/wp-content/uploads/2020/03/Cartel-Semana-Santa-2020-Los-Montesinos.jpg
END:VEVENT
BEGIN:VEVENT
DTSTART;TZID=Europe/Madrid:20200329T193000
DTEND;TZID=Europe/Madrid:20200329T213000
DTSTAMP:20260425T194659
CREATED:20200309T095853Z
LAST-MODIFIED:20200309T095853Z
UID:10003934-1585510200-1585517400@www.losmontesinos.es
SUMMARY:**Actos suspendidos** SEMANA SANTA en Los Montesinos
DESCRIPTION:Para más información contactar con la Parroquia. \n____________________________________________________________- \nA las 19.30h.\, Convocatoria a todos los cofrades\, Junta Mayor de Cofradías\, Directivos de Cofradías\, Autoridades y pueblo en general\, en la Iglesia Parroquial al PREGÓN de la SEMANA SANTA\, desde donde saldremos en comitiva tras los Estandartes de cada Cofradía hacia el Auditorio\, donde a las 20.00h. comenzará el Pregón a cargo de D. José Antonio Andújar Alonso\, Presidente de la Comunidad de Regantes Riegos de Levante\, margen derecha y pregonero de la Semana Santa 2020\, siendo clausurado el acto con la actuación de la Coral ‘Aromas de Azahar’ que interpretará un repertorio Sacro relacionado con nuestra Semana Santa.
URL:https://www.losmontesinos.es/event/semana-santa-en-los-montesinos-5/
LOCATION:Alicante
CATEGORIES:Semana Santa
ATTACH;FMTTYPE=image/jpeg:https://www.losmontesinos.es/wp-content/uploads/2020/03/Cartel-Semana-Santa-2020-Los-Montesinos.jpg
END:VEVENT
BEGIN:VEVENT
DTSTART;TZID=Europe/Madrid:20200329T193000
DTEND;TZID=Europe/Madrid:20200329T213000
DTSTAMP:20260425T194659
CREATED:20200309T095853Z
LAST-MODIFIED:20200309T095853Z
UID:10003935-1585510200-1585517400@www.losmontesinos.es
SUMMARY:**Actos suspendidos** SEMANA SANTA en Los Montesinos
DESCRIPTION:Para más información contactar con la Parroquia. \n____________________________________________________________- \nA las 19.30h.\, Convocatoria a todos los cofrades\, Junta Mayor de Cofradías\, Directivos de Cofradías\, Autoridades y pueblo en general\, en la Iglesia Parroquial al PREGÓN de la SEMANA SANTA\, desde donde saldremos en comitiva tras los Estandartes de cada Cofradía hacia el Auditorio\, donde a las 20.00h. comenzará el Pregón a cargo de D. José Antonio Andújar Alonso\, Presidente de la Comunidad de Regantes Riegos de Levante\, margen derecha y pregonero de la Semana Santa 2020\, siendo clausurado el acto con la actuación de la Coral ‘Aromas de Azahar’ que interpretará un repertorio Sacro relacionado con nuestra Semana Santa.
URL:https://www.losmontesinos.es/event/semana-santa-en-los-montesinos-5-2/
LOCATION:Alicante
CATEGORIES:Semana Santa
ATTACH;FMTTYPE=image/jpeg:https://www.losmontesinos.es/wp-content/uploads/2020/03/Cartel-Semana-Santa-2020-Los-Montesinos.jpg
END:VEVENT
END:VCALENDAR