BEGIN:VCALENDAR
VERSION:2.0
PRODID:-//Ayuntamiento - ECPv6.15.15//NONSGML v1.0//EN
CALSCALE:GREGORIAN
METHOD:PUBLISH
X-ORIGINAL-URL:https://www.losmontesinos.es
X-WR-CALDESC:Eventos para Ayuntamiento
REFRESH-INTERVAL;VALUE=DURATION:PT1H
X-Robots-Tag:noindex
X-PUBLISHED-TTL:PT1H
BEGIN:VTIMEZONE
TZID:Europe/Madrid
BEGIN:DAYLIGHT
TZOFFSETFROM:+0100
TZOFFSETTO:+0200
TZNAME:CEST
DTSTART:20190331T010000
END:DAYLIGHT
BEGIN:STANDARD
TZOFFSETFROM:+0200
TZOFFSETTO:+0100
TZNAME:CET
DTSTART:20191027T010000
END:STANDARD
BEGIN:DAYLIGHT
TZOFFSETFROM:+0100
TZOFFSETTO:+0200
TZNAME:CEST
DTSTART:20200329T010000
END:DAYLIGHT
BEGIN:STANDARD
TZOFFSETFROM:+0200
TZOFFSETTO:+0100
TZNAME:CET
DTSTART:20201025T010000
END:STANDARD
BEGIN:DAYLIGHT
TZOFFSETFROM:+0100
TZOFFSETTO:+0200
TZNAME:CEST
DTSTART:20210328T010000
END:DAYLIGHT
BEGIN:STANDARD
TZOFFSETFROM:+0200
TZOFFSETTO:+0100
TZNAME:CET
DTSTART:20211031T010000
END:STANDARD
END:VTIMEZONE
BEGIN:VEVENT
DTSTART;TZID=Europe/Madrid:20200324T083000
DTEND;TZID=Europe/Madrid:20200325T113000
DTSTAMP:20260425T212945
CREATED:20200218T135014Z
LAST-MODIFIED:20200218T135014Z
UID:10003906-1585038600-1585135800@www.losmontesinos.es
SUMMARY:***Cancelada***RENOVACIÓN DNI
DESCRIPTION:Se suspende la renovación del DNI que estaba prevista para los próximos días 24 y 25 de marzo en dependencias municipales. No obstante\, señalar que la Policía Nacional ha comunicado que se amplía en seis meses más la validez de los DNI que estuviesen caducados hasta que se restablezca la normalidad en el servicio de renovaciones en el municipio. Disculpen las molestias. \n:::::::::::::::::::::::::::::::::::::::::::::::::::::::::::::::::::::::::::::::::::: \nNo se atenderá sin cita previa\, más información en el Ayuntamiento (966721087).
URL:https://www.losmontesinos.es/event/renovacion-dni-3/
LOCATION:Ayuntamiento de Los Montesinos\, Plaza Del Ayuntamiento\, 1\, Los Montesinos\, Alicante\, 03187\, España
CATEGORIES:Servicios
ATTACH;FMTTYPE=image/jpeg:https://www.losmontesinos.es/wp-content/uploads/2020/02/Escudo-500X500.jpg
END:VEVENT
BEGIN:VEVENT
DTSTART;TZID=Europe/Madrid:20200324T083000
DTEND;TZID=Europe/Madrid:20200325T113000
DTSTAMP:20260425T212945
CREATED:20200218T135014Z
LAST-MODIFIED:20200218T135014Z
UID:10003907-1585038600-1585135800@www.losmontesinos.es
SUMMARY:***Cancelada***RENOVACIÓN DNI
DESCRIPTION:Se suspende la renovación del DNI que estaba prevista para los próximos días 24 y 25 de marzo en dependencias municipales. No obstante\, señalar que la Policía Nacional ha comunicado que se amplía en seis meses más la validez de los DNI que estuviesen caducados hasta que se restablezca la normalidad en el servicio de renovaciones en el municipio. Disculpen las molestias. \n:::::::::::::::::::::::::::::::::::::::::::::::::::::::::::::::::::::::::::::::::::: \nNo se atenderá sin cita previa\, más información en el Ayuntamiento (966721087).
URL:https://www.losmontesinos.es/event/renovacion-dni-3-2/
LOCATION:Ayuntamiento de Los Montesinos\, Plaza Del Ayuntamiento\, 1\, Los Montesinos\, Alicante\, 03187\, España
CATEGORIES:Servicios
ATTACH;FMTTYPE=image/jpeg:https://www.losmontesinos.es/wp-content/uploads/2020/02/Escudo-500X500.jpg
END:VEVENT
BEGIN:VEVENT
DTSTART;TZID=Europe/Madrid:20200324T083000
DTEND;TZID=Europe/Madrid:20200325T113000
DTSTAMP:20260425T212945
CREATED:20200218T135014Z
LAST-MODIFIED:20200218T135014Z
UID:10003908-1585038600-1585135800@www.losmontesinos.es
SUMMARY:***Cancelada***RENOVACIÓN DNI
DESCRIPTION:Se suspende la renovación del DNI que estaba prevista para los próximos días 24 y 25 de marzo en dependencias municipales. No obstante\, señalar que la Policía Nacional ha comunicado que se amplía en seis meses más la validez de los DNI que estuviesen caducados hasta que se restablezca la normalidad en el servicio de renovaciones en el municipio. Disculpen las molestias. \n:::::::::::::::::::::::::::::::::::::::::::::::::::::::::::::::::::::::::::::::::::: \nNo se atenderá sin cita previa\, más información en el Ayuntamiento (966721087).
URL:https://www.losmontesinos.es/event/renovacion-dni-3/
LOCATION:Ayuntamiento de Los Montesinos\, Plaza Del Ayuntamiento\, 1\, Los Montesinos\, Alicante\, 03187\, España
CATEGORIES:Servicios
ATTACH;FMTTYPE=image/jpeg:https://www.losmontesinos.es/wp-content/uploads/2020/02/Escudo-500X500.jpg
END:VEVENT
BEGIN:VEVENT
DTSTART;TZID=Europe/Madrid:20200324T100000
DTEND;TZID=Europe/Madrid:20200325T183000
DTSTAMP:20260425T212945
CREATED:20200309T083619Z
LAST-MODIFIED:20200309T083619Z
UID:10004534-1585044000-1585161000@www.losmontesinos.es
SUMMARY:**Actos suspendidos** SEMANA SANTA en Los Montesinos
DESCRIPTION:Para más información contactar con la Parroquia. \n______________________________________________________________ \nDe 10.00 a 12.00 horas\, celebración de las CUARENTA HORAS. \nDe 16.00 a 18.30 horas\, celebración de las CUARENTA HORAS.
URL:https://www.losmontesinos.es/event/semana-santa-en-los-montesinos-2/
LOCATION:Iglesia Parroquial de Los Montesinos\, Plaza del Ayuntamiento\, 2\, Los Montesinos\, Alicante\, 03187\, España
CATEGORIES:Semana Santa
ATTACH;FMTTYPE=image/jpeg:https://www.losmontesinos.es/wp-content/uploads/2020/03/Cartel-Semana-Santa-2020-Los-Montesinos.jpg
END:VEVENT
BEGIN:VEVENT
DTSTART;TZID=Europe/Madrid:20200324T100000
DTEND;TZID=Europe/Madrid:20200325T183000
DTSTAMP:20260425T212945
CREATED:20200309T083619Z
LAST-MODIFIED:20200309T083619Z
UID:10004535-1585044000-1585161000@www.losmontesinos.es
SUMMARY:**Actos suspendidos** SEMANA SANTA en Los Montesinos
DESCRIPTION:Para más información contactar con la Parroquia. \n______________________________________________________________ \nDe 10.00 a 12.00 horas\, celebración de las CUARENTA HORAS. \nDe 16.00 a 18.30 horas\, celebración de las CUARENTA HORAS.
URL:https://www.losmontesinos.es/event/semana-santa-en-los-montesinos-2/
LOCATION:Iglesia Parroquial de Los Montesinos\, Plaza del Ayuntamiento\, 2\, Los Montesinos\, Alicante\, 03187\, España
CATEGORIES:Semana Santa
ATTACH;FMTTYPE=image/jpeg:https://www.losmontesinos.es/wp-content/uploads/2020/03/Cartel-Semana-Santa-2020-Los-Montesinos.jpg
END:VEVENT
BEGIN:VEVENT
DTSTART;TZID=Europe/Madrid:20200324T100000
DTEND;TZID=Europe/Madrid:20200325T183000
DTSTAMP:20260425T212945
CREATED:20200309T083619Z
LAST-MODIFIED:20200309T083619Z
UID:10004536-1585044000-1585161000@www.losmontesinos.es
SUMMARY:**Actos suspendidos** SEMANA SANTA en Los Montesinos
DESCRIPTION:Para más información contactar con la Parroquia. \n______________________________________________________________ \nDe 10.00 a 12.00 horas\, celebración de las CUARENTA HORAS. \nDe 16.00 a 18.30 horas\, celebración de las CUARENTA HORAS.
URL:https://www.losmontesinos.es/event/semana-santa-en-los-montesinos-2-2/
LOCATION:Iglesia Parroquial de Los Montesinos\, Plaza del Ayuntamiento\, 2\, Los Montesinos\, Alicante\, 03187\, España
CATEGORIES:Semana Santa
ATTACH;FMTTYPE=image/jpeg:https://www.losmontesinos.es/wp-content/uploads/2020/03/Cartel-Semana-Santa-2020-Los-Montesinos.jpg
END:VEVENT
END:VCALENDAR