BEGIN:VCALENDAR
VERSION:2.0
PRODID:-//Ayuntamiento - ECPv6.15.15//NONSGML v1.0//EN
CALSCALE:GREGORIAN
METHOD:PUBLISH
X-WR-CALNAME:Ayuntamiento
X-ORIGINAL-URL:https://www.losmontesinos.es
X-WR-CALDESC:Eventos para Ayuntamiento
REFRESH-INTERVAL;VALUE=DURATION:PT1H
X-Robots-Tag:noindex
X-PUBLISHED-TTL:PT1H
BEGIN:VTIMEZONE
TZID:Europe/Madrid
BEGIN:DAYLIGHT
TZOFFSETFROM:+0100
TZOFFSETTO:+0200
TZNAME:CEST
DTSTART:20190331T010000
END:DAYLIGHT
BEGIN:STANDARD
TZOFFSETFROM:+0200
TZOFFSETTO:+0100
TZNAME:CET
DTSTART:20191027T010000
END:STANDARD
BEGIN:DAYLIGHT
TZOFFSETFROM:+0100
TZOFFSETTO:+0200
TZNAME:CEST
DTSTART:20200329T010000
END:DAYLIGHT
BEGIN:STANDARD
TZOFFSETFROM:+0200
TZOFFSETTO:+0100
TZNAME:CET
DTSTART:20201025T010000
END:STANDARD
BEGIN:DAYLIGHT
TZOFFSETFROM:+0100
TZOFFSETTO:+0200
TZNAME:CEST
DTSTART:20210328T010000
END:DAYLIGHT
BEGIN:STANDARD
TZOFFSETFROM:+0200
TZOFFSETTO:+0100
TZNAME:CET
DTSTART:20211031T010000
END:STANDARD
END:VTIMEZONE
BEGIN:VEVENT
DTSTART;TZID=Europe/Madrid:20200323T193000
DTEND;TZID=Europe/Madrid:20200323T210000
DTSTAMP:20260425T194430
CREATED:20200212T120946Z
LAST-MODIFIED:20200212T120946Z
UID:10004507-1584991800-1584997200@www.losmontesinos.es
SUMMARY:***Aplazadas*** II JORNADAS ESCUELA MADRES Y PADRES
DESCRIPTION:Hoy la psicóloga infanto-juvenil María Gil Huedo nos hablará del miedo: ¿Dónde vive el miedo? Terrores nocturnos\, dificultad para dormir y estrés. \nA las 19.30 horas en el Centro Cívico y Social de Los Montesinos. \nLa entrada es libre\, pero por cuestiones organizativas se requiere previa inscripción en el Ayuntamiento.
URL:https://www.losmontesinos.es/event/ii-jornadas-escuela-madres-y-padres/
LOCATION:Ayuntamiento de Los Montesinos\, Plaza Del Ayuntamiento\, 1\, Los Montesinos\, Alicante\, 03187\, España
CATEGORIES:Bienestar Social
ATTACH;FMTTYPE=image/png:https://www.losmontesinos.es/wp-content/uploads/2020/02/Escuela-Padres-y-Madres-Los-Montesinos-2020.png
END:VEVENT
BEGIN:VEVENT
DTSTART;TZID=Europe/Madrid:20200323T193000
DTEND;TZID=Europe/Madrid:20200323T210000
DTSTAMP:20260425T194430
CREATED:20200212T120946Z
LAST-MODIFIED:20200212T120946Z
UID:10004508-1584991800-1584997200@www.losmontesinos.es
SUMMARY:***Aplazadas*** II JORNADAS ESCUELA MADRES Y PADRES
DESCRIPTION:Hoy la psicóloga infanto-juvenil María Gil Huedo nos hablará del miedo: ¿Dónde vive el miedo? Terrores nocturnos\, dificultad para dormir y estrés. \nA las 19.30 horas en el Centro Cívico y Social de Los Montesinos. \nLa entrada es libre\, pero por cuestiones organizativas se requiere previa inscripción en el Ayuntamiento.
URL:https://www.losmontesinos.es/event/ii-jornadas-escuela-madres-y-padres/
LOCATION:Ayuntamiento de Los Montesinos\, Plaza Del Ayuntamiento\, 1\, Los Montesinos\, Alicante\, 03187\, España
CATEGORIES:Bienestar Social
ATTACH;FMTTYPE=image/png:https://www.losmontesinos.es/wp-content/uploads/2020/02/Escuela-Padres-y-Madres-Los-Montesinos-2020.png
END:VEVENT
BEGIN:VEVENT
DTSTART;TZID=Europe/Madrid:20200323T193000
DTEND;TZID=Europe/Madrid:20200323T210000
DTSTAMP:20260425T194430
CREATED:20200212T120946Z
LAST-MODIFIED:20200212T120946Z
UID:10004509-1584991800-1584997200@www.losmontesinos.es
SUMMARY:***Aplazadas*** II JORNADAS ESCUELA MADRES Y PADRES
DESCRIPTION:Hoy la psicóloga infanto-juvenil María Gil Huedo nos hablará del miedo: ¿Dónde vive el miedo? Terrores nocturnos\, dificultad para dormir y estrés. \nA las 19.30 horas en el Centro Cívico y Social de Los Montesinos. \nLa entrada es libre\, pero por cuestiones organizativas se requiere previa inscripción en el Ayuntamiento.
URL:https://www.losmontesinos.es/event/ii-jornadas-escuela-madres-y-padres-2/
LOCATION:Ayuntamiento de Los Montesinos\, Plaza Del Ayuntamiento\, 1\, Los Montesinos\, Alicante\, 03187\, España
CATEGORIES:Bienestar Social
ATTACH;FMTTYPE=image/png:https://www.losmontesinos.es/wp-content/uploads/2020/02/Escuela-Padres-y-Madres-Los-Montesinos-2020.png
END:VEVENT
END:VCALENDAR