BEGIN:VCALENDAR
VERSION:2.0
PRODID:-//Ayuntamiento - ECPv6.15.15//NONSGML v1.0//EN
CALSCALE:GREGORIAN
METHOD:PUBLISH
X-WR-CALNAME:Ayuntamiento
X-ORIGINAL-URL:https://www.losmontesinos.es
X-WR-CALDESC:Eventos para Ayuntamiento
REFRESH-INTERVAL;VALUE=DURATION:PT1H
X-Robots-Tag:noindex
X-PUBLISHED-TTL:PT1H
BEGIN:VTIMEZONE
TZID:Europe/Madrid
BEGIN:DAYLIGHT
TZOFFSETFROM:+0100
TZOFFSETTO:+0200
TZNAME:CEST
DTSTART:20190331T010000
END:DAYLIGHT
BEGIN:STANDARD
TZOFFSETFROM:+0200
TZOFFSETTO:+0100
TZNAME:CET
DTSTART:20191027T010000
END:STANDARD
BEGIN:DAYLIGHT
TZOFFSETFROM:+0100
TZOFFSETTO:+0200
TZNAME:CEST
DTSTART:20200329T010000
END:DAYLIGHT
BEGIN:STANDARD
TZOFFSETFROM:+0200
TZOFFSETTO:+0100
TZNAME:CET
DTSTART:20201025T010000
END:STANDARD
BEGIN:DAYLIGHT
TZOFFSETFROM:+0100
TZOFFSETTO:+0200
TZNAME:CEST
DTSTART:20210328T010000
END:DAYLIGHT
BEGIN:STANDARD
TZOFFSETFROM:+0200
TZOFFSETTO:+0100
TZNAME:CET
DTSTART:20211031T010000
END:STANDARD
END:VTIMEZONE
BEGIN:VEVENT
DTSTART;TZID=Europe/Madrid:20200229T190000
DTEND;TZID=Europe/Madrid:20200229T200000
DTSTAMP:20260425T181351
CREATED:20200309T094940Z
LAST-MODIFIED:20200309T094940Z
UID:10003931-1583002800-1583006400@www.losmontesinos.es
SUMMARY:**Actos suspendidos** SEMANA SANTA en Los Montesinos
DESCRIPTION:Para más información contactar con la Parroquia. \n_______________________________________________________________ \nEn la Eucaristía de 19.00 h.\, se recibirá la Cruz del Vía Crucis.
URL:https://www.losmontesinos.es/event/semana-santa-en-los-montesinos-4/
LOCATION:Iglesia Parroquial de Los Montesinos\, Plaza del Ayuntamiento\, 2\, Los Montesinos\, Alicante\, 03187\, España
CATEGORIES:Semana Santa
ATTACH;FMTTYPE=image/jpeg:https://www.losmontesinos.es/wp-content/uploads/2020/03/Cartel-Semana-Santa-2020-Los-Montesinos.jpg
END:VEVENT
BEGIN:VEVENT
DTSTART;TZID=Europe/Madrid:20200229T190000
DTEND;TZID=Europe/Madrid:20200229T200000
DTSTAMP:20260425T181351
CREATED:20200309T094940Z
LAST-MODIFIED:20200309T094940Z
UID:10003932-1583002800-1583006400@www.losmontesinos.es
SUMMARY:**Actos suspendidos** SEMANA SANTA en Los Montesinos
DESCRIPTION:Para más información contactar con la Parroquia. \n_______________________________________________________________ \nEn la Eucaristía de 19.00 h.\, se recibirá la Cruz del Vía Crucis.
URL:https://www.losmontesinos.es/event/semana-santa-en-los-montesinos-4-2/
LOCATION:Iglesia Parroquial de Los Montesinos\, Plaza del Ayuntamiento\, 2\, Los Montesinos\, Alicante\, 03187\, España
CATEGORIES:Semana Santa
ATTACH;FMTTYPE=image/jpeg:https://www.losmontesinos.es/wp-content/uploads/2020/03/Cartel-Semana-Santa-2020-Los-Montesinos.jpg
END:VEVENT
BEGIN:VEVENT
DTSTART;TZID=Europe/Madrid:20200229T190000
DTEND;TZID=Europe/Madrid:20200229T200000
DTSTAMP:20260425T181351
CREATED:20200309T094940Z
LAST-MODIFIED:20200309T094940Z
UID:10004540-1583002800-1583006400@www.losmontesinos.es
SUMMARY:**Actos suspendidos** SEMANA SANTA en Los Montesinos
DESCRIPTION:Para más información contactar con la Parroquia. \n_______________________________________________________________ \nEn la Eucaristía de 19.00 h.\, se recibirá la Cruz del Vía Crucis.
URL:https://www.losmontesinos.es/event/semana-santa-en-los-montesinos-4/
LOCATION:Iglesia Parroquial de Los Montesinos\, Plaza del Ayuntamiento\, 2\, Los Montesinos\, Alicante\, 03187\, España
CATEGORIES:Semana Santa
ATTACH;FMTTYPE=image/jpeg:https://www.losmontesinos.es/wp-content/uploads/2020/03/Cartel-Semana-Santa-2020-Los-Montesinos.jpg
END:VEVENT
BEGIN:VEVENT
DTSTART;TZID=Europe/Madrid:20200229T203000
DTEND;TZID=Europe/Madrid:20200229T220000
DTSTAMP:20260425T181351
CREATED:20200116T130125Z
LAST-MODIFIED:20200116T130125Z
UID:10003873-1583008200-1583013600@www.losmontesinos.es
SUMMARY:JORNADAS TEATRO UNIVERSITARIO
DESCRIPTION:Obra: Cuadros de Humor y Amor\, al Fresco. \nAutor: José Luis Alonso de Santos \nDirección: Javier Pérez Sánchez \nA las 20.30 horas en el Auditorio de la Escuela de Música y Cultura de Los Montesinos. \nEntrada libre\, limitada al aforo.
URL:https://www.losmontesinos.es/event/jornadas-teatro-universitario-5/
LOCATION:Escuela municipal de Música y Cultura (Auditorio municipal)\, C/ Zaragoza\, 5\, Los Montesinos\, Alicante\, 03187\, España
CATEGORIES:Cultura
ATTACH;FMTTYPE=image/jpeg:https://www.losmontesinos.es/wp-content/uploads/2020/01/Cartel-Jornadas-Teatro-2020-Los-Montesinos.jpg
END:VEVENT
BEGIN:VEVENT
DTSTART;TZID=Europe/Madrid:20200229T203000
DTEND;TZID=Europe/Madrid:20200229T220000
DTSTAMP:20260425T181351
CREATED:20200116T130125Z
LAST-MODIFIED:20200116T130125Z
UID:10003874-1583008200-1583013600@www.losmontesinos.es
SUMMARY:JORNADAS TEATRO UNIVERSITARIO
DESCRIPTION:Obra: Cuadros de Humor y Amor\, al Fresco. \nAutor: José Luis Alonso de Santos \nDirección: Javier Pérez Sánchez \nA las 20.30 horas en el Auditorio de la Escuela de Música y Cultura de Los Montesinos. \nEntrada libre\, limitada al aforo.
URL:https://www.losmontesinos.es/event/jornadas-teatro-universitario-5/
LOCATION:Escuela municipal de Música y Cultura (Auditorio municipal)\, C/ Zaragoza\, 5\, Los Montesinos\, Alicante\, 03187\, España
CATEGORIES:Cultura
ATTACH;FMTTYPE=image/jpeg:https://www.losmontesinos.es/wp-content/uploads/2020/01/Cartel-Jornadas-Teatro-2020-Los-Montesinos.jpg
END:VEVENT
BEGIN:VEVENT
DTSTART;TZID=Europe/Madrid:20200229T203000
DTEND;TZID=Europe/Madrid:20200229T220000
DTSTAMP:20260425T181351
CREATED:20200116T130125Z
LAST-MODIFIED:20200116T130125Z
UID:10003875-1583008200-1583013600@www.losmontesinos.es
SUMMARY:JORNADAS TEATRO UNIVERSITARIO
DESCRIPTION:Obra: Cuadros de Humor y Amor\, al Fresco. \nAutor: José Luis Alonso de Santos \nDirección: Javier Pérez Sánchez \nA las 20.30 horas en el Auditorio de la Escuela de Música y Cultura de Los Montesinos. \nEntrada libre\, limitada al aforo.
URL:https://www.losmontesinos.es/event/jornadas-teatro-universitario-5-2/
LOCATION:Escuela municipal de Música y Cultura (Auditorio municipal)\, C/ Zaragoza\, 5\, Los Montesinos\, Alicante\, 03187\, España
CATEGORIES:Cultura
ATTACH;FMTTYPE=image/jpeg:https://www.losmontesinos.es/wp-content/uploads/2020/01/Cartel-Jornadas-Teatro-2020-Los-Montesinos.jpg
END:VEVENT
END:VCALENDAR