BEGIN:VCALENDAR
VERSION:2.0
PRODID:-//Ayuntamiento - ECPv6.15.15//NONSGML v1.0//EN
CALSCALE:GREGORIAN
METHOD:PUBLISH
X-WR-CALNAME:Ayuntamiento
X-ORIGINAL-URL:https://www.losmontesinos.es
X-WR-CALDESC:Eventos para Ayuntamiento
REFRESH-INTERVAL;VALUE=DURATION:PT1H
X-Robots-Tag:noindex
X-PUBLISHED-TTL:PT1H
BEGIN:VTIMEZONE
TZID:Europe/Madrid
BEGIN:DAYLIGHT
TZOFFSETFROM:+0100
TZOFFSETTO:+0200
TZNAME:CEST
DTSTART:20190331T010000
END:DAYLIGHT
BEGIN:STANDARD
TZOFFSETFROM:+0200
TZOFFSETTO:+0100
TZNAME:CET
DTSTART:20191027T010000
END:STANDARD
BEGIN:DAYLIGHT
TZOFFSETFROM:+0100
TZOFFSETTO:+0200
TZNAME:CEST
DTSTART:20200329T010000
END:DAYLIGHT
BEGIN:STANDARD
TZOFFSETFROM:+0200
TZOFFSETTO:+0100
TZNAME:CET
DTSTART:20201025T010000
END:STANDARD
BEGIN:DAYLIGHT
TZOFFSETFROM:+0100
TZOFFSETTO:+0200
TZNAME:CEST
DTSTART:20210328T010000
END:DAYLIGHT
BEGIN:STANDARD
TZOFFSETFROM:+0200
TZOFFSETTO:+0100
TZNAME:CET
DTSTART:20211031T010000
END:STANDARD
END:VTIMEZONE
BEGIN:VEVENT
DTSTART;TZID=Europe/Madrid:20200226T180000
DTEND;TZID=Europe/Madrid:20200226T213000
DTSTAMP:20260425T181351
CREATED:20200309T094430Z
LAST-MODIFIED:20200309T094430Z
UID:10004537-1582740000-1582752600@www.losmontesinos.es
SUMMARY:SEMANA SANTA en Los Montesinos
DESCRIPTION:A las 18.00 h.\, MIÉRCOLES DE CENIZA. Imposición de Ceniza a los niños. \nA las 20.00 h.\, Presentación del Cartel de la Semana Santa. \nA las 20.30 h.\, Celebración de la Eucaristía\, imposición de Ceniza.  Al finalizar se encenderá la Cruz Cuaresmal.
URL:https://www.losmontesinos.es/event/semana-santa-en-los-montesinos-3/
LOCATION:Iglesia Parroquial de Los Montesinos\, Plaza del Ayuntamiento\, 2\, Los Montesinos\, Alicante\, 03187\, España
CATEGORIES:Semana Santa
ATTACH;FMTTYPE=image/jpeg:https://www.losmontesinos.es/wp-content/uploads/2020/03/Cartel-Semana-Santa-2020-Los-Montesinos.jpg
END:VEVENT
BEGIN:VEVENT
DTSTART;TZID=Europe/Madrid:20200226T180000
DTEND;TZID=Europe/Madrid:20200226T213000
DTSTAMP:20260425T181351
CREATED:20200309T094430Z
LAST-MODIFIED:20200309T094430Z
UID:10004538-1582740000-1582752600@www.losmontesinos.es
SUMMARY:SEMANA SANTA en Los Montesinos
DESCRIPTION:A las 18.00 h.\, MIÉRCOLES DE CENIZA. Imposición de Ceniza a los niños. \nA las 20.00 h.\, Presentación del Cartel de la Semana Santa. \nA las 20.30 h.\, Celebración de la Eucaristía\, imposición de Ceniza.  Al finalizar se encenderá la Cruz Cuaresmal.
URL:https://www.losmontesinos.es/event/semana-santa-en-los-montesinos-3/
LOCATION:Iglesia Parroquial de Los Montesinos\, Plaza del Ayuntamiento\, 2\, Los Montesinos\, Alicante\, 03187\, España
CATEGORIES:Semana Santa
ATTACH;FMTTYPE=image/jpeg:https://www.losmontesinos.es/wp-content/uploads/2020/03/Cartel-Semana-Santa-2020-Los-Montesinos.jpg
END:VEVENT
BEGIN:VEVENT
DTSTART;TZID=Europe/Madrid:20200226T180000
DTEND;TZID=Europe/Madrid:20200226T213000
DTSTAMP:20260425T181351
CREATED:20200309T094430Z
LAST-MODIFIED:20200309T094430Z
UID:10004539-1582740000-1582752600@www.losmontesinos.es
SUMMARY:SEMANA SANTA en Los Montesinos
DESCRIPTION:A las 18.00 h.\, MIÉRCOLES DE CENIZA. Imposición de Ceniza a los niños. \nA las 20.00 h.\, Presentación del Cartel de la Semana Santa. \nA las 20.30 h.\, Celebración de la Eucaristía\, imposición de Ceniza.  Al finalizar se encenderá la Cruz Cuaresmal.
URL:https://www.losmontesinos.es/event/semana-santa-en-los-montesinos-3-2/
LOCATION:Iglesia Parroquial de Los Montesinos\, Plaza del Ayuntamiento\, 2\, Los Montesinos\, Alicante\, 03187\, España
CATEGORIES:Semana Santa
ATTACH;FMTTYPE=image/jpeg:https://www.losmontesinos.es/wp-content/uploads/2020/03/Cartel-Semana-Santa-2020-Los-Montesinos.jpg
END:VEVENT
END:VCALENDAR