BEGIN:VCALENDAR
VERSION:2.0
PRODID:-//Ayuntamiento - ECPv6.15.15//NONSGML v1.0//EN
CALSCALE:GREGORIAN
METHOD:PUBLISH
X-WR-CALNAME:Ayuntamiento
X-ORIGINAL-URL:https://www.losmontesinos.es
X-WR-CALDESC:Eventos para Ayuntamiento
REFRESH-INTERVAL;VALUE=DURATION:PT1H
X-Robots-Tag:noindex
X-PUBLISHED-TTL:PT1H
BEGIN:VTIMEZONE
TZID:Europe/Madrid
BEGIN:DAYLIGHT
TZOFFSETFROM:+0100
TZOFFSETTO:+0200
TZNAME:CEST
DTSTART:20180325T010000
END:DAYLIGHT
BEGIN:STANDARD
TZOFFSETFROM:+0200
TZOFFSETTO:+0100
TZNAME:CET
DTSTART:20181028T010000
END:STANDARD
BEGIN:DAYLIGHT
TZOFFSETFROM:+0100
TZOFFSETTO:+0200
TZNAME:CEST
DTSTART:20190331T010000
END:DAYLIGHT
BEGIN:STANDARD
TZOFFSETFROM:+0200
TZOFFSETTO:+0100
TZNAME:CET
DTSTART:20191027T010000
END:STANDARD
BEGIN:DAYLIGHT
TZOFFSETFROM:+0100
TZOFFSETTO:+0200
TZNAME:CEST
DTSTART:20200329T010000
END:DAYLIGHT
BEGIN:STANDARD
TZOFFSETFROM:+0200
TZOFFSETTO:+0100
TZNAME:CET
DTSTART:20201025T010000
END:STANDARD
END:VTIMEZONE
BEGIN:VEVENT
DTSTART;TZID=Europe/Madrid:20191223T173000
DTEND;TZID=Europe/Madrid:20191223T190000
DTSTAMP:20260425T130816
CREATED:20191202T105903Z
LAST-MODIFIED:20191202T105903Z
UID:10004452-1577122200-1577127600@www.losmontesinos.es
SUMMARY:NAVIDAD 2019
DESCRIPTION:A las 17.30h.\, Musical inspirado en la película de Disney Aladdín. Patrocina la Excma. Diputación Provincial de Alicante. \nLugar: Auditorio de la Escuela de Música y Cultura de Los Montesinos. \nEntrada libre\, limitada al aforo.
URL:https://www.losmontesinos.es/event/navidad-2019-9/
LOCATION:Escuela municipal de Música y Cultura (Auditorio municipal)\, C/ Zaragoza\, 5\, Los Montesinos\, Alicante\, 03187\, España
CATEGORIES:Navidad
ATTACH;FMTTYPE=image/jpeg:https://www.losmontesinos.es/wp-content/uploads/2019/12/Cartel-Navidad-2019-scaled.jpg
END:VEVENT
BEGIN:VEVENT
DTSTART;TZID=Europe/Madrid:20191223T173000
DTEND;TZID=Europe/Madrid:20191223T190000
DTSTAMP:20260425T130816
CREATED:20191202T105903Z
LAST-MODIFIED:20191202T105903Z
UID:10004453-1577122200-1577127600@www.losmontesinos.es
SUMMARY:NAVIDAD 2019
DESCRIPTION:A las 17.30h.\, Musical inspirado en la película de Disney Aladdín. Patrocina la Excma. Diputación Provincial de Alicante. \nLugar: Auditorio de la Escuela de Música y Cultura de Los Montesinos. \nEntrada libre\, limitada al aforo.
URL:https://www.losmontesinos.es/event/navidad-2019-9/
LOCATION:Escuela municipal de Música y Cultura (Auditorio municipal)\, C/ Zaragoza\, 5\, Los Montesinos\, Alicante\, 03187\, España
CATEGORIES:Navidad
ATTACH;FMTTYPE=image/jpeg:https://www.losmontesinos.es/wp-content/uploads/2019/12/Cartel-Navidad-2019-scaled.jpg
END:VEVENT
BEGIN:VEVENT
DTSTART;TZID=Europe/Madrid:20191223T173000
DTEND;TZID=Europe/Madrid:20191223T190000
DTSTAMP:20260425T130816
CREATED:20191202T105903Z
LAST-MODIFIED:20191202T105903Z
UID:10004454-1577122200-1577127600@www.losmontesinos.es
SUMMARY:NAVIDAD 2019
DESCRIPTION:A las 17.30h.\, Musical inspirado en la película de Disney Aladdín. Patrocina la Excma. Diputación Provincial de Alicante. \nLugar: Auditorio de la Escuela de Música y Cultura de Los Montesinos. \nEntrada libre\, limitada al aforo.
URL:https://www.losmontesinos.es/event/navidad-2019-9-2/
LOCATION:Escuela municipal de Música y Cultura (Auditorio municipal)\, C/ Zaragoza\, 5\, Los Montesinos\, Alicante\, 03187\, España
CATEGORIES:Navidad
ATTACH;FMTTYPE=image/jpeg:https://www.losmontesinos.es/wp-content/uploads/2019/12/Cartel-Navidad-2019-scaled.jpg
END:VEVENT
END:VCALENDAR