BEGIN:VCALENDAR
VERSION:2.0
PRODID:-//Ayuntamiento - ECPv6.15.15//NONSGML v1.0//EN
CALSCALE:GREGORIAN
METHOD:PUBLISH
X-WR-CALNAME:Ayuntamiento
X-ORIGINAL-URL:https://www.losmontesinos.es
X-WR-CALDESC:Eventos para Ayuntamiento
REFRESH-INTERVAL;VALUE=DURATION:PT1H
X-Robots-Tag:noindex
X-PUBLISHED-TTL:PT1H
BEGIN:VTIMEZONE
TZID:Europe/Madrid
BEGIN:DAYLIGHT
TZOFFSETFROM:+0100
TZOFFSETTO:+0200
TZNAME:CEST
DTSTART:20180325T010000
END:DAYLIGHT
BEGIN:STANDARD
TZOFFSETFROM:+0200
TZOFFSETTO:+0100
TZNAME:CET
DTSTART:20181028T010000
END:STANDARD
BEGIN:DAYLIGHT
TZOFFSETFROM:+0100
TZOFFSETTO:+0200
TZNAME:CEST
DTSTART:20190331T010000
END:DAYLIGHT
BEGIN:STANDARD
TZOFFSETFROM:+0200
TZOFFSETTO:+0100
TZNAME:CET
DTSTART:20191027T010000
END:STANDARD
BEGIN:DAYLIGHT
TZOFFSETFROM:+0100
TZOFFSETTO:+0200
TZNAME:CEST
DTSTART:20200329T010000
END:DAYLIGHT
BEGIN:STANDARD
TZOFFSETFROM:+0200
TZOFFSETTO:+0100
TZNAME:CET
DTSTART:20201025T010000
END:STANDARD
END:VTIMEZONE
BEGIN:VEVENT
DTSTART;TZID=Europe/Madrid:20191220T110000
DTEND;TZID=Europe/Madrid:20191220T120000
DTSTAMP:20260425T130850
CREATED:20191213T083204Z
LAST-MODIFIED:20191213T083204Z
UID:10003868-1576839600-1576843200@www.losmontesinos.es
SUMMARY:CHARLA PLAN MAYOR SEGURIDAD
DESCRIPTION:El Plan Mayor Seguridad está enfocado en la prevención y mejora de la seguridad de nuestros mayores. \nA las 11.00 horas\, efectivos de la Guardia Civil ofrecerán una charla en el Centro Cívico y Social de Los Montesinos. \nPOLICÍA NACIONAL: www.policia.es   Tfno. 091     //    GUARDIA CIVIL: www.guardiacivil.es  Tfno. 062 \nLa entrada es libre\, limitada al aforo. \nOrganiza: Concejalía de Servicios Sociales del Ayuntamiento de Los Montesinos.
URL:https://www.losmontesinos.es/event/charla-plan-mayor-seguridad/
LOCATION:Centro Cívico y Social (Hogar del Jubilado)\, Plaza del Ayuntamiento\, 2\, Los Montesinos\, Alicante\, 03187\, España
CATEGORIES:Bienestar Social
ATTACH;FMTTYPE=image/jpeg:https://www.losmontesinos.es/wp-content/uploads/2019/12/charla-plan-mayor-seguridad-Los-Montesinos-20191.jpg
END:VEVENT
BEGIN:VEVENT
DTSTART;TZID=Europe/Madrid:20191220T110000
DTEND;TZID=Europe/Madrid:20191220T120000
DTSTAMP:20260425T130850
CREATED:20191213T083204Z
LAST-MODIFIED:20191213T083204Z
UID:10003869-1576839600-1576843200@www.losmontesinos.es
SUMMARY:CHARLA PLAN MAYOR SEGURIDAD
DESCRIPTION:El Plan Mayor Seguridad está enfocado en la prevención y mejora de la seguridad de nuestros mayores. \nA las 11.00 horas\, efectivos de la Guardia Civil ofrecerán una charla en el Centro Cívico y Social de Los Montesinos. \nPOLICÍA NACIONAL: www.policia.es   Tfno. 091     //    GUARDIA CIVIL: www.guardiacivil.es  Tfno. 062 \nLa entrada es libre\, limitada al aforo. \nOrganiza: Concejalía de Servicios Sociales del Ayuntamiento de Los Montesinos.
URL:https://www.losmontesinos.es/event/charla-plan-mayor-seguridad/
LOCATION:Centro Cívico y Social (Hogar del Jubilado)\, Plaza del Ayuntamiento\, 2\, Los Montesinos\, Alicante\, 03187\, España
CATEGORIES:Bienestar Social
ATTACH;FMTTYPE=image/jpeg:https://www.losmontesinos.es/wp-content/uploads/2019/12/charla-plan-mayor-seguridad-Los-Montesinos-20191.jpg
END:VEVENT
BEGIN:VEVENT
DTSTART;TZID=Europe/Madrid:20191220T110000
DTEND;TZID=Europe/Madrid:20191220T120000
DTSTAMP:20260425T130850
CREATED:20191213T083204Z
LAST-MODIFIED:20191213T083204Z
UID:10003870-1576839600-1576843200@www.losmontesinos.es
SUMMARY:CHARLA PLAN MAYOR SEGURIDAD
DESCRIPTION:El Plan Mayor Seguridad está enfocado en la prevención y mejora de la seguridad de nuestros mayores. \nA las 11.00 horas\, efectivos de la Guardia Civil ofrecerán una charla en el Centro Cívico y Social de Los Montesinos. \nPOLICÍA NACIONAL: www.policia.es   Tfno. 091     //    GUARDIA CIVIL: www.guardiacivil.es  Tfno. 062 \nLa entrada es libre\, limitada al aforo. \nOrganiza: Concejalía de Servicios Sociales del Ayuntamiento de Los Montesinos.
URL:https://www.losmontesinos.es/event/charla-plan-mayor-seguridad-2/
LOCATION:Centro Cívico y Social (Hogar del Jubilado)\, Plaza del Ayuntamiento\, 2\, Los Montesinos\, Alicante\, 03187\, España
CATEGORIES:Bienestar Social
ATTACH;FMTTYPE=image/jpeg:https://www.losmontesinos.es/wp-content/uploads/2019/12/charla-plan-mayor-seguridad-Los-Montesinos-20191.jpg
END:VEVENT
BEGIN:VEVENT
DTSTART;TZID=Europe/Madrid:20191220T200000
DTEND;TZID=Europe/Madrid:20191220T220000
DTSTAMP:20260425T130850
CREATED:20191202T100850Z
LAST-MODIFIED:20191202T100850Z
UID:10003843-1576872000-1576879200@www.losmontesinos.es
SUMMARY:NAVIDAD 2019
DESCRIPTION:A partir de las 20.00h.\, FESTIVAL DEL AMPA\, con la participación del GYM Ballesta\, el Mago Miguel y Coro ‘El Salí’ de la Parroquia. Además\, se entregarán los premios del Concurso de Tarjetas Navideñas. \nLugar: Auditorio de la Escuela de Música y Cultura. \n 
URL:https://www.losmontesinos.es/event/navidad-2019-6/
LOCATION:Escuela municipal de Música y Cultura (Auditorio municipal)\, C/ Zaragoza\, 5\, Los Montesinos\, Alicante\, 03187\, España
CATEGORIES:Navidad
ATTACH;FMTTYPE=image/jpeg:https://www.losmontesinos.es/wp-content/uploads/2019/12/Cartel-Navidad-2019-scaled.jpg
END:VEVENT
BEGIN:VEVENT
DTSTART;TZID=Europe/Madrid:20191220T200000
DTEND;TZID=Europe/Madrid:20191220T220000
DTSTAMP:20260425T130850
CREATED:20191202T100850Z
LAST-MODIFIED:20191202T100850Z
UID:10003844-1576872000-1576879200@www.losmontesinos.es
SUMMARY:NAVIDAD 2019
DESCRIPTION:A partir de las 20.00h.\, FESTIVAL DEL AMPA\, con la participación del GYM Ballesta\, el Mago Miguel y Coro ‘El Salí’ de la Parroquia. Además\, se entregarán los premios del Concurso de Tarjetas Navideñas. \nLugar: Auditorio de la Escuela de Música y Cultura. \n 
URL:https://www.losmontesinos.es/event/navidad-2019-6/
LOCATION:Escuela municipal de Música y Cultura (Auditorio municipal)\, C/ Zaragoza\, 5\, Los Montesinos\, Alicante\, 03187\, España
CATEGORIES:Navidad
ATTACH;FMTTYPE=image/jpeg:https://www.losmontesinos.es/wp-content/uploads/2019/12/Cartel-Navidad-2019-scaled.jpg
END:VEVENT
BEGIN:VEVENT
DTSTART;TZID=Europe/Madrid:20191220T200000
DTEND;TZID=Europe/Madrid:20191220T220000
DTSTAMP:20260425T130850
CREATED:20191202T100850Z
LAST-MODIFIED:20191202T100850Z
UID:10003845-1576872000-1576879200@www.losmontesinos.es
SUMMARY:NAVIDAD 2019
DESCRIPTION:A partir de las 20.00h.\, FESTIVAL DEL AMPA\, con la participación del GYM Ballesta\, el Mago Miguel y Coro ‘El Salí’ de la Parroquia. Además\, se entregarán los premios del Concurso de Tarjetas Navideñas. \nLugar: Auditorio de la Escuela de Música y Cultura. \n 
URL:https://www.losmontesinos.es/event/navidad-2019-6-2/
LOCATION:Escuela municipal de Música y Cultura (Auditorio municipal)\, C/ Zaragoza\, 5\, Los Montesinos\, Alicante\, 03187\, España
CATEGORIES:Navidad
ATTACH;FMTTYPE=image/jpeg:https://www.losmontesinos.es/wp-content/uploads/2019/12/Cartel-Navidad-2019-scaled.jpg
END:VEVENT
END:VCALENDAR