BEGIN:VCALENDAR
VERSION:2.0
PRODID:-//Ayuntamiento - ECPv6.15.15//NONSGML v1.0//EN
CALSCALE:GREGORIAN
METHOD:PUBLISH
X-ORIGINAL-URL:https://www.losmontesinos.es
X-WR-CALDESC:Eventos para Ayuntamiento
REFRESH-INTERVAL;VALUE=DURATION:PT1H
X-Robots-Tag:noindex
X-PUBLISHED-TTL:PT1H
BEGIN:VTIMEZONE
TZID:Europe/Madrid
BEGIN:DAYLIGHT
TZOFFSETFROM:+0100
TZOFFSETTO:+0200
TZNAME:CEST
DTSTART:20180325T010000
END:DAYLIGHT
BEGIN:STANDARD
TZOFFSETFROM:+0200
TZOFFSETTO:+0100
TZNAME:CET
DTSTART:20181028T010000
END:STANDARD
BEGIN:DAYLIGHT
TZOFFSETFROM:+0100
TZOFFSETTO:+0200
TZNAME:CEST
DTSTART:20190331T010000
END:DAYLIGHT
BEGIN:STANDARD
TZOFFSETFROM:+0200
TZOFFSETTO:+0100
TZNAME:CET
DTSTART:20191027T010000
END:STANDARD
BEGIN:DAYLIGHT
TZOFFSETFROM:+0100
TZOFFSETTO:+0200
TZNAME:CEST
DTSTART:20200329T010000
END:DAYLIGHT
BEGIN:STANDARD
TZOFFSETFROM:+0200
TZOFFSETTO:+0100
TZNAME:CET
DTSTART:20201025T010000
END:STANDARD
END:VTIMEZONE
BEGIN:VEVENT
DTSTART;TZID=Europe/Madrid:20191216T173000
DTEND;TZID=Europe/Madrid:20191218T190000
DTSTAMP:20260425T130920
CREATED:20191202T100224Z
LAST-MODIFIED:20191202T100224Z
UID:10003841-1576517400-1576695600@www.losmontesinos.es
SUMMARY:NAVIDAD 2019
DESCRIPTION:A partir de las 17.30h y hasta las 19.00h\, AUDICIONES DE NAVIDAD\, a cargo de la Escuela Municipal de Música: solistas\, grupos de cámara\, coro\, banda infantil. Lugar: Auditorio de la Escuela de Música y Cultura de Los Montesinos. \nEntrada libre\, limitada al aforo. \n 
URL:https://www.losmontesinos.es/event/navidad-2019-5/
LOCATION:Escuela municipal de Música y Cultura (Auditorio municipal)\, C/ Zaragoza\, 5\, Los Montesinos\, Alicante\, 03187\, España
CATEGORIES:Navidad
ATTACH;FMTTYPE=image/jpeg:https://www.losmontesinos.es/wp-content/uploads/2019/12/Cartel-Navidad-2019-scaled.jpg
END:VEVENT
BEGIN:VEVENT
DTSTART;TZID=Europe/Madrid:20191216T173000
DTEND;TZID=Europe/Madrid:20191218T190000
DTSTAMP:20260425T130920
CREATED:20191202T100224Z
LAST-MODIFIED:20191202T100224Z
UID:10003842-1576517400-1576695600@www.losmontesinos.es
SUMMARY:NAVIDAD 2019
DESCRIPTION:A partir de las 17.30h y hasta las 19.00h\, AUDICIONES DE NAVIDAD\, a cargo de la Escuela Municipal de Música: solistas\, grupos de cámara\, coro\, banda infantil. Lugar: Auditorio de la Escuela de Música y Cultura de Los Montesinos. \nEntrada libre\, limitada al aforo. \n 
URL:https://www.losmontesinos.es/event/navidad-2019-5-2/
LOCATION:Escuela municipal de Música y Cultura (Auditorio municipal)\, C/ Zaragoza\, 5\, Los Montesinos\, Alicante\, 03187\, España
CATEGORIES:Navidad
ATTACH;FMTTYPE=image/jpeg:https://www.losmontesinos.es/wp-content/uploads/2019/12/Cartel-Navidad-2019-scaled.jpg
END:VEVENT
BEGIN:VEVENT
DTSTART;TZID=Europe/Madrid:20191216T173000
DTEND;TZID=Europe/Madrid:20191218T190000
DTSTAMP:20260425T130920
CREATED:20191202T100224Z
LAST-MODIFIED:20191202T100224Z
UID:10004450-1576517400-1576695600@www.losmontesinos.es
SUMMARY:NAVIDAD 2019
DESCRIPTION:A partir de las 17.30h y hasta las 19.00h\, AUDICIONES DE NAVIDAD\, a cargo de la Escuela Municipal de Música: solistas\, grupos de cámara\, coro\, banda infantil. Lugar: Auditorio de la Escuela de Música y Cultura de Los Montesinos. \nEntrada libre\, limitada al aforo. \n 
URL:https://www.losmontesinos.es/event/navidad-2019-5/
LOCATION:Escuela municipal de Música y Cultura (Auditorio municipal)\, C/ Zaragoza\, 5\, Los Montesinos\, Alicante\, 03187\, España
CATEGORIES:Navidad
ATTACH;FMTTYPE=image/jpeg:https://www.losmontesinos.es/wp-content/uploads/2019/12/Cartel-Navidad-2019-scaled.jpg
END:VEVENT
END:VCALENDAR