BEGIN:VCALENDAR
VERSION:2.0
PRODID:-//Ayuntamiento - ECPv6.15.15//NONSGML v1.0//EN
CALSCALE:GREGORIAN
METHOD:PUBLISH
X-ORIGINAL-URL:https://www.losmontesinos.es
X-WR-CALDESC:Eventos para Ayuntamiento
REFRESH-INTERVAL;VALUE=DURATION:PT1H
X-Robots-Tag:noindex
X-PUBLISHED-TTL:PT1H
BEGIN:VTIMEZONE
TZID:Europe/Madrid
BEGIN:DAYLIGHT
TZOFFSETFROM:+0100
TZOFFSETTO:+0200
TZNAME:CEST
DTSTART:20180325T010000
END:DAYLIGHT
BEGIN:STANDARD
TZOFFSETFROM:+0200
TZOFFSETTO:+0100
TZNAME:CET
DTSTART:20181028T010000
END:STANDARD
BEGIN:DAYLIGHT
TZOFFSETFROM:+0100
TZOFFSETTO:+0200
TZNAME:CEST
DTSTART:20190331T010000
END:DAYLIGHT
BEGIN:STANDARD
TZOFFSETFROM:+0200
TZOFFSETTO:+0100
TZNAME:CET
DTSTART:20191027T010000
END:STANDARD
BEGIN:DAYLIGHT
TZOFFSETFROM:+0100
TZOFFSETTO:+0200
TZNAME:CEST
DTSTART:20200329T010000
END:DAYLIGHT
BEGIN:STANDARD
TZOFFSETFROM:+0200
TZOFFSETTO:+0100
TZNAME:CET
DTSTART:20201025T010000
END:STANDARD
END:VTIMEZONE
BEGIN:VEVENT
DTSTART;TZID=Europe/Madrid:20191104T090000
DTEND;TZID=Europe/Madrid:20191104T193000
DTSTAMP:20260425T130912
CREATED:20191029T082541Z
LAST-MODIFIED:20191029T082541Z
UID:10003830-1572858000-1572895800@www.losmontesinos.es
SUMMARY:NUEVO HORARIO SALA DE ESTUDIO CENTRO SOCIOCULTURAL 'REMEDIOS MUÑOZ'
DESCRIPTION:A partir de hoy se amplía el horario de la Sala de Estudio del Centro Sociocultural ‘Remedios Muñoz’ de Los Montesinos. \nDe lunes a sábado (salvo festivos)\, la sala de estudio permanecerá abierta en horario ininterrumpido desde las 9.00h. hasta las 19.30h.
URL:https://www.losmontesinos.es/event/nuevo-horario-sala-de-estudio-centro-sociocultural-remedios-munoz/
LOCATION:Centro Socio Cultural  Remedios Muñoz (Biblioteca)\, C/ Virgen del Loreto\, 36\, Los Montesinos\, Alicante\, 03187\, España
CATEGORIES:Educacion,Juventud
ATTACH;FMTTYPE=image/png:https://www.losmontesinos.es/wp-content/uploads/2019/10/Horario-sala-estudio-Los-Montesinos-2019.png
END:VEVENT
BEGIN:VEVENT
DTSTART;TZID=Europe/Madrid:20191104T090000
DTEND;TZID=Europe/Madrid:20191104T193000
DTSTAMP:20260425T130912
CREATED:20191029T082541Z
LAST-MODIFIED:20191029T082541Z
UID:10004431-1572858000-1572895800@www.losmontesinos.es
SUMMARY:NUEVO HORARIO SALA DE ESTUDIO CENTRO SOCIOCULTURAL 'REMEDIOS MUÑOZ'
DESCRIPTION:A partir de hoy se amplía el horario de la Sala de Estudio del Centro Sociocultural ‘Remedios Muñoz’ de Los Montesinos. \nDe lunes a sábado (salvo festivos)\, la sala de estudio permanecerá abierta en horario ininterrumpido desde las 9.00h. hasta las 19.30h.
URL:https://www.losmontesinos.es/event/nuevo-horario-sala-de-estudio-centro-sociocultural-remedios-munoz/
LOCATION:Centro Socio Cultural  Remedios Muñoz (Biblioteca)\, C/ Virgen del Loreto\, 36\, Los Montesinos\, Alicante\, 03187\, España
CATEGORIES:Educacion,Juventud
ATTACH;FMTTYPE=image/png:https://www.losmontesinos.es/wp-content/uploads/2019/10/Horario-sala-estudio-Los-Montesinos-2019.png
END:VEVENT
BEGIN:VEVENT
DTSTART;TZID=Europe/Madrid:20191104T090000
DTEND;TZID=Europe/Madrid:20191104T193000
DTSTAMP:20260425T130912
CREATED:20191029T082541Z
LAST-MODIFIED:20191029T082541Z
UID:10004432-1572858000-1572895800@www.losmontesinos.es
SUMMARY:NUEVO HORARIO SALA DE ESTUDIO CENTRO SOCIOCULTURAL 'REMEDIOS MUÑOZ'
DESCRIPTION:A partir de hoy se amplía el horario de la Sala de Estudio del Centro Sociocultural ‘Remedios Muñoz’ de Los Montesinos. \nDe lunes a sábado (salvo festivos)\, la sala de estudio permanecerá abierta en horario ininterrumpido desde las 9.00h. hasta las 19.30h.
URL:https://www.losmontesinos.es/event/nuevo-horario-sala-de-estudio-centro-sociocultural-remedios-munoz-2/
LOCATION:Centro Socio Cultural  Remedios Muñoz (Biblioteca)\, C/ Virgen del Loreto\, 36\, Los Montesinos\, Alicante\, 03187\, España
CATEGORIES:Educacion,Juventud
ATTACH;FMTTYPE=image/png:https://www.losmontesinos.es/wp-content/uploads/2019/10/Horario-sala-estudio-Los-Montesinos-2019.png
END:VEVENT
END:VCALENDAR