BEGIN:VCALENDAR
VERSION:2.0
PRODID:-//Ayuntamiento - ECPv6.15.15//NONSGML v1.0//EN
CALSCALE:GREGORIAN
METHOD:PUBLISH
X-WR-CALNAME:Ayuntamiento
X-ORIGINAL-URL:https://www.losmontesinos.es
X-WR-CALDESC:Eventos para Ayuntamiento
REFRESH-INTERVAL;VALUE=DURATION:PT1H
X-Robots-Tag:noindex
X-PUBLISHED-TTL:PT1H
BEGIN:VTIMEZONE
TZID:Europe/Madrid
BEGIN:DAYLIGHT
TZOFFSETFROM:+0100
TZOFFSETTO:+0200
TZNAME:CEST
DTSTART:20180325T010000
END:DAYLIGHT
BEGIN:STANDARD
TZOFFSETFROM:+0200
TZOFFSETTO:+0100
TZNAME:CET
DTSTART:20181028T010000
END:STANDARD
BEGIN:DAYLIGHT
TZOFFSETFROM:+0100
TZOFFSETTO:+0200
TZNAME:CEST
DTSTART:20190331T010000
END:DAYLIGHT
BEGIN:STANDARD
TZOFFSETFROM:+0200
TZOFFSETTO:+0100
TZNAME:CET
DTSTART:20191027T010000
END:STANDARD
BEGIN:DAYLIGHT
TZOFFSETFROM:+0100
TZOFFSETTO:+0200
TZNAME:CEST
DTSTART:20200329T010000
END:DAYLIGHT
BEGIN:STANDARD
TZOFFSETFROM:+0200
TZOFFSETTO:+0100
TZNAME:CET
DTSTART:20201025T010000
END:STANDARD
END:VTIMEZONE
BEGIN:VEVENT
DTSTART;TZID=Europe/Madrid:20191001T183000
DTEND;TZID=Europe/Madrid:20191001T193000
DTSTAMP:20260425T061956
CREATED:20190927T064630Z
LAST-MODIFIED:20190927T064630Z
UID:10004406-1569954600-1569958200@www.losmontesinos.es
SUMMARY:CHARLA: TENENCIA RESPONSABLE DE MASCOTAS
DESCRIPTION:La salud de tu mascota es la salud de toda la familia\nA las 18.30h. en el Salón de Plenos del Ayuntamiento de Los Montesinos. \nLa temática de esta charla informativa versa sobre la tenencia responsable de mascotas. \nLa entrada es libre\, limitada al aforo y habrá regalo asegurado para todas las personas que asistan. \nOrganizan: Concejalía de Sanidad del Ayuntamiento de Los Montesinos  y Centro Veterinario Los Montesinos \nColabora: Colegio Oficial de Veterinarios de Alicante.
URL:https://www.losmontesinos.es/event/charla-tenencia-responsable-de-mascotas/
LOCATION:Ayuntamiento de Los Montesinos\, Plaza Del Ayuntamiento\, 1\, Los Montesinos\, Alicante\, 03187\, España
CATEGORIES:Bienestar Social
ATTACH;FMTTYPE=image/png:https://www.losmontesinos.es/wp-content/uploads/2019/09/Charla-tenencia-responsable-Mascotas-Los-Montesinos-2019.png
END:VEVENT
BEGIN:VEVENT
DTSTART;TZID=Europe/Madrid:20191001T183000
DTEND;TZID=Europe/Madrid:20191001T193000
DTSTAMP:20260425T061956
CREATED:20190927T064630Z
LAST-MODIFIED:20190927T064630Z
UID:10004407-1569954600-1569958200@www.losmontesinos.es
SUMMARY:CHARLA: TENENCIA RESPONSABLE DE MASCOTAS
DESCRIPTION:La salud de tu mascota es la salud de toda la familia\nA las 18.30h. en el Salón de Plenos del Ayuntamiento de Los Montesinos. \nLa temática de esta charla informativa versa sobre la tenencia responsable de mascotas. \nLa entrada es libre\, limitada al aforo y habrá regalo asegurado para todas las personas que asistan. \nOrganizan: Concejalía de Sanidad del Ayuntamiento de Los Montesinos  y Centro Veterinario Los Montesinos \nColabora: Colegio Oficial de Veterinarios de Alicante.
URL:https://www.losmontesinos.es/event/charla-tenencia-responsable-de-mascotas-2/
LOCATION:Ayuntamiento de Los Montesinos\, Plaza Del Ayuntamiento\, 1\, Los Montesinos\, Alicante\, 03187\, España
CATEGORIES:Bienestar Social
ATTACH;FMTTYPE=image/png:https://www.losmontesinos.es/wp-content/uploads/2019/09/Charla-tenencia-responsable-Mascotas-Los-Montesinos-2019.png
END:VEVENT
BEGIN:VEVENT
DTSTART;TZID=Europe/Madrid:20191001T183000
DTEND;TZID=Europe/Madrid:20191001T193000
DTSTAMP:20260425T061956
CREATED:20190927T064630Z
LAST-MODIFIED:20190927T064630Z
UID:10004408-1569954600-1569958200@www.losmontesinos.es
SUMMARY:CHARLA: TENENCIA RESPONSABLE DE MASCOTAS
DESCRIPTION:La salud de tu mascota es la salud de toda la familia\nA las 18.30h. en el Salón de Plenos del Ayuntamiento de Los Montesinos. \nLa temática de esta charla informativa versa sobre la tenencia responsable de mascotas. \nLa entrada es libre\, limitada al aforo y habrá regalo asegurado para todas las personas que asistan. \nOrganizan: Concejalía de Sanidad del Ayuntamiento de Los Montesinos  y Centro Veterinario Los Montesinos \nColabora: Colegio Oficial de Veterinarios de Alicante.
URL:https://www.losmontesinos.es/event/charla-tenencia-responsable-de-mascotas-3/
LOCATION:Ayuntamiento de Los Montesinos\, Plaza Del Ayuntamiento\, 1\, Los Montesinos\, Alicante\, 03187\, España
CATEGORIES:Bienestar Social
ATTACH;FMTTYPE=image/png:https://www.losmontesinos.es/wp-content/uploads/2019/09/Charla-tenencia-responsable-Mascotas-Los-Montesinos-2019.png
END:VEVENT
END:VCALENDAR