BEGIN:VCALENDAR
VERSION:2.0
PRODID:-//Ayuntamiento - ECPv6.15.15//NONSGML v1.0//EN
CALSCALE:GREGORIAN
METHOD:PUBLISH
X-ORIGINAL-URL:https://www.losmontesinos.es
X-WR-CALDESC:Eventos para Ayuntamiento
REFRESH-INTERVAL;VALUE=DURATION:PT1H
X-Robots-Tag:noindex
X-PUBLISHED-TTL:PT1H
BEGIN:VTIMEZONE
TZID:Europe/Madrid
BEGIN:DAYLIGHT
TZOFFSETFROM:+0100
TZOFFSETTO:+0200
TZNAME:CEST
DTSTART:20180325T010000
END:DAYLIGHT
BEGIN:STANDARD
TZOFFSETFROM:+0200
TZOFFSETTO:+0100
TZNAME:CET
DTSTART:20181028T010000
END:STANDARD
BEGIN:DAYLIGHT
TZOFFSETFROM:+0100
TZOFFSETTO:+0200
TZNAME:CEST
DTSTART:20190331T010000
END:DAYLIGHT
BEGIN:STANDARD
TZOFFSETFROM:+0200
TZOFFSETTO:+0100
TZNAME:CET
DTSTART:20191027T010000
END:STANDARD
BEGIN:DAYLIGHT
TZOFFSETFROM:+0100
TZOFFSETTO:+0200
TZNAME:CEST
DTSTART:20200329T010000
END:DAYLIGHT
BEGIN:STANDARD
TZOFFSETFROM:+0200
TZOFFSETTO:+0100
TZNAME:CET
DTSTART:20201025T010000
END:STANDARD
END:VTIMEZONE
BEGIN:VEVENT
DTSTART;TZID=Europe/Madrid:20190926T120000
DTEND;TZID=Europe/Madrid:20190926T130000
DTSTAMP:20260425T062017
CREATED:20190912T093339Z
LAST-MODIFIED:20190912T093339Z
UID:10004398-1569499200-1569502800@www.losmontesinos.es
SUMMARY:CHARLA INFORMATIVA: 'DERECHOS DE LAS PERSONAS CONSUMIDORAS'
DESCRIPTION:A las 12.00 horas en el Salón de Plenos del Ayuntamiento\, la entrada es libre\, limitada al aforo. \nInfórmate de tus derechos como persona consumidora o usuaria. Las organizaciones de consumidores y las administraciones podemos ayudarte. \nUnión de Consumidores de Alicante \nDiputación de Alicante \nAyuntamiento de Los Montesinos
URL:https://www.losmontesinos.es/event/charla-informativa-derechos-de-las-personas-consumidoras-2/
LOCATION:Ayuntamiento de Los Montesinos\, Plaza Del Ayuntamiento\, 1\, Los Montesinos\, Alicante\, 03187\, España
CATEGORIES:Servicios
ATTACH;FMTTYPE=image/jpeg:https://www.losmontesinos.es/wp-content/uploads/2019/09/Charla-informativo-derechos-consumidores1.jpg
END:VEVENT
BEGIN:VEVENT
DTSTART;TZID=Europe/Madrid:20190926T120000
DTEND;TZID=Europe/Madrid:20190926T130000
DTSTAMP:20260425T062017
CREATED:20190912T093339Z
LAST-MODIFIED:20190912T093339Z
UID:10004399-1569499200-1569502800@www.losmontesinos.es
SUMMARY:CHARLA INFORMATIVA: 'DERECHOS DE LAS PERSONAS CONSUMIDORAS'
DESCRIPTION:A las 12.00 horas en el Salón de Plenos del Ayuntamiento\, la entrada es libre\, limitada al aforo. \nInfórmate de tus derechos como persona consumidora o usuaria. Las organizaciones de consumidores y las administraciones podemos ayudarte. \nUnión de Consumidores de Alicante \nDiputación de Alicante \nAyuntamiento de Los Montesinos
URL:https://www.losmontesinos.es/event/charla-informativa-derechos-de-las-personas-consumidoras-2-2/
LOCATION:Ayuntamiento de Los Montesinos\, Plaza Del Ayuntamiento\, 1\, Los Montesinos\, Alicante\, 03187\, España
CATEGORIES:Servicios
ATTACH;FMTTYPE=image/jpeg:https://www.losmontesinos.es/wp-content/uploads/2019/09/Charla-informativo-derechos-consumidores1.jpg
END:VEVENT
BEGIN:VEVENT
DTSTART;TZID=Europe/Madrid:20190926T120000
DTEND;TZID=Europe/Madrid:20190926T130000
DTSTAMP:20260425T062017
CREATED:20190912T093339Z
LAST-MODIFIED:20190912T093339Z
UID:10004400-1569499200-1569502800@www.losmontesinos.es
SUMMARY:CHARLA INFORMATIVA: 'DERECHOS DE LAS PERSONAS CONSUMIDORAS'
DESCRIPTION:A las 12.00 horas en el Salón de Plenos del Ayuntamiento\, la entrada es libre\, limitada al aforo. \nInfórmate de tus derechos como persona consumidora o usuaria. Las organizaciones de consumidores y las administraciones podemos ayudarte. \nUnión de Consumidores de Alicante \nDiputación de Alicante \nAyuntamiento de Los Montesinos
URL:https://www.losmontesinos.es/event/charla-informativa-derechos-de-las-personas-consumidoras-2-3/
LOCATION:Ayuntamiento de Los Montesinos\, Plaza Del Ayuntamiento\, 1\, Los Montesinos\, Alicante\, 03187\, España
CATEGORIES:Servicios
ATTACH;FMTTYPE=image/jpeg:https://www.losmontesinos.es/wp-content/uploads/2019/09/Charla-informativo-derechos-consumidores1.jpg
END:VEVENT
END:VCALENDAR