BEGIN:VCALENDAR
VERSION:2.0
PRODID:-//Ayuntamiento - ECPv6.15.15//NONSGML v1.0//EN
CALSCALE:GREGORIAN
METHOD:PUBLISH
X-WR-CALNAME:Ayuntamiento
X-ORIGINAL-URL:https://www.losmontesinos.es
X-WR-CALDESC:Eventos para Ayuntamiento
REFRESH-INTERVAL;VALUE=DURATION:PT1H
X-Robots-Tag:noindex
X-PUBLISHED-TTL:PT1H
BEGIN:VTIMEZONE
TZID:Europe/Madrid
BEGIN:DAYLIGHT
TZOFFSETFROM:+0100
TZOFFSETTO:+0200
TZNAME:CEST
DTSTART:20180325T010000
END:DAYLIGHT
BEGIN:STANDARD
TZOFFSETFROM:+0200
TZOFFSETTO:+0100
TZNAME:CET
DTSTART:20181028T010000
END:STANDARD
BEGIN:DAYLIGHT
TZOFFSETFROM:+0100
TZOFFSETTO:+0200
TZNAME:CEST
DTSTART:20190331T010000
END:DAYLIGHT
BEGIN:STANDARD
TZOFFSETFROM:+0200
TZOFFSETTO:+0100
TZNAME:CET
DTSTART:20191027T010000
END:STANDARD
BEGIN:DAYLIGHT
TZOFFSETFROM:+0100
TZOFFSETTO:+0200
TZNAME:CEST
DTSTART:20200329T010000
END:DAYLIGHT
BEGIN:STANDARD
TZOFFSETFROM:+0200
TZOFFSETTO:+0100
TZNAME:CET
DTSTART:20201025T010000
END:STANDARD
END:VTIMEZONE
BEGIN:VEVENT
DTSTART;TZID=Europe/Madrid:20190919T090000
DTEND;TZID=Europe/Madrid:20190919T140000
DTSTAMP:20260425T061950
CREATED:20190918T081440Z
LAST-MODIFIED:20190918T081440Z
UID:10003794-1568883600-1568901600@www.losmontesinos.es
SUMMARY:**SUSPENDIDO**  II FORO TURISMO SOSTENIBLE VEGA BAJA
DESCRIPTION:Ante la catastrófica situación que ha dejado la gota fría en nuestra comarca\, la Vega Baja del Segura\, se ha decidido suspender el II FORO DE TURISMO SOSTENIBLE VEGA BAJA\, que se iba a celebrar el día 19 de septiembre en Los Montesinos. \n\nEn este momento la prioridad para toda la comarca es atender las necesidades básicas de nuestras vecinas y vecinos que han quedado ?????́????????? ????????? y con quienes hay que volcarse para que se recupere cuanto antes la normalidad. \n     Una vez recobrada la normalidad\, seguiremos trabajando para volver a poner en valor los recursos turísticos de nuestra comarca tanto con la IV Feria de Turismo Vega Baja\, así como con el II Foro de Turismo Sostenible Vega Baja. \n¡Ánimo a todas y todos!
URL:https://www.losmontesinos.es/event/suspendido-ii-foro-turismo-sostenible-vega-baja/
LOCATION:Escuela municipal de Música y Cultura (Auditorio municipal)\, C/ Zaragoza\, 5\, Los Montesinos\, Alicante\, 03187\, España
CATEGORIES:Turismo
ATTACH;FMTTYPE=image/jpeg:https://www.losmontesinos.es/wp-content/uploads/2019/09/II-foro-turismo-sostenible-Los-Montesinos-2019-scaled.jpg
END:VEVENT
BEGIN:VEVENT
DTSTART;TZID=Europe/Madrid:20190919T090000
DTEND;TZID=Europe/Madrid:20190919T140000
DTSTAMP:20260425T061950
CREATED:20190918T081440Z
LAST-MODIFIED:20190918T081440Z
UID:10003795-1568883600-1568901600@www.losmontesinos.es
SUMMARY:**SUSPENDIDO**  II FORO TURISMO SOSTENIBLE VEGA BAJA
DESCRIPTION:Ante la catastrófica situación que ha dejado la gota fría en nuestra comarca\, la Vega Baja del Segura\, se ha decidido suspender el II FORO DE TURISMO SOSTENIBLE VEGA BAJA\, que se iba a celebrar el día 19 de septiembre en Los Montesinos. \n\nEn este momento la prioridad para toda la comarca es atender las necesidades básicas de nuestras vecinas y vecinos que han quedado ?????́????????? ????????? y con quienes hay que volcarse para que se recupere cuanto antes la normalidad. \n     Una vez recobrada la normalidad\, seguiremos trabajando para volver a poner en valor los recursos turísticos de nuestra comarca tanto con la IV Feria de Turismo Vega Baja\, así como con el II Foro de Turismo Sostenible Vega Baja. \n¡Ánimo a todas y todos!
URL:https://www.losmontesinos.es/event/suspendido-ii-foro-turismo-sostenible-vega-baja-2/
LOCATION:Escuela municipal de Música y Cultura (Auditorio municipal)\, C/ Zaragoza\, 5\, Los Montesinos\, Alicante\, 03187\, España
CATEGORIES:Turismo
ATTACH;FMTTYPE=image/jpeg:https://www.losmontesinos.es/wp-content/uploads/2019/09/II-foro-turismo-sostenible-Los-Montesinos-2019-scaled.jpg
END:VEVENT
BEGIN:VEVENT
DTSTART;TZID=Europe/Madrid:20190919T090000
DTEND;TZID=Europe/Madrid:20190919T140000
DTSTAMP:20260425T061950
CREATED:20190918T081440Z
LAST-MODIFIED:20190918T081440Z
UID:10003796-1568883600-1568901600@www.losmontesinos.es
SUMMARY:**SUSPENDIDO**  II FORO TURISMO SOSTENIBLE VEGA BAJA
DESCRIPTION:Ante la catastrófica situación que ha dejado la gota fría en nuestra comarca\, la Vega Baja del Segura\, se ha decidido suspender el II FORO DE TURISMO SOSTENIBLE VEGA BAJA\, que se iba a celebrar el día 19 de septiembre en Los Montesinos. \n\nEn este momento la prioridad para toda la comarca es atender las necesidades básicas de nuestras vecinas y vecinos que han quedado ?????́????????? ????????? y con quienes hay que volcarse para que se recupere cuanto antes la normalidad. \n     Una vez recobrada la normalidad\, seguiremos trabajando para volver a poner en valor los recursos turísticos de nuestra comarca tanto con la IV Feria de Turismo Vega Baja\, así como con el II Foro de Turismo Sostenible Vega Baja. \n¡Ánimo a todas y todos!
URL:https://www.losmontesinos.es/event/suspendido-ii-foro-turismo-sostenible-vega-baja-3/
LOCATION:Escuela municipal de Música y Cultura (Auditorio municipal)\, C/ Zaragoza\, 5\, Los Montesinos\, Alicante\, 03187\, España
CATEGORIES:Turismo
ATTACH;FMTTYPE=image/jpeg:https://www.losmontesinos.es/wp-content/uploads/2019/09/II-foro-turismo-sostenible-Los-Montesinos-2019-scaled.jpg
END:VEVENT
END:VCALENDAR