BEGIN:VCALENDAR
VERSION:2.0
PRODID:-//Ayuntamiento - ECPv6.15.15//NONSGML v1.0//EN
CALSCALE:GREGORIAN
METHOD:PUBLISH
X-ORIGINAL-URL:https://www.losmontesinos.es
X-WR-CALDESC:Eventos para Ayuntamiento
REFRESH-INTERVAL;VALUE=DURATION:PT1H
X-Robots-Tag:noindex
X-PUBLISHED-TTL:PT1H
BEGIN:VTIMEZONE
TZID:Europe/Madrid
BEGIN:DAYLIGHT
TZOFFSETFROM:+0100
TZOFFSETTO:+0200
TZNAME:CEST
DTSTART:20180325T010000
END:DAYLIGHT
BEGIN:STANDARD
TZOFFSETFROM:+0200
TZOFFSETTO:+0100
TZNAME:CET
DTSTART:20181028T010000
END:STANDARD
BEGIN:DAYLIGHT
TZOFFSETFROM:+0100
TZOFFSETTO:+0200
TZNAME:CEST
DTSTART:20190331T010000
END:DAYLIGHT
BEGIN:STANDARD
TZOFFSETFROM:+0200
TZOFFSETTO:+0100
TZNAME:CET
DTSTART:20191027T010000
END:STANDARD
BEGIN:DAYLIGHT
TZOFFSETFROM:+0100
TZOFFSETTO:+0200
TZNAME:CEST
DTSTART:20200329T010000
END:DAYLIGHT
BEGIN:STANDARD
TZOFFSETFROM:+0200
TZOFFSETTO:+0100
TZNAME:CET
DTSTART:20201025T010000
END:STANDARD
END:VTIMEZONE
BEGIN:VEVENT
DTSTART;TZID=Europe/Madrid:20190701T083000
DTEND;TZID=Europe/Madrid:20190731T130000
DTSTAMP:20260425T025849
CREATED:20190603T112615Z
LAST-MODIFIED:20190603T112615Z
UID:10003748-1561969800-1564578000@www.losmontesinos.es
SUMMARY:ESCUELA DEPORTIVA DE VERANO
DESCRIPTION:Del 1 al 31 de julio\, en horario de 8.30 – 9.00 a 13.00 horas (previa matrícula en el Ayuntamiento) \nLugar: Instalaciones Deportivas Municipales \nEdad: de 4 a 16 años (nacidos/as de 2003 a 2015) \n 
URL:https://www.losmontesinos.es/event/escuela-deportiva-de-verano/
LOCATION:Instalaciones municipales deportivas\, Partida Los Miras\, s/n\, Los Montesinos\, Alicante\, 03187\, España
CATEGORIES:Deportes
ATTACH;FMTTYPE=image/jpeg:https://www.losmontesinos.es/wp-content/uploads/2019/06/cartel-verano-deportivo-Los-Montesinos-2019.jpg
END:VEVENT
BEGIN:VEVENT
DTSTART;TZID=Europe/Madrid:20190701T083000
DTEND;TZID=Europe/Madrid:20190731T130000
DTSTAMP:20260425T025849
CREATED:20190603T112615Z
LAST-MODIFIED:20190603T112615Z
UID:10003749-1561969800-1564578000@www.losmontesinos.es
SUMMARY:ESCUELA DEPORTIVA DE VERANO
DESCRIPTION:Del 1 al 31 de julio\, en horario de 8.30 – 9.00 a 13.00 horas (previa matrícula en el Ayuntamiento) \nLugar: Instalaciones Deportivas Municipales \nEdad: de 4 a 16 años (nacidos/as de 2003 a 2015) \n 
URL:https://www.losmontesinos.es/event/escuela-deportiva-de-verano-2/
LOCATION:Instalaciones municipales deportivas\, Partida Los Miras\, s/n\, Los Montesinos\, Alicante\, 03187\, España
CATEGORIES:Deportes
ATTACH;FMTTYPE=image/jpeg:https://www.losmontesinos.es/wp-content/uploads/2019/06/cartel-verano-deportivo-Los-Montesinos-2019.jpg
END:VEVENT
BEGIN:VEVENT
DTSTART;TZID=Europe/Madrid:20190701T083000
DTEND;TZID=Europe/Madrid:20190731T130000
DTSTAMP:20260425T025849
CREATED:20190603T112615Z
LAST-MODIFIED:20190603T112615Z
UID:10003750-1561969800-1564578000@www.losmontesinos.es
SUMMARY:ESCUELA DEPORTIVA DE VERANO
DESCRIPTION:Del 1 al 31 de julio\, en horario de 8.30 – 9.00 a 13.00 horas (previa matrícula en el Ayuntamiento) \nLugar: Instalaciones Deportivas Municipales \nEdad: de 4 a 16 años (nacidos/as de 2003 a 2015) \n 
URL:https://www.losmontesinos.es/event/escuela-deportiva-de-verano-3/
LOCATION:Instalaciones municipales deportivas\, Partida Los Miras\, s/n\, Los Montesinos\, Alicante\, 03187\, España
CATEGORIES:Deportes
ATTACH;FMTTYPE=image/jpeg:https://www.losmontesinos.es/wp-content/uploads/2019/06/cartel-verano-deportivo-Los-Montesinos-2019.jpg
END:VEVENT
BEGIN:VEVENT
DTSTART;TZID=Europe/Madrid:20190727T220000
DTEND;TZID=Europe/Madrid:20190727T235900
DTSTAMP:20260425T025849
CREATED:20190719T085521Z
LAST-MODIFIED:20190719T085521Z
UID:10003775-1564264800-1564271940@www.losmontesinos.es
SUMMARY:FIESTAS DE LA SEGREGACIÓN 2019
DESCRIPTION:XXIX FIESTAS DE LA SEGREGACIÓN de LOS MONTESINOS\,\ndel 25 al 30 de julio de 2019\nDurante todo el día Gala del Deporte para todos/as: maratón ciclo indoor\, pilates\, bodyjump\, agua gym\, funcional training\, zumba. Organiza: Concejalía de Deportes. \nA las 22.00h. Actuación del Grupo ‘THE NEW WAVE’\, éxitos del pop rock nacional e internacional en la Plaza Sagrado Corazón. \nA las 22.30h. Elección de Reinas y Damas de las Fiestas Patronales 2019. \n 
URL:https://www.losmontesinos.es/event/fiestas-de-la-segregacion-2019-3/
LOCATION:Plaza Sagrado Corazón de Jesús de Los Montesinos\, Plaza Sagrado Corazón\, 1\, Los Montesinos\, Alicante\, 03187\, España
CATEGORIES:Fiestas Patronales
ATTACH;FMTTYPE=image/jpeg:https://www.losmontesinos.es/wp-content/uploads/2019/07/Cartel-Fiestas-Segregacion-Los-Montesinos-2019-scaled.jpg
END:VEVENT
BEGIN:VEVENT
DTSTART;TZID=Europe/Madrid:20190727T220000
DTEND;TZID=Europe/Madrid:20190727T235900
DTSTAMP:20260425T025849
CREATED:20190719T085521Z
LAST-MODIFIED:20190719T085521Z
UID:10003776-1564264800-1564271940@www.losmontesinos.es
SUMMARY:FIESTAS DE LA SEGREGACIÓN 2019
DESCRIPTION:XXIX FIESTAS DE LA SEGREGACIÓN de LOS MONTESINOS\,\ndel 25 al 30 de julio de 2019\nDurante todo el día Gala del Deporte para todos/as: maratón ciclo indoor\, pilates\, bodyjump\, agua gym\, funcional training\, zumba. Organiza: Concejalía de Deportes. \nA las 22.00h. Actuación del Grupo ‘THE NEW WAVE’\, éxitos del pop rock nacional e internacional en la Plaza Sagrado Corazón. \nA las 22.30h. Elección de Reinas y Damas de las Fiestas Patronales 2019. \n 
URL:https://www.losmontesinos.es/event/fiestas-de-la-segregacion-2019-3-2/
LOCATION:Plaza Sagrado Corazón de Jesús de Los Montesinos\, Plaza Sagrado Corazón\, 1\, Los Montesinos\, Alicante\, 03187\, España
CATEGORIES:Fiestas Patronales
ATTACH;FMTTYPE=image/jpeg:https://www.losmontesinos.es/wp-content/uploads/2019/07/Cartel-Fiestas-Segregacion-Los-Montesinos-2019-scaled.jpg
END:VEVENT
BEGIN:VEVENT
DTSTART;TZID=Europe/Madrid:20190727T220000
DTEND;TZID=Europe/Madrid:20190727T235900
DTSTAMP:20260425T025849
CREATED:20190719T085521Z
LAST-MODIFIED:20190719T085521Z
UID:10003777-1564264800-1564271940@www.losmontesinos.es
SUMMARY:FIESTAS DE LA SEGREGACIÓN 2019
DESCRIPTION:XXIX FIESTAS DE LA SEGREGACIÓN de LOS MONTESINOS\,\ndel 25 al 30 de julio de 2019\nDurante todo el día Gala del Deporte para todos/as: maratón ciclo indoor\, pilates\, bodyjump\, agua gym\, funcional training\, zumba. Organiza: Concejalía de Deportes. \nA las 22.00h. Actuación del Grupo ‘THE NEW WAVE’\, éxitos del pop rock nacional e internacional en la Plaza Sagrado Corazón. \nA las 22.30h. Elección de Reinas y Damas de las Fiestas Patronales 2019. \n 
URL:https://www.losmontesinos.es/event/fiestas-de-la-segregacion-2019-3-3/
LOCATION:Plaza Sagrado Corazón de Jesús de Los Montesinos\, Plaza Sagrado Corazón\, 1\, Los Montesinos\, Alicante\, 03187\, España
CATEGORIES:Fiestas Patronales
ATTACH;FMTTYPE=image/jpeg:https://www.losmontesinos.es/wp-content/uploads/2019/07/Cartel-Fiestas-Segregacion-Los-Montesinos-2019-scaled.jpg
END:VEVENT
END:VCALENDAR