BEGIN:VCALENDAR
VERSION:2.0
PRODID:-//Ayuntamiento - ECPv6.15.15//NONSGML v1.0//EN
CALSCALE:GREGORIAN
METHOD:PUBLISH
X-WR-CALNAME:Ayuntamiento
X-ORIGINAL-URL:https://www.losmontesinos.es
X-WR-CALDESC:Eventos para Ayuntamiento
REFRESH-INTERVAL;VALUE=DURATION:PT1H
X-Robots-Tag:noindex
X-PUBLISHED-TTL:PT1H
BEGIN:VTIMEZONE
TZID:Europe/Madrid
BEGIN:DAYLIGHT
TZOFFSETFROM:+0100
TZOFFSETTO:+0200
TZNAME:CEST
DTSTART:20180325T010000
END:DAYLIGHT
BEGIN:STANDARD
TZOFFSETFROM:+0200
TZOFFSETTO:+0100
TZNAME:CET
DTSTART:20181028T010000
END:STANDARD
BEGIN:DAYLIGHT
TZOFFSETFROM:+0100
TZOFFSETTO:+0200
TZNAME:CEST
DTSTART:20190331T010000
END:DAYLIGHT
BEGIN:STANDARD
TZOFFSETFROM:+0200
TZOFFSETTO:+0100
TZNAME:CET
DTSTART:20191027T010000
END:STANDARD
BEGIN:DAYLIGHT
TZOFFSETFROM:+0100
TZOFFSETTO:+0200
TZNAME:CEST
DTSTART:20200329T010000
END:DAYLIGHT
BEGIN:STANDARD
TZOFFSETFROM:+0200
TZOFFSETTO:+0100
TZNAME:CET
DTSTART:20201025T010000
END:STANDARD
END:VTIMEZONE
BEGIN:VEVENT
DTSTART;TZID=Europe/Madrid:20190520T003000
DTEND;TZID=Europe/Madrid:20190714T000000
DTSTAMP:20260425T010655
CREATED:20190531T081620Z
LAST-MODIFIED:20190531T081620Z
UID:10003731-1558312200-1563062400@www.losmontesinos.es
SUMMARY:II CONCURSO FOTOGRAFÍA #marcaVegaBaja
DESCRIPTION:–> Del 20 de Mayo al 14 de Julio de 2019. \n–> Temática: Capturar el espíritu de la Vega Baja o alguna de las fortalezas o valores emocionales de la comarca (consulta AQUÍ las bases del concurso). \n–> Funcionamiento: \n* Tienes que ser seguidor de la cuenta de Convega en Instagram. \n* Publicar una foto con título en Instagram incluyendo el hashtag #marcaVegaBaja \n* Mencionar la cuenta de Convega: @convega_com \n* Opcional: geolocalizar la fotografía \n–> Categorías y Premios: \n* Premio del Jurado: Cámara Cano EOS 4000D a la imagen designada por el jurado que mejor capte el espíritu de la Vega Baja. \n* Premio ‘likes’: Teléfono móvil Xiaomi MIA2 a la fotografía que más ‘likes‘ consiga dentro del plazo establecido\, ajustándose a la temática del concurso. \nToda la información: www.convega.com \n#ConcejalíadeFomentoyDesarrollo \n#AyuntamientodeLosMontesinos
URL:https://www.losmontesinos.es/event/ii-concurso-fotografia-marcavegabaja/
LOCATION:Alicante
CATEGORIES:Turismo
ATTACH;FMTTYPE=image/jpeg:https://www.losmontesinos.es/wp-content/uploads/2019/05/II-Concurso_Fotog-MarcaVega-Baja_Los-Montesinos-scaled.jpg
END:VEVENT
BEGIN:VEVENT
DTSTART;TZID=Europe/Madrid:20190520T003000
DTEND;TZID=Europe/Madrid:20190714T000000
DTSTAMP:20260425T010655
CREATED:20190531T081620Z
LAST-MODIFIED:20190531T081620Z
UID:10003732-1558312200-1563062400@www.losmontesinos.es
SUMMARY:II CONCURSO FOTOGRAFÍA #marcaVegaBaja
DESCRIPTION:–> Del 20 de Mayo al 14 de Julio de 2019. \n–> Temática: Capturar el espíritu de la Vega Baja o alguna de las fortalezas o valores emocionales de la comarca (consulta AQUÍ las bases del concurso). \n–> Funcionamiento: \n* Tienes que ser seguidor de la cuenta de Convega en Instagram. \n* Publicar una foto con título en Instagram incluyendo el hashtag #marcaVegaBaja \n* Mencionar la cuenta de Convega: @convega_com \n* Opcional: geolocalizar la fotografía \n–> Categorías y Premios: \n* Premio del Jurado: Cámara Cano EOS 4000D a la imagen designada por el jurado que mejor capte el espíritu de la Vega Baja. \n* Premio ‘likes’: Teléfono móvil Xiaomi MIA2 a la fotografía que más ‘likes‘ consiga dentro del plazo establecido\, ajustándose a la temática del concurso. \nToda la información: www.convega.com \n#ConcejalíadeFomentoyDesarrollo \n#AyuntamientodeLosMontesinos
URL:https://www.losmontesinos.es/event/ii-concurso-fotografia-marcavegabaja-2/
LOCATION:Alicante
CATEGORIES:Turismo
ATTACH;FMTTYPE=image/jpeg:https://www.losmontesinos.es/wp-content/uploads/2019/05/II-Concurso_Fotog-MarcaVega-Baja_Los-Montesinos-scaled.jpg
END:VEVENT
BEGIN:VEVENT
DTSTART;TZID=Europe/Madrid:20190520T003000
DTEND;TZID=Europe/Madrid:20190714T000000
DTSTAMP:20260425T010655
CREATED:20190531T081620Z
LAST-MODIFIED:20190531T081620Z
UID:10003733-1558312200-1563062400@www.losmontesinos.es
SUMMARY:II CONCURSO FOTOGRAFÍA #marcaVegaBaja
DESCRIPTION:–> Del 20 de Mayo al 14 de Julio de 2019. \n–> Temática: Capturar el espíritu de la Vega Baja o alguna de las fortalezas o valores emocionales de la comarca (consulta AQUÍ las bases del concurso). \n–> Funcionamiento: \n* Tienes que ser seguidor de la cuenta de Convega en Instagram. \n* Publicar una foto con título en Instagram incluyendo el hashtag #marcaVegaBaja \n* Mencionar la cuenta de Convega: @convega_com \n* Opcional: geolocalizar la fotografía \n–> Categorías y Premios: \n* Premio del Jurado: Cámara Cano EOS 4000D a la imagen designada por el jurado que mejor capte el espíritu de la Vega Baja. \n* Premio ‘likes’: Teléfono móvil Xiaomi MIA2 a la fotografía que más ‘likes‘ consiga dentro del plazo establecido\, ajustándose a la temática del concurso. \nToda la información: www.convega.com \n#ConcejalíadeFomentoyDesarrollo \n#AyuntamientodeLosMontesinos
URL:https://www.losmontesinos.es/event/ii-concurso-fotografia-marcavegabaja-3/
LOCATION:Alicante
CATEGORIES:Turismo
ATTACH;FMTTYPE=image/jpeg:https://www.losmontesinos.es/wp-content/uploads/2019/05/II-Concurso_Fotog-MarcaVega-Baja_Los-Montesinos-scaled.jpg
END:VEVENT
BEGIN:VEVENT
DTSTART;TZID=Europe/Madrid:20190629T110000
DTEND;TZID=Europe/Madrid:20190629T180000
DTSTAMP:20260425T010655
CREATED:20190628T070457Z
LAST-MODIFIED:20190628T070457Z
UID:10003751-1561806000-1561831200@www.losmontesinos.es
SUMMARY:JORNADA GASTRONÓMICA 'AROMAS Y SABORES DEL ARROZ EN LA VEGA BAJA'
DESCRIPTION:La Gran Fiesta de Exaltación del Arroz en el Puerto Marina Salinas de Torrevieja\, desde las 11.00h. hasta las 18.00h. Una jornada donde los profesionales de la hostelería que representan a los municipios participantes de la Comarca de la Vega Baja del Segura nos deleitarán con la rica variedad de arroces de nuestra tierra. Una jornada gastronómica y festiva que estará amenizada con música\, juegos\, sorteos… \n¿Te lo vas a perder? \nMás información: Torrevieja Gastronómica\, Asociación de Hostelería de Torrevieja y en Comer y Beber en Torrevieja
URL:https://www.losmontesinos.es/event/jornada-gastronomica-aromas-y-sabores-del-arroz-en-la-vega-baja-2/
LOCATION:Alicante
CATEGORIES:Turismo
ATTACH;FMTTYPE=image/png:https://www.losmontesinos.es/wp-content/uploads/2019/06/poster.png
END:VEVENT
BEGIN:VEVENT
DTSTART;TZID=Europe/Madrid:20190629T110000
DTEND;TZID=Europe/Madrid:20190629T180000
DTSTAMP:20260425T010655
CREATED:20190628T070457Z
LAST-MODIFIED:20190628T070457Z
UID:10003752-1561806000-1561831200@www.losmontesinos.es
SUMMARY:JORNADA GASTRONÓMICA 'AROMAS Y SABORES DEL ARROZ EN LA VEGA BAJA'
DESCRIPTION:La Gran Fiesta de Exaltación del Arroz en el Puerto Marina Salinas de Torrevieja\, desde las 11.00h. hasta las 18.00h. Una jornada donde los profesionales de la hostelería que representan a los municipios participantes de la Comarca de la Vega Baja del Segura nos deleitarán con la rica variedad de arroces de nuestra tierra. Una jornada gastronómica y festiva que estará amenizada con música\, juegos\, sorteos… \n¿Te lo vas a perder? \nMás información: Torrevieja Gastronómica\, Asociación de Hostelería de Torrevieja y en Comer y Beber en Torrevieja
URL:https://www.losmontesinos.es/event/jornada-gastronomica-aromas-y-sabores-del-arroz-en-la-vega-baja-3/
LOCATION:Alicante
CATEGORIES:Turismo
ATTACH;FMTTYPE=image/png:https://www.losmontesinos.es/wp-content/uploads/2019/06/poster.png
END:VEVENT
BEGIN:VEVENT
DTSTART;TZID=Europe/Madrid:20190629T110000
DTEND;TZID=Europe/Madrid:20190629T180000
DTSTAMP:20260425T010655
CREATED:20190628T070457Z
LAST-MODIFIED:20190628T070457Z
UID:10004360-1561806000-1561831200@www.losmontesinos.es
SUMMARY:JORNADA GASTRONÓMICA 'AROMAS Y SABORES DEL ARROZ EN LA VEGA BAJA'
DESCRIPTION:La Gran Fiesta de Exaltación del Arroz en el Puerto Marina Salinas de Torrevieja\, desde las 11.00h. hasta las 18.00h. Una jornada donde los profesionales de la hostelería que representan a los municipios participantes de la Comarca de la Vega Baja del Segura nos deleitarán con la rica variedad de arroces de nuestra tierra. Una jornada gastronómica y festiva que estará amenizada con música\, juegos\, sorteos… \n¿Te lo vas a perder? \nMás información: Torrevieja Gastronómica\, Asociación de Hostelería de Torrevieja y en Comer y Beber en Torrevieja
URL:https://www.losmontesinos.es/event/jornada-gastronomica-aromas-y-sabores-del-arroz-en-la-vega-baja/
LOCATION:Alicante
CATEGORIES:Turismo
ATTACH;FMTTYPE=image/png:https://www.losmontesinos.es/wp-content/uploads/2019/06/poster.png
END:VEVENT
BEGIN:VEVENT
DTSTART;TZID=Europe/Madrid:20190629T193000
DTEND;TZID=Europe/Madrid:20190629T223000
DTSTAMP:20260425T010655
CREATED:20190603T084642Z
LAST-MODIFIED:20190603T084642Z
UID:10003737-1561836600-1561847400@www.losmontesinos.es
SUMMARY:II CARRERA SOLIDARIA 3'5K - 7K LOS MONTESINOS 'TU COLABORACIÓN ES LA META'
DESCRIPTION:TU COLABORACIÓN ES LA META \nA las 19.30 horas\, desde la Plaza del Ayuntamiento \nAdemás de la carrera\, también se podrá realizar el trayecto en modalidad marcha/caminando y habrá carreras infantiles. \nInscripciones: www.asuspuestos.com (7€ marcha y 10€ carrera). \nTodos los fondos recaudados a través de esta carrera solidaria serán destinados íntegramente al proyecto AULA DE RESPIRO PARA PERSONAS EN SITUACIÓN DE DEPENDENCIA DE LOS MONTESINOS \nOrganizan: Rotary Club Los Montesinos \n#ConcejalíadeDeportes
URL:https://www.losmontesinos.es/event/ii-carrera-solidaria-35k-7k-los-montesinos-tu-colaboracion-es-la-meta/
LOCATION:Plaza del Ayuntamiento\, Plaza del Ayuntamiento\, 1\, Los Montesinos\, Alicante\, 03187\, España
CATEGORIES:Deportes
ATTACH;FMTTYPE=image/jpeg:https://www.losmontesinos.es/wp-content/uploads/2019/06/CARRERA_ROTARY_-5-y-10-km_Los-Montesinos-2019.jpg
END:VEVENT
BEGIN:VEVENT
DTSTART;TZID=Europe/Madrid:20190629T193000
DTEND;TZID=Europe/Madrid:20190629T223000
DTSTAMP:20260425T010655
CREATED:20190603T084642Z
LAST-MODIFIED:20190603T084642Z
UID:10003738-1561836600-1561847400@www.losmontesinos.es
SUMMARY:II CARRERA SOLIDARIA 3'5K - 7K LOS MONTESINOS 'TU COLABORACIÓN ES LA META'
DESCRIPTION:TU COLABORACIÓN ES LA META \nA las 19.30 horas\, desde la Plaza del Ayuntamiento \nAdemás de la carrera\, también se podrá realizar el trayecto en modalidad marcha/caminando y habrá carreras infantiles. \nInscripciones: www.asuspuestos.com (7€ marcha y 10€ carrera). \nTodos los fondos recaudados a través de esta carrera solidaria serán destinados íntegramente al proyecto AULA DE RESPIRO PARA PERSONAS EN SITUACIÓN DE DEPENDENCIA DE LOS MONTESINOS \nOrganizan: Rotary Club Los Montesinos \n#ConcejalíadeDeportes
URL:https://www.losmontesinos.es/event/ii-carrera-solidaria-35k-7k-los-montesinos-tu-colaboracion-es-la-meta-2/
LOCATION:Plaza del Ayuntamiento\, Plaza del Ayuntamiento\, 1\, Los Montesinos\, Alicante\, 03187\, España
CATEGORIES:Deportes
ATTACH;FMTTYPE=image/jpeg:https://www.losmontesinos.es/wp-content/uploads/2019/06/CARRERA_ROTARY_-5-y-10-km_Los-Montesinos-2019.jpg
END:VEVENT
BEGIN:VEVENT
DTSTART;TZID=Europe/Madrid:20190629T193000
DTEND;TZID=Europe/Madrid:20190629T223000
DTSTAMP:20260425T010655
CREATED:20190603T084642Z
LAST-MODIFIED:20190603T084642Z
UID:10003739-1561836600-1561847400@www.losmontesinos.es
SUMMARY:II CARRERA SOLIDARIA 3'5K - 7K LOS MONTESINOS 'TU COLABORACIÓN ES LA META'
DESCRIPTION:TU COLABORACIÓN ES LA META \nA las 19.30 horas\, desde la Plaza del Ayuntamiento \nAdemás de la carrera\, también se podrá realizar el trayecto en modalidad marcha/caminando y habrá carreras infantiles. \nInscripciones: www.asuspuestos.com (7€ marcha y 10€ carrera). \nTodos los fondos recaudados a través de esta carrera solidaria serán destinados íntegramente al proyecto AULA DE RESPIRO PARA PERSONAS EN SITUACIÓN DE DEPENDENCIA DE LOS MONTESINOS \nOrganizan: Rotary Club Los Montesinos \n#ConcejalíadeDeportes
URL:https://www.losmontesinos.es/event/ii-carrera-solidaria-35k-7k-los-montesinos-tu-colaboracion-es-la-meta-3/
LOCATION:Plaza del Ayuntamiento\, Plaza del Ayuntamiento\, 1\, Los Montesinos\, Alicante\, 03187\, España
CATEGORIES:Deportes
ATTACH;FMTTYPE=image/jpeg:https://www.losmontesinos.es/wp-content/uploads/2019/06/CARRERA_ROTARY_-5-y-10-km_Los-Montesinos-2019.jpg
END:VEVENT
END:VCALENDAR