BEGIN:VCALENDAR
VERSION:2.0
PRODID:-//Ayuntamiento - ECPv6.15.15//NONSGML v1.0//EN
CALSCALE:GREGORIAN
METHOD:PUBLISH
X-ORIGINAL-URL:https://www.losmontesinos.es
X-WR-CALDESC:Eventos para Ayuntamiento
REFRESH-INTERVAL;VALUE=DURATION:PT1H
X-Robots-Tag:noindex
X-PUBLISHED-TTL:PT1H
BEGIN:VTIMEZONE
TZID:Europe/Madrid
BEGIN:DAYLIGHT
TZOFFSETFROM:+0100
TZOFFSETTO:+0200
TZNAME:CEST
DTSTART:20180325T010000
END:DAYLIGHT
BEGIN:STANDARD
TZOFFSETFROM:+0200
TZOFFSETTO:+0100
TZNAME:CET
DTSTART:20181028T010000
END:STANDARD
BEGIN:DAYLIGHT
TZOFFSETFROM:+0100
TZOFFSETTO:+0200
TZNAME:CEST
DTSTART:20190331T010000
END:DAYLIGHT
BEGIN:STANDARD
TZOFFSETFROM:+0200
TZOFFSETTO:+0100
TZNAME:CET
DTSTART:20191027T010000
END:STANDARD
BEGIN:DAYLIGHT
TZOFFSETFROM:+0100
TZOFFSETTO:+0200
TZNAME:CEST
DTSTART:20200329T010000
END:DAYLIGHT
BEGIN:STANDARD
TZOFFSETFROM:+0200
TZOFFSETTO:+0100
TZNAME:CET
DTSTART:20201025T010000
END:STANDARD
END:VTIMEZONE
BEGIN:VEVENT
DTSTART;TZID=Europe/Madrid:20190520T003000
DTEND;TZID=Europe/Madrid:20190714T000000
DTSTAMP:20260425T011010
CREATED:20190531T081620Z
LAST-MODIFIED:20190531T081620Z
UID:10003731-1558312200-1563062400@www.losmontesinos.es
SUMMARY:II CONCURSO FOTOGRAFÍA #marcaVegaBaja
DESCRIPTION:–> Del 20 de Mayo al 14 de Julio de 2019. \n–> Temática: Capturar el espíritu de la Vega Baja o alguna de las fortalezas o valores emocionales de la comarca (consulta AQUÍ las bases del concurso). \n–> Funcionamiento: \n* Tienes que ser seguidor de la cuenta de Convega en Instagram. \n* Publicar una foto con título en Instagram incluyendo el hashtag #marcaVegaBaja \n* Mencionar la cuenta de Convega: @convega_com \n* Opcional: geolocalizar la fotografía \n–> Categorías y Premios: \n* Premio del Jurado: Cámara Cano EOS 4000D a la imagen designada por el jurado que mejor capte el espíritu de la Vega Baja. \n* Premio ‘likes’: Teléfono móvil Xiaomi MIA2 a la fotografía que más ‘likes‘ consiga dentro del plazo establecido\, ajustándose a la temática del concurso. \nToda la información: www.convega.com \n#ConcejalíadeFomentoyDesarrollo \n#AyuntamientodeLosMontesinos
URL:https://www.losmontesinos.es/event/ii-concurso-fotografia-marcavegabaja/
LOCATION:Alicante
CATEGORIES:Turismo
ATTACH;FMTTYPE=image/jpeg:https://www.losmontesinos.es/wp-content/uploads/2019/05/II-Concurso_Fotog-MarcaVega-Baja_Los-Montesinos-scaled.jpg
END:VEVENT
BEGIN:VEVENT
DTSTART;TZID=Europe/Madrid:20190520T003000
DTEND;TZID=Europe/Madrid:20190714T000000
DTSTAMP:20260425T011010
CREATED:20190531T081620Z
LAST-MODIFIED:20190531T081620Z
UID:10003732-1558312200-1563062400@www.losmontesinos.es
SUMMARY:II CONCURSO FOTOGRAFÍA #marcaVegaBaja
DESCRIPTION:–> Del 20 de Mayo al 14 de Julio de 2019. \n–> Temática: Capturar el espíritu de la Vega Baja o alguna de las fortalezas o valores emocionales de la comarca (consulta AQUÍ las bases del concurso). \n–> Funcionamiento: \n* Tienes que ser seguidor de la cuenta de Convega en Instagram. \n* Publicar una foto con título en Instagram incluyendo el hashtag #marcaVegaBaja \n* Mencionar la cuenta de Convega: @convega_com \n* Opcional: geolocalizar la fotografía \n–> Categorías y Premios: \n* Premio del Jurado: Cámara Cano EOS 4000D a la imagen designada por el jurado que mejor capte el espíritu de la Vega Baja. \n* Premio ‘likes’: Teléfono móvil Xiaomi MIA2 a la fotografía que más ‘likes‘ consiga dentro del plazo establecido\, ajustándose a la temática del concurso. \nToda la información: www.convega.com \n#ConcejalíadeFomentoyDesarrollo \n#AyuntamientodeLosMontesinos
URL:https://www.losmontesinos.es/event/ii-concurso-fotografia-marcavegabaja-2/
LOCATION:Alicante
CATEGORIES:Turismo
ATTACH;FMTTYPE=image/jpeg:https://www.losmontesinos.es/wp-content/uploads/2019/05/II-Concurso_Fotog-MarcaVega-Baja_Los-Montesinos-scaled.jpg
END:VEVENT
BEGIN:VEVENT
DTSTART;TZID=Europe/Madrid:20190520T003000
DTEND;TZID=Europe/Madrid:20190714T000000
DTSTAMP:20260425T011010
CREATED:20190531T081620Z
LAST-MODIFIED:20190531T081620Z
UID:10003733-1558312200-1563062400@www.losmontesinos.es
SUMMARY:II CONCURSO FOTOGRAFÍA #marcaVegaBaja
DESCRIPTION:–> Del 20 de Mayo al 14 de Julio de 2019. \n–> Temática: Capturar el espíritu de la Vega Baja o alguna de las fortalezas o valores emocionales de la comarca (consulta AQUÍ las bases del concurso). \n–> Funcionamiento: \n* Tienes que ser seguidor de la cuenta de Convega en Instagram. \n* Publicar una foto con título en Instagram incluyendo el hashtag #marcaVegaBaja \n* Mencionar la cuenta de Convega: @convega_com \n* Opcional: geolocalizar la fotografía \n–> Categorías y Premios: \n* Premio del Jurado: Cámara Cano EOS 4000D a la imagen designada por el jurado que mejor capte el espíritu de la Vega Baja. \n* Premio ‘likes’: Teléfono móvil Xiaomi MIA2 a la fotografía que más ‘likes‘ consiga dentro del plazo establecido\, ajustándose a la temática del concurso. \nToda la información: www.convega.com \n#ConcejalíadeFomentoyDesarrollo \n#AyuntamientodeLosMontesinos
URL:https://www.losmontesinos.es/event/ii-concurso-fotografia-marcavegabaja-3/
LOCATION:Alicante
CATEGORIES:Turismo
ATTACH;FMTTYPE=image/jpeg:https://www.losmontesinos.es/wp-content/uploads/2019/05/II-Concurso_Fotog-MarcaVega-Baja_Los-Montesinos-scaled.jpg
END:VEVENT
BEGIN:VEVENT
DTSTART;TZID=Europe/Madrid:20190628T110000
DTEND;TZID=Europe/Madrid:20190628T120000
DTSTAMP:20260425T011010
CREATED:20190627T071920Z
LAST-MODIFIED:20190627T071920Z
UID:10004357-1561719600-1561723200@www.losmontesinos.es
SUMMARY:CHARLA 'PLAN MAYOR DE SEGURIDAD'
DESCRIPTION:A las 11.00 horas en el Centro Cívico y Social (Hogar del Jubilado)\, la Guardia Civil impartirá esta charla dirigida a la prevención y mejora de la seguridad de nuestros mayores. \nEntrada libre\, limitada al aforo. \n 
URL:https://www.losmontesinos.es/event/charla-plan-mayor-de-seguridad-2/
LOCATION:Centro Cívico y Social (Hogar del Jubilado)\, Plaza del Ayuntamiento\, 2\, Los Montesinos\, Alicante\, 03187\, España
CATEGORIES:Bienestar Social
ATTACH;FMTTYPE=image/png:https://www.losmontesinos.es/wp-content/uploads/2019/06/CHARLA-Plan-Mayor-Seguridad-Los-Montesinos2019.png
END:VEVENT
BEGIN:VEVENT
DTSTART;TZID=Europe/Madrid:20190628T110000
DTEND;TZID=Europe/Madrid:20190628T120000
DTSTAMP:20260425T011010
CREATED:20190627T071920Z
LAST-MODIFIED:20190627T071920Z
UID:10004358-1561719600-1561723200@www.losmontesinos.es
SUMMARY:CHARLA 'PLAN MAYOR DE SEGURIDAD'
DESCRIPTION:A las 11.00 horas en el Centro Cívico y Social (Hogar del Jubilado)\, la Guardia Civil impartirá esta charla dirigida a la prevención y mejora de la seguridad de nuestros mayores. \nEntrada libre\, limitada al aforo. \n 
URL:https://www.losmontesinos.es/event/charla-plan-mayor-de-seguridad-2-2/
LOCATION:Centro Cívico y Social (Hogar del Jubilado)\, Plaza del Ayuntamiento\, 2\, Los Montesinos\, Alicante\, 03187\, España
CATEGORIES:Bienestar Social
ATTACH;FMTTYPE=image/png:https://www.losmontesinos.es/wp-content/uploads/2019/06/CHARLA-Plan-Mayor-Seguridad-Los-Montesinos2019.png
END:VEVENT
BEGIN:VEVENT
DTSTART;TZID=Europe/Madrid:20190628T110000
DTEND;TZID=Europe/Madrid:20190628T120000
DTSTAMP:20260425T011010
CREATED:20190627T071920Z
LAST-MODIFIED:20190627T071920Z
UID:10004359-1561719600-1561723200@www.losmontesinos.es
SUMMARY:CHARLA 'PLAN MAYOR DE SEGURIDAD'
DESCRIPTION:A las 11.00 horas en el Centro Cívico y Social (Hogar del Jubilado)\, la Guardia Civil impartirá esta charla dirigida a la prevención y mejora de la seguridad de nuestros mayores. \nEntrada libre\, limitada al aforo. \n 
URL:https://www.losmontesinos.es/event/charla-plan-mayor-de-seguridad-2-3/
LOCATION:Centro Cívico y Social (Hogar del Jubilado)\, Plaza del Ayuntamiento\, 2\, Los Montesinos\, Alicante\, 03187\, España
CATEGORIES:Bienestar Social
ATTACH;FMTTYPE=image/png:https://www.losmontesinos.es/wp-content/uploads/2019/06/CHARLA-Plan-Mayor-Seguridad-Los-Montesinos2019.png
END:VEVENT
BEGIN:VEVENT
DTSTART;TZID=Europe/Madrid:20190628T210000
DTEND;TZID=Europe/Madrid:20190628T235900
DTSTAMP:20260425T011010
CREATED:20190628T074243Z
LAST-MODIFIED:20190628T074243Z
UID:10003753-1561755600-1561766340@www.losmontesinos.es
SUMMARY:IX GALA DE LA MÚSICA
DESCRIPTION:A partir de las 21.00 horas en la Plaza del Ayuntamiento disfrutaremos de la actuación de diferentes grupos de la Escuela de Música y Cultura de Los Montesinos\, así como la Banda Infantil y la Banda Mayor. \n¡Os esperamos!
URL:https://www.losmontesinos.es/event/ix-gala-de-la-musica/
LOCATION:Plaza del Ayuntamiento\, Plaza del Ayuntamiento\, 1\, Los Montesinos\, Alicante\, 03187\, España
CATEGORIES:Eventos
ATTACH;FMTTYPE=image/jpeg:https://www.losmontesinos.es/wp-content/uploads/2019/06/GALA-DE-LA-MUSICA-IX_Los-Montesinos-2019.jpg
END:VEVENT
BEGIN:VEVENT
DTSTART;TZID=Europe/Madrid:20190628T210000
DTEND;TZID=Europe/Madrid:20190628T235900
DTSTAMP:20260425T011010
CREATED:20190628T074243Z
LAST-MODIFIED:20190628T074243Z
UID:10003754-1561755600-1561766340@www.losmontesinos.es
SUMMARY:IX GALA DE LA MÚSICA
DESCRIPTION:A partir de las 21.00 horas en la Plaza del Ayuntamiento disfrutaremos de la actuación de diferentes grupos de la Escuela de Música y Cultura de Los Montesinos\, así como la Banda Infantil y la Banda Mayor. \n¡Os esperamos!
URL:https://www.losmontesinos.es/event/ix-gala-de-la-musica-2/
LOCATION:Plaza del Ayuntamiento\, Plaza del Ayuntamiento\, 1\, Los Montesinos\, Alicante\, 03187\, España
CATEGORIES:Eventos
ATTACH;FMTTYPE=image/jpeg:https://www.losmontesinos.es/wp-content/uploads/2019/06/GALA-DE-LA-MUSICA-IX_Los-Montesinos-2019.jpg
END:VEVENT
BEGIN:VEVENT
DTSTART;TZID=Europe/Madrid:20190628T210000
DTEND;TZID=Europe/Madrid:20190628T235900
DTSTAMP:20260425T011010
CREATED:20190628T074243Z
LAST-MODIFIED:20190628T074243Z
UID:10003755-1561755600-1561766340@www.losmontesinos.es
SUMMARY:IX GALA DE LA MÚSICA
DESCRIPTION:A partir de las 21.00 horas en la Plaza del Ayuntamiento disfrutaremos de la actuación de diferentes grupos de la Escuela de Música y Cultura de Los Montesinos\, así como la Banda Infantil y la Banda Mayor. \n¡Os esperamos!
URL:https://www.losmontesinos.es/event/ix-gala-de-la-musica-3/
LOCATION:Plaza del Ayuntamiento\, Plaza del Ayuntamiento\, 1\, Los Montesinos\, Alicante\, 03187\, España
CATEGORIES:Eventos
ATTACH;FMTTYPE=image/jpeg:https://www.losmontesinos.es/wp-content/uploads/2019/06/GALA-DE-LA-MUSICA-IX_Los-Montesinos-2019.jpg
END:VEVENT
END:VCALENDAR