BEGIN:VCALENDAR
VERSION:2.0
PRODID:-//Ayuntamiento - ECPv6.15.15//NONSGML v1.0//EN
CALSCALE:GREGORIAN
METHOD:PUBLISH
X-ORIGINAL-URL:https://www.losmontesinos.es
X-WR-CALDESC:Eventos para Ayuntamiento
REFRESH-INTERVAL;VALUE=DURATION:PT1H
X-Robots-Tag:noindex
X-PUBLISHED-TTL:PT1H
BEGIN:VTIMEZONE
TZID:Europe/Madrid
BEGIN:DAYLIGHT
TZOFFSETFROM:+0100
TZOFFSETTO:+0200
TZNAME:CEST
DTSTART:20180325T010000
END:DAYLIGHT
BEGIN:STANDARD
TZOFFSETFROM:+0200
TZOFFSETTO:+0100
TZNAME:CET
DTSTART:20181028T010000
END:STANDARD
BEGIN:DAYLIGHT
TZOFFSETFROM:+0100
TZOFFSETTO:+0200
TZNAME:CEST
DTSTART:20190331T010000
END:DAYLIGHT
BEGIN:STANDARD
TZOFFSETFROM:+0200
TZOFFSETTO:+0100
TZNAME:CET
DTSTART:20191027T010000
END:STANDARD
BEGIN:DAYLIGHT
TZOFFSETFROM:+0100
TZOFFSETTO:+0200
TZNAME:CEST
DTSTART:20200329T010000
END:DAYLIGHT
BEGIN:STANDARD
TZOFFSETFROM:+0200
TZOFFSETTO:+0100
TZNAME:CET
DTSTART:20201025T010000
END:STANDARD
END:VTIMEZONE
BEGIN:VEVENT
DTSTART;TZID=Europe/Madrid:20190520T003000
DTEND;TZID=Europe/Madrid:20190714T000000
DTSTAMP:20260425T011200
CREATED:20190531T081620Z
LAST-MODIFIED:20190531T081620Z
UID:10003731-1558312200-1563062400@www.losmontesinos.es
SUMMARY:II CONCURSO FOTOGRAFÍA #marcaVegaBaja
DESCRIPTION:–> Del 20 de Mayo al 14 de Julio de 2019. \n–> Temática: Capturar el espíritu de la Vega Baja o alguna de las fortalezas o valores emocionales de la comarca (consulta AQUÍ las bases del concurso). \n–> Funcionamiento: \n* Tienes que ser seguidor de la cuenta de Convega en Instagram. \n* Publicar una foto con título en Instagram incluyendo el hashtag #marcaVegaBaja \n* Mencionar la cuenta de Convega: @convega_com \n* Opcional: geolocalizar la fotografía \n–> Categorías y Premios: \n* Premio del Jurado: Cámara Cano EOS 4000D a la imagen designada por el jurado que mejor capte el espíritu de la Vega Baja. \n* Premio ‘likes’: Teléfono móvil Xiaomi MIA2 a la fotografía que más ‘likes‘ consiga dentro del plazo establecido\, ajustándose a la temática del concurso. \nToda la información: www.convega.com \n#ConcejalíadeFomentoyDesarrollo \n#AyuntamientodeLosMontesinos
URL:https://www.losmontesinos.es/event/ii-concurso-fotografia-marcavegabaja/
LOCATION:Alicante
CATEGORIES:Turismo
ATTACH;FMTTYPE=image/jpeg:https://www.losmontesinos.es/wp-content/uploads/2019/05/II-Concurso_Fotog-MarcaVega-Baja_Los-Montesinos-scaled.jpg
END:VEVENT
BEGIN:VEVENT
DTSTART;TZID=Europe/Madrid:20190520T003000
DTEND;TZID=Europe/Madrid:20190714T000000
DTSTAMP:20260425T011200
CREATED:20190531T081620Z
LAST-MODIFIED:20190531T081620Z
UID:10003732-1558312200-1563062400@www.losmontesinos.es
SUMMARY:II CONCURSO FOTOGRAFÍA #marcaVegaBaja
DESCRIPTION:–> Del 20 de Mayo al 14 de Julio de 2019. \n–> Temática: Capturar el espíritu de la Vega Baja o alguna de las fortalezas o valores emocionales de la comarca (consulta AQUÍ las bases del concurso). \n–> Funcionamiento: \n* Tienes que ser seguidor de la cuenta de Convega en Instagram. \n* Publicar una foto con título en Instagram incluyendo el hashtag #marcaVegaBaja \n* Mencionar la cuenta de Convega: @convega_com \n* Opcional: geolocalizar la fotografía \n–> Categorías y Premios: \n* Premio del Jurado: Cámara Cano EOS 4000D a la imagen designada por el jurado que mejor capte el espíritu de la Vega Baja. \n* Premio ‘likes’: Teléfono móvil Xiaomi MIA2 a la fotografía que más ‘likes‘ consiga dentro del plazo establecido\, ajustándose a la temática del concurso. \nToda la información: www.convega.com \n#ConcejalíadeFomentoyDesarrollo \n#AyuntamientodeLosMontesinos
URL:https://www.losmontesinos.es/event/ii-concurso-fotografia-marcavegabaja-2/
LOCATION:Alicante
CATEGORIES:Turismo
ATTACH;FMTTYPE=image/jpeg:https://www.losmontesinos.es/wp-content/uploads/2019/05/II-Concurso_Fotog-MarcaVega-Baja_Los-Montesinos-scaled.jpg
END:VEVENT
BEGIN:VEVENT
DTSTART;TZID=Europe/Madrid:20190520T003000
DTEND;TZID=Europe/Madrid:20190714T000000
DTSTAMP:20260425T011200
CREATED:20190531T081620Z
LAST-MODIFIED:20190531T081620Z
UID:10003733-1558312200-1563062400@www.losmontesinos.es
SUMMARY:II CONCURSO FOTOGRAFÍA #marcaVegaBaja
DESCRIPTION:–> Del 20 de Mayo al 14 de Julio de 2019. \n–> Temática: Capturar el espíritu de la Vega Baja o alguna de las fortalezas o valores emocionales de la comarca (consulta AQUÍ las bases del concurso). \n–> Funcionamiento: \n* Tienes que ser seguidor de la cuenta de Convega en Instagram. \n* Publicar una foto con título en Instagram incluyendo el hashtag #marcaVegaBaja \n* Mencionar la cuenta de Convega: @convega_com \n* Opcional: geolocalizar la fotografía \n–> Categorías y Premios: \n* Premio del Jurado: Cámara Cano EOS 4000D a la imagen designada por el jurado que mejor capte el espíritu de la Vega Baja. \n* Premio ‘likes’: Teléfono móvil Xiaomi MIA2 a la fotografía que más ‘likes‘ consiga dentro del plazo establecido\, ajustándose a la temática del concurso. \nToda la información: www.convega.com \n#ConcejalíadeFomentoyDesarrollo \n#AyuntamientodeLosMontesinos
URL:https://www.losmontesinos.es/event/ii-concurso-fotografia-marcavegabaja-3/
LOCATION:Alicante
CATEGORIES:Turismo
ATTACH;FMTTYPE=image/jpeg:https://www.losmontesinos.es/wp-content/uploads/2019/05/II-Concurso_Fotog-MarcaVega-Baja_Los-Montesinos-scaled.jpg
END:VEVENT
BEGIN:VEVENT
DTSTART;TZID=Europe/Madrid:20190617T170000
DTEND;TZID=Europe/Madrid:20190621T200000
DTSTAMP:20260425T011200
CREATED:20190603T081400Z
LAST-MODIFIED:20190603T081400Z
UID:10003734-1560790800-1561147200@www.losmontesinos.es
SUMMARY:I CAMPUS DE FÚTBOL 'HÉCTOR PIZANA PASCUAL' LOS MONTESINOS
DESCRIPTION:De 17.00 a 20.00 horas en las instalaciones deportivas municipales. \nEdades: desde los 6 hasta los 16 años. \nPrecio: 20€ \nMás información: deportes@losmontesinos.org \n#ConcejalíadeDeportes
URL:https://www.losmontesinos.es/event/i-campus-de-futbol-hector-pizana-pascual-los-montesinos/
LOCATION:Instalaciones municipales deportivas\, Partida Los Miras\, s/n\, Los Montesinos\, Alicante\, 03187\, España
CATEGORIES:Deportes
ATTACH;FMTTYPE=image/jpeg:https://www.losmontesinos.es/wp-content/uploads/2019/06/campus-futbol-verano-2019_Los-Montesinos.jpg
END:VEVENT
BEGIN:VEVENT
DTSTART;TZID=Europe/Madrid:20190617T170000
DTEND;TZID=Europe/Madrid:20190621T200000
DTSTAMP:20260425T011200
CREATED:20190603T081400Z
LAST-MODIFIED:20190603T081400Z
UID:10003735-1560790800-1561147200@www.losmontesinos.es
SUMMARY:I CAMPUS DE FÚTBOL 'HÉCTOR PIZANA PASCUAL' LOS MONTESINOS
DESCRIPTION:De 17.00 a 20.00 horas en las instalaciones deportivas municipales. \nEdades: desde los 6 hasta los 16 años. \nPrecio: 20€ \nMás información: deportes@losmontesinos.org \n#ConcejalíadeDeportes
URL:https://www.losmontesinos.es/event/i-campus-de-futbol-hector-pizana-pascual-los-montesinos-2/
LOCATION:Instalaciones municipales deportivas\, Partida Los Miras\, s/n\, Los Montesinos\, Alicante\, 03187\, España
CATEGORIES:Deportes
ATTACH;FMTTYPE=image/jpeg:https://www.losmontesinos.es/wp-content/uploads/2019/06/campus-futbol-verano-2019_Los-Montesinos.jpg
END:VEVENT
BEGIN:VEVENT
DTSTART;TZID=Europe/Madrid:20190617T170000
DTEND;TZID=Europe/Madrid:20190621T200000
DTSTAMP:20260425T011200
CREATED:20190603T081400Z
LAST-MODIFIED:20190603T081400Z
UID:10003736-1560790800-1561147200@www.losmontesinos.es
SUMMARY:I CAMPUS DE FÚTBOL 'HÉCTOR PIZANA PASCUAL' LOS MONTESINOS
DESCRIPTION:De 17.00 a 20.00 horas en las instalaciones deportivas municipales. \nEdades: desde los 6 hasta los 16 años. \nPrecio: 20€ \nMás información: deportes@losmontesinos.org \n#ConcejalíadeDeportes
URL:https://www.losmontesinos.es/event/i-campus-de-futbol-hector-pizana-pascual-los-montesinos-3/
LOCATION:Instalaciones municipales deportivas\, Partida Los Miras\, s/n\, Los Montesinos\, Alicante\, 03187\, España
CATEGORIES:Deportes
ATTACH;FMTTYPE=image/jpeg:https://www.losmontesinos.es/wp-content/uploads/2019/06/campus-futbol-verano-2019_Los-Montesinos.jpg
END:VEVENT
BEGIN:VEVENT
DTSTART;TZID=Europe/Madrid:20190618T083000
DTEND;TZID=Europe/Madrid:20190619T110000
DTSTAMP:20260425T011200
CREATED:20190520T115428Z
LAST-MODIFIED:20190520T115428Z
UID:10004332-1560846600-1560942000@www.losmontesinos.es
SUMMARY:RENOVACIÓN DEL DNI
DESCRIPTION:Se recuerda que es necesario coger turno previamente en el Ayuntamiento\, pudiendo llamar al tfno. 96 672 10 87.
URL:https://www.losmontesinos.es/event/renovacion-del-dni-3/
LOCATION:Alicante
CATEGORIES:Servicios
ATTACH;FMTTYPE=image/jpeg:https://www.losmontesinos.es/wp-content/uploads/2019/05/bando-DNI-junio-2019-Los-Montesinos1.jpg
END:VEVENT
BEGIN:VEVENT
DTSTART;TZID=Europe/Madrid:20190618T083000
DTEND;TZID=Europe/Madrid:20190619T110000
DTSTAMP:20260425T011200
CREATED:20190520T115428Z
LAST-MODIFIED:20190520T115428Z
UID:10004333-1560846600-1560942000@www.losmontesinos.es
SUMMARY:RENOVACIÓN DEL DNI
DESCRIPTION:Se recuerda que es necesario coger turno previamente en el Ayuntamiento\, pudiendo llamar al tfno. 96 672 10 87.
URL:https://www.losmontesinos.es/event/renovacion-del-dni-3-2/
LOCATION:Alicante
CATEGORIES:Servicios
ATTACH;FMTTYPE=image/jpeg:https://www.losmontesinos.es/wp-content/uploads/2019/05/bando-DNI-junio-2019-Los-Montesinos1.jpg
END:VEVENT
BEGIN:VEVENT
DTSTART;TZID=Europe/Madrid:20190618T083000
DTEND;TZID=Europe/Madrid:20190619T110000
DTSTAMP:20260425T011200
CREATED:20190520T115428Z
LAST-MODIFIED:20190520T115428Z
UID:10004334-1560846600-1560942000@www.losmontesinos.es
SUMMARY:RENOVACIÓN DEL DNI
DESCRIPTION:Se recuerda que es necesario coger turno previamente en el Ayuntamiento\, pudiendo llamar al tfno. 96 672 10 87.
URL:https://www.losmontesinos.es/event/renovacion-del-dni-3-3/
LOCATION:Alicante
CATEGORIES:Servicios
ATTACH;FMTTYPE=image/jpeg:https://www.losmontesinos.es/wp-content/uploads/2019/05/bando-DNI-junio-2019-Los-Montesinos1.jpg
END:VEVENT
END:VCALENDAR