BEGIN:VCALENDAR
VERSION:2.0
PRODID:-//Ayuntamiento - ECPv6.15.15//NONSGML v1.0//EN
CALSCALE:GREGORIAN
METHOD:PUBLISH
X-WR-CALNAME:Ayuntamiento
X-ORIGINAL-URL:https://www.losmontesinos.es
X-WR-CALDESC:Eventos para Ayuntamiento
REFRESH-INTERVAL;VALUE=DURATION:PT1H
X-Robots-Tag:noindex
X-PUBLISHED-TTL:PT1H
BEGIN:VTIMEZONE
TZID:Europe/Madrid
BEGIN:DAYLIGHT
TZOFFSETFROM:+0100
TZOFFSETTO:+0200
TZNAME:CEST
DTSTART:20180325T010000
END:DAYLIGHT
BEGIN:STANDARD
TZOFFSETFROM:+0200
TZOFFSETTO:+0100
TZNAME:CET
DTSTART:20181028T010000
END:STANDARD
BEGIN:DAYLIGHT
TZOFFSETFROM:+0100
TZOFFSETTO:+0200
TZNAME:CEST
DTSTART:20190331T010000
END:DAYLIGHT
BEGIN:STANDARD
TZOFFSETFROM:+0200
TZOFFSETTO:+0100
TZNAME:CET
DTSTART:20191027T010000
END:STANDARD
BEGIN:DAYLIGHT
TZOFFSETFROM:+0100
TZOFFSETTO:+0200
TZNAME:CEST
DTSTART:20200329T010000
END:DAYLIGHT
BEGIN:STANDARD
TZOFFSETFROM:+0200
TZOFFSETTO:+0100
TZNAME:CET
DTSTART:20201025T010000
END:STANDARD
END:VTIMEZONE
BEGIN:VEVENT
DTSTART;TZID=Europe/Madrid:20190520T003000
DTEND;TZID=Europe/Madrid:20190714T000000
DTSTAMP:20260424T232125
CREATED:20190531T081620Z
LAST-MODIFIED:20190531T081620Z
UID:10003731-1558312200-1563062400@www.losmontesinos.es
SUMMARY:II CONCURSO FOTOGRAFÍA #marcaVegaBaja
DESCRIPTION:–> Del 20 de Mayo al 14 de Julio de 2019. \n–> Temática: Capturar el espíritu de la Vega Baja o alguna de las fortalezas o valores emocionales de la comarca (consulta AQUÍ las bases del concurso). \n–> Funcionamiento: \n* Tienes que ser seguidor de la cuenta de Convega en Instagram. \n* Publicar una foto con título en Instagram incluyendo el hashtag #marcaVegaBaja \n* Mencionar la cuenta de Convega: @convega_com \n* Opcional: geolocalizar la fotografía \n–> Categorías y Premios: \n* Premio del Jurado: Cámara Cano EOS 4000D a la imagen designada por el jurado que mejor capte el espíritu de la Vega Baja. \n* Premio ‘likes’: Teléfono móvil Xiaomi MIA2 a la fotografía que más ‘likes‘ consiga dentro del plazo establecido\, ajustándose a la temática del concurso. \nToda la información: www.convega.com \n#ConcejalíadeFomentoyDesarrollo \n#AyuntamientodeLosMontesinos
URL:https://www.losmontesinos.es/event/ii-concurso-fotografia-marcavegabaja/
LOCATION:Alicante
CATEGORIES:Turismo
ATTACH;FMTTYPE=image/jpeg:https://www.losmontesinos.es/wp-content/uploads/2019/05/II-Concurso_Fotog-MarcaVega-Baja_Los-Montesinos-scaled.jpg
END:VEVENT
BEGIN:VEVENT
DTSTART;TZID=Europe/Madrid:20190520T003000
DTEND;TZID=Europe/Madrid:20190714T000000
DTSTAMP:20260424T232125
CREATED:20190531T081620Z
LAST-MODIFIED:20190531T081620Z
UID:10003732-1558312200-1563062400@www.losmontesinos.es
SUMMARY:II CONCURSO FOTOGRAFÍA #marcaVegaBaja
DESCRIPTION:–> Del 20 de Mayo al 14 de Julio de 2019. \n–> Temática: Capturar el espíritu de la Vega Baja o alguna de las fortalezas o valores emocionales de la comarca (consulta AQUÍ las bases del concurso). \n–> Funcionamiento: \n* Tienes que ser seguidor de la cuenta de Convega en Instagram. \n* Publicar una foto con título en Instagram incluyendo el hashtag #marcaVegaBaja \n* Mencionar la cuenta de Convega: @convega_com \n* Opcional: geolocalizar la fotografía \n–> Categorías y Premios: \n* Premio del Jurado: Cámara Cano EOS 4000D a la imagen designada por el jurado que mejor capte el espíritu de la Vega Baja. \n* Premio ‘likes’: Teléfono móvil Xiaomi MIA2 a la fotografía que más ‘likes‘ consiga dentro del plazo establecido\, ajustándose a la temática del concurso. \nToda la información: www.convega.com \n#ConcejalíadeFomentoyDesarrollo \n#AyuntamientodeLosMontesinos
URL:https://www.losmontesinos.es/event/ii-concurso-fotografia-marcavegabaja-2/
LOCATION:Alicante
CATEGORIES:Turismo
ATTACH;FMTTYPE=image/jpeg:https://www.losmontesinos.es/wp-content/uploads/2019/05/II-Concurso_Fotog-MarcaVega-Baja_Los-Montesinos-scaled.jpg
END:VEVENT
BEGIN:VEVENT
DTSTART;TZID=Europe/Madrid:20190520T003000
DTEND;TZID=Europe/Madrid:20190714T000000
DTSTAMP:20260424T232125
CREATED:20190531T081620Z
LAST-MODIFIED:20190531T081620Z
UID:10003733-1558312200-1563062400@www.losmontesinos.es
SUMMARY:II CONCURSO FOTOGRAFÍA #marcaVegaBaja
DESCRIPTION:–> Del 20 de Mayo al 14 de Julio de 2019. \n–> Temática: Capturar el espíritu de la Vega Baja o alguna de las fortalezas o valores emocionales de la comarca (consulta AQUÍ las bases del concurso). \n–> Funcionamiento: \n* Tienes que ser seguidor de la cuenta de Convega en Instagram. \n* Publicar una foto con título en Instagram incluyendo el hashtag #marcaVegaBaja \n* Mencionar la cuenta de Convega: @convega_com \n* Opcional: geolocalizar la fotografía \n–> Categorías y Premios: \n* Premio del Jurado: Cámara Cano EOS 4000D a la imagen designada por el jurado que mejor capte el espíritu de la Vega Baja. \n* Premio ‘likes’: Teléfono móvil Xiaomi MIA2 a la fotografía que más ‘likes‘ consiga dentro del plazo establecido\, ajustándose a la temática del concurso. \nToda la información: www.convega.com \n#ConcejalíadeFomentoyDesarrollo \n#AyuntamientodeLosMontesinos
URL:https://www.losmontesinos.es/event/ii-concurso-fotografia-marcavegabaja-3/
LOCATION:Alicante
CATEGORIES:Turismo
ATTACH;FMTTYPE=image/jpeg:https://www.losmontesinos.es/wp-content/uploads/2019/05/II-Concurso_Fotog-MarcaVega-Baja_Los-Montesinos-scaled.jpg
END:VEVENT
BEGIN:VEVENT
DTSTART;TZID=Europe/Madrid:20190529T090000
DTEND;TZID=Europe/Madrid:20190529T140000
DTSTAMP:20260424T232125
CREATED:20190503T103737Z
LAST-MODIFIED:20190503T103737Z
UID:10003729-1559120400-1559138400@www.losmontesinos.es
SUMMARY:CURSO MANIPULACIÓN DE ALIMENTOS Y GESTIÓN DE ALÉRGENOS
DESCRIPTION:Previa inscripción a través de la App del CDT (descárgala en tu móvil). \nEsta formación está preferentemente destinada a desempleados\, se deberá aportar el DARDE y el DNI. \nMás información desde la Agencia de Empleo y Desarrollo Local del Ayuntamiento de Los Montesinos.
URL:https://www.losmontesinos.es/event/curso-manipulacion-de-alimentos-y-gestion-de-alergenos/
LOCATION:Centro Cívico y Social (Hogar del Jubilado)\, Plaza del Ayuntamiento\, 2\, Los Montesinos\, Alicante\, 03187\, España
CATEGORIES:Formación
ATTACH;FMTTYPE=image/jpeg:https://www.losmontesinos.es/wp-content/uploads/2019/05/Cartel-Manipulador-Los-Montesinos-20191.jpg
END:VEVENT
BEGIN:VEVENT
DTSTART;TZID=Europe/Madrid:20190529T090000
DTEND;TZID=Europe/Madrid:20190529T140000
DTSTAMP:20260424T232125
CREATED:20190503T103737Z
LAST-MODIFIED:20190503T103737Z
UID:10003730-1559120400-1559138400@www.losmontesinos.es
SUMMARY:CURSO MANIPULACIÓN DE ALIMENTOS Y GESTIÓN DE ALÉRGENOS
DESCRIPTION:Previa inscripción a través de la App del CDT (descárgala en tu móvil). \nEsta formación está preferentemente destinada a desempleados\, se deberá aportar el DARDE y el DNI. \nMás información desde la Agencia de Empleo y Desarrollo Local del Ayuntamiento de Los Montesinos.
URL:https://www.losmontesinos.es/event/curso-manipulacion-de-alimentos-y-gestion-de-alergenos-2/
LOCATION:Centro Cívico y Social (Hogar del Jubilado)\, Plaza del Ayuntamiento\, 2\, Los Montesinos\, Alicante\, 03187\, España
CATEGORIES:Formación
ATTACH;FMTTYPE=image/jpeg:https://www.losmontesinos.es/wp-content/uploads/2019/05/Cartel-Manipulador-Los-Montesinos-20191.jpg
END:VEVENT
BEGIN:VEVENT
DTSTART;TZID=Europe/Madrid:20190529T090000
DTEND;TZID=Europe/Madrid:20190529T140000
DTSTAMP:20260424T232125
CREATED:20190503T103737Z
LAST-MODIFIED:20190503T103737Z
UID:10004331-1559120400-1559138400@www.losmontesinos.es
SUMMARY:CURSO MANIPULACIÓN DE ALIMENTOS Y GESTIÓN DE ALÉRGENOS
DESCRIPTION:Previa inscripción a través de la App del CDT (descárgala en tu móvil). \nEsta formación está preferentemente destinada a desempleados\, se deberá aportar el DARDE y el DNI. \nMás información desde la Agencia de Empleo y Desarrollo Local del Ayuntamiento de Los Montesinos.
URL:https://www.losmontesinos.es/event/curso-manipulacion-de-alimentos-y-gestion-de-alergenos-3/
LOCATION:Centro Cívico y Social (Hogar del Jubilado)\, Plaza del Ayuntamiento\, 2\, Los Montesinos\, Alicante\, 03187\, España
CATEGORIES:Formación
ATTACH;FMTTYPE=image/jpeg:https://www.losmontesinos.es/wp-content/uploads/2019/05/Cartel-Manipulador-Los-Montesinos-20191.jpg
END:VEVENT
BEGIN:VEVENT
DTSTART;TZID=Europe/Madrid:20190529T190000
DTEND;TZID=Europe/Madrid:20190529T203000
DTSTAMP:20260424T232125
CREATED:20190520T115759Z
LAST-MODIFIED:20190520T115759Z
UID:10004335-1559156400-1559161800@www.losmontesinos.es
SUMMARY:EXPOSICIÓN Y ENTREGA DE PREMIOS: I CONCURSO DE FOTOGRAFÍA ‘LOS MONTESINOS\, UNA MIRADA JOVEN’
DESCRIPTION:A las 19.00 horas en el Auditorio de la Escuela de Música y Cultura de Los Montesinos. \nEntrada libre\, limitada al aforo.
URL:https://www.losmontesinos.es/event/exposicion-y-entrega-de-premios-i-concurso-de-fotografia-los-montesinos-una-mirada-joven/
LOCATION:Escuela municipal de Música y Cultura (Auditorio municipal)\, C/ Zaragoza\, 5\, Los Montesinos\, Alicante\, 03187\, España
CATEGORIES:Juventud
ATTACH;FMTTYPE=image/jpeg:https://www.losmontesinos.es/wp-content/uploads/2019/05/Premios-concurso-fotografia-20191.jpg
END:VEVENT
BEGIN:VEVENT
DTSTART;TZID=Europe/Madrid:20190529T190000
DTEND;TZID=Europe/Madrid:20190529T203000
DTSTAMP:20260424T232125
CREATED:20190520T115759Z
LAST-MODIFIED:20190520T115759Z
UID:10004336-1559156400-1559161800@www.losmontesinos.es
SUMMARY:EXPOSICIÓN Y ENTREGA DE PREMIOS: I CONCURSO DE FOTOGRAFÍA ‘LOS MONTESINOS\, UNA MIRADA JOVEN’
DESCRIPTION:A las 19.00 horas en el Auditorio de la Escuela de Música y Cultura de Los Montesinos. \nEntrada libre\, limitada al aforo.
URL:https://www.losmontesinos.es/event/exposicion-y-entrega-de-premios-i-concurso-de-fotografia-los-montesinos-una-mirada-joven-2/
LOCATION:Escuela municipal de Música y Cultura (Auditorio municipal)\, C/ Zaragoza\, 5\, Los Montesinos\, Alicante\, 03187\, España
CATEGORIES:Juventud
ATTACH;FMTTYPE=image/jpeg:https://www.losmontesinos.es/wp-content/uploads/2019/05/Premios-concurso-fotografia-20191.jpg
END:VEVENT
BEGIN:VEVENT
DTSTART;TZID=Europe/Madrid:20190529T190000
DTEND;TZID=Europe/Madrid:20190529T203000
DTSTAMP:20260424T232125
CREATED:20190520T115759Z
LAST-MODIFIED:20190520T115759Z
UID:10004337-1559156400-1559161800@www.losmontesinos.es
SUMMARY:EXPOSICIÓN Y ENTREGA DE PREMIOS: I CONCURSO DE FOTOGRAFÍA ‘LOS MONTESINOS\, UNA MIRADA JOVEN’
DESCRIPTION:A las 19.00 horas en el Auditorio de la Escuela de Música y Cultura de Los Montesinos. \nEntrada libre\, limitada al aforo.
URL:https://www.losmontesinos.es/event/exposicion-y-entrega-de-premios-i-concurso-de-fotografia-los-montesinos-una-mirada-joven-3/
LOCATION:Escuela municipal de Música y Cultura (Auditorio municipal)\, C/ Zaragoza\, 5\, Los Montesinos\, Alicante\, 03187\, España
CATEGORIES:Juventud
ATTACH;FMTTYPE=image/jpeg:https://www.losmontesinos.es/wp-content/uploads/2019/05/Premios-concurso-fotografia-20191.jpg
END:VEVENT
END:VCALENDAR