BEGIN:VCALENDAR
VERSION:2.0
PRODID:-//Ayuntamiento - ECPv6.15.15//NONSGML v1.0//EN
CALSCALE:GREGORIAN
METHOD:PUBLISH
X-ORIGINAL-URL:https://www.losmontesinos.es
X-WR-CALDESC:Eventos para Ayuntamiento
REFRESH-INTERVAL;VALUE=DURATION:PT1H
X-Robots-Tag:noindex
X-PUBLISHED-TTL:PT1H
BEGIN:VTIMEZONE
TZID:Europe/Madrid
BEGIN:DAYLIGHT
TZOFFSETFROM:+0100
TZOFFSETTO:+0200
TZNAME:CEST
DTSTART:20180325T010000
END:DAYLIGHT
BEGIN:STANDARD
TZOFFSETFROM:+0200
TZOFFSETTO:+0100
TZNAME:CET
DTSTART:20181028T010000
END:STANDARD
BEGIN:DAYLIGHT
TZOFFSETFROM:+0100
TZOFFSETTO:+0200
TZNAME:CEST
DTSTART:20190331T010000
END:DAYLIGHT
BEGIN:STANDARD
TZOFFSETFROM:+0200
TZOFFSETTO:+0100
TZNAME:CET
DTSTART:20191027T010000
END:STANDARD
BEGIN:DAYLIGHT
TZOFFSETFROM:+0100
TZOFFSETTO:+0200
TZNAME:CEST
DTSTART:20200329T010000
END:DAYLIGHT
BEGIN:STANDARD
TZOFFSETFROM:+0200
TZOFFSETTO:+0100
TZNAME:CET
DTSTART:20201025T010000
END:STANDARD
END:VTIMEZONE
BEGIN:VEVENT
DTSTART;TZID=Europe/Madrid:20190507T090000
DTEND;TZID=Europe/Madrid:20190510T140000
DTSTAMP:20260424T232311
CREATED:20190425T112039Z
LAST-MODIFIED:20190425T112039Z
UID:10004324-1557219600-1557496800@www.losmontesinos.es
SUMMARY:CURSO PRL (OPERADOR APARATOS ELEVADORES)
DESCRIPTION:Previa inscripción en la Agencia de Desarrollo Local del Ayuntamiento de Los Montesinos o la web de CONVEGA https://www.convega.com/formacion2019/ \nGratuito (demandantes de empleo en LABORA) \nHorario: de 9.00 a 14.00 horas  \nLugar: Centro Cívico y Social de Los Montesinos \n 
URL:https://www.losmontesinos.es/event/curso-prl-operador-aparatos-elevadores/
LOCATION:Centro Cívico y Social (Hogar del Jubilado)\, Plaza del Ayuntamiento\, 2\, Los Montesinos\, Alicante\, 03187\, España
CATEGORIES:Formación
ATTACH;FMTTYPE=image/jpeg:https://www.losmontesinos.es/wp-content/uploads/2019/04/cURSO-PRL-los-montesinos-2019-scaled.jpg
END:VEVENT
BEGIN:VEVENT
DTSTART;TZID=Europe/Madrid:20190507T090000
DTEND;TZID=Europe/Madrid:20190510T140000
DTSTAMP:20260424T232311
CREATED:20190425T112039Z
LAST-MODIFIED:20190425T112039Z
UID:10004325-1557219600-1557496800@www.losmontesinos.es
SUMMARY:CURSO PRL (OPERADOR APARATOS ELEVADORES)
DESCRIPTION:Previa inscripción en la Agencia de Desarrollo Local del Ayuntamiento de Los Montesinos o la web de CONVEGA https://www.convega.com/formacion2019/ \nGratuito (demandantes de empleo en LABORA) \nHorario: de 9.00 a 14.00 horas  \nLugar: Centro Cívico y Social de Los Montesinos \n 
URL:https://www.losmontesinos.es/event/curso-prl-operador-aparatos-elevadores-2/
LOCATION:Centro Cívico y Social (Hogar del Jubilado)\, Plaza del Ayuntamiento\, 2\, Los Montesinos\, Alicante\, 03187\, España
CATEGORIES:Formación
ATTACH;FMTTYPE=image/jpeg:https://www.losmontesinos.es/wp-content/uploads/2019/04/cURSO-PRL-los-montesinos-2019-scaled.jpg
END:VEVENT
BEGIN:VEVENT
DTSTART;TZID=Europe/Madrid:20190507T090000
DTEND;TZID=Europe/Madrid:20190510T140000
DTSTAMP:20260424T232311
CREATED:20190425T112039Z
LAST-MODIFIED:20190425T112039Z
UID:10004326-1557219600-1557496800@www.losmontesinos.es
SUMMARY:CURSO PRL (OPERADOR APARATOS ELEVADORES)
DESCRIPTION:Previa inscripción en la Agencia de Desarrollo Local del Ayuntamiento de Los Montesinos o la web de CONVEGA https://www.convega.com/formacion2019/ \nGratuito (demandantes de empleo en LABORA) \nHorario: de 9.00 a 14.00 horas  \nLugar: Centro Cívico y Social de Los Montesinos \n 
URL:https://www.losmontesinos.es/event/curso-prl-operador-aparatos-elevadores-3/
LOCATION:Centro Cívico y Social (Hogar del Jubilado)\, Plaza del Ayuntamiento\, 2\, Los Montesinos\, Alicante\, 03187\, España
CATEGORIES:Formación
ATTACH;FMTTYPE=image/jpeg:https://www.losmontesinos.es/wp-content/uploads/2019/04/cURSO-PRL-los-montesinos-2019-scaled.jpg
END:VEVENT
END:VCALENDAR