BEGIN:VCALENDAR
VERSION:2.0
PRODID:-//Ayuntamiento - ECPv6.15.15//NONSGML v1.0//EN
CALSCALE:GREGORIAN
METHOD:PUBLISH
X-WR-CALNAME:Ayuntamiento
X-ORIGINAL-URL:https://www.losmontesinos.es
X-WR-CALDESC:Eventos para Ayuntamiento
REFRESH-INTERVAL;VALUE=DURATION:PT1H
X-Robots-Tag:noindex
X-PUBLISHED-TTL:PT1H
BEGIN:VTIMEZONE
TZID:Europe/Madrid
BEGIN:DAYLIGHT
TZOFFSETFROM:+0100
TZOFFSETTO:+0200
TZNAME:CEST
DTSTART:20180325T010000
END:DAYLIGHT
BEGIN:STANDARD
TZOFFSETFROM:+0200
TZOFFSETTO:+0100
TZNAME:CET
DTSTART:20181028T010000
END:STANDARD
BEGIN:DAYLIGHT
TZOFFSETFROM:+0100
TZOFFSETTO:+0200
TZNAME:CEST
DTSTART:20190331T010000
END:DAYLIGHT
BEGIN:STANDARD
TZOFFSETFROM:+0200
TZOFFSETTO:+0100
TZNAME:CET
DTSTART:20191027T010000
END:STANDARD
BEGIN:DAYLIGHT
TZOFFSETFROM:+0100
TZOFFSETTO:+0200
TZNAME:CEST
DTSTART:20200329T010000
END:DAYLIGHT
BEGIN:STANDARD
TZOFFSETFROM:+0200
TZOFFSETTO:+0100
TZNAME:CET
DTSTART:20201025T010000
END:STANDARD
END:VTIMEZONE
BEGIN:VEVENT
DTSTART;TZID=Europe/Madrid:20190503T170000
DTEND;TZID=Europe/Madrid:20190504T183000
DTSTAMP:20260424T232209
CREATED:20190502T113318Z
LAST-MODIFIED:20190502T113318Z
UID:10003723-1556902800-1556994600@www.losmontesinos.es
SUMMARY:ACTOS CELEBRACIÓN 'DÍA INTERNACIONAL DEL LIBRO\, 23 DE ABRIL DE 2019'
DESCRIPTION:Viernes\, 3 de mayo a las 17.00 horas (Plaza Sagrado Corazón): \n\nExposición  y venta de libros a cargo de las AMPAS  del CEIP Virgen del Pilar y del IES de Los Montesinos y Papelería Eulalia.\nTalleres\, concurso y cuentacuentos.\nConcurso de carteles de infantil y primaria.\n\nSábado\, 4 de mayo a las 18.30 horas (Auditorio de la Escuela de Música y Cultura): \n\nMusical ‘Miss Poppins’ para toda la familia (patrocina la Excma.Diputación de Alicante).\n\n  \n  \n 
URL:https://www.losmontesinos.es/event/actos-celebracion-dia-internacional-del-libro-23-de-abril-de-2019/
LOCATION:Plaza Sagrado Corazón de Jesús de Los Montesinos\, Plaza Sagrado Corazón\, 1\, Los Montesinos\, Alicante\, 03187\, España
CATEGORIES:Cultura
ATTACH;FMTTYPE=image/jpeg:https://www.losmontesinos.es/wp-content/uploads/2019/05/dia-del-libro-Los-Montesinos-2019.jpg
END:VEVENT
BEGIN:VEVENT
DTSTART;TZID=Europe/Madrid:20190503T170000
DTEND;TZID=Europe/Madrid:20190504T183000
DTSTAMP:20260424T232209
CREATED:20190502T113318Z
LAST-MODIFIED:20190502T113318Z
UID:10003724-1556902800-1556994600@www.losmontesinos.es
SUMMARY:ACTOS CELEBRACIÓN 'DÍA INTERNACIONAL DEL LIBRO\, 23 DE ABRIL DE 2019'
DESCRIPTION:Viernes\, 3 de mayo a las 17.00 horas (Plaza Sagrado Corazón): \n\nExposición  y venta de libros a cargo de las AMPAS  del CEIP Virgen del Pilar y del IES de Los Montesinos y Papelería Eulalia.\nTalleres\, concurso y cuentacuentos.\nConcurso de carteles de infantil y primaria.\n\nSábado\, 4 de mayo a las 18.30 horas (Auditorio de la Escuela de Música y Cultura): \n\nMusical ‘Miss Poppins’ para toda la familia (patrocina la Excma.Diputación de Alicante).\n\n  \n  \n 
URL:https://www.losmontesinos.es/event/actos-celebracion-dia-internacional-del-libro-23-de-abril-de-2019-2/
LOCATION:Plaza Sagrado Corazón de Jesús de Los Montesinos\, Plaza Sagrado Corazón\, 1\, Los Montesinos\, Alicante\, 03187\, España
CATEGORIES:Cultura
ATTACH;FMTTYPE=image/jpeg:https://www.losmontesinos.es/wp-content/uploads/2019/05/dia-del-libro-Los-Montesinos-2019.jpg
END:VEVENT
BEGIN:VEVENT
DTSTART;TZID=Europe/Madrid:20190503T170000
DTEND;TZID=Europe/Madrid:20190504T183000
DTSTAMP:20260424T232209
CREATED:20190502T113318Z
LAST-MODIFIED:20190502T113318Z
UID:10003725-1556902800-1556994600@www.losmontesinos.es
SUMMARY:ACTOS CELEBRACIÓN 'DÍA INTERNACIONAL DEL LIBRO\, 23 DE ABRIL DE 2019'
DESCRIPTION:Viernes\, 3 de mayo a las 17.00 horas (Plaza Sagrado Corazón): \n\nExposición  y venta de libros a cargo de las AMPAS  del CEIP Virgen del Pilar y del IES de Los Montesinos y Papelería Eulalia.\nTalleres\, concurso y cuentacuentos.\nConcurso de carteles de infantil y primaria.\n\nSábado\, 4 de mayo a las 18.30 horas (Auditorio de la Escuela de Música y Cultura): \n\nMusical ‘Miss Poppins’ para toda la familia (patrocina la Excma.Diputación de Alicante).\n\n  \n  \n 
URL:https://www.losmontesinos.es/event/actos-celebracion-dia-internacional-del-libro-23-de-abril-de-2019-3/
LOCATION:Plaza Sagrado Corazón de Jesús de Los Montesinos\, Plaza Sagrado Corazón\, 1\, Los Montesinos\, Alicante\, 03187\, España
CATEGORIES:Cultura
ATTACH;FMTTYPE=image/jpeg:https://www.losmontesinos.es/wp-content/uploads/2019/05/dia-del-libro-Los-Montesinos-2019.jpg
END:VEVENT
BEGIN:VEVENT
DTSTART;TZID=Europe/Madrid:20190504T190000
DTEND;TZID=Europe/Madrid:20190504T203000
DTSTAMP:20260424T232209
CREATED:20190502T103241Z
LAST-MODIFIED:20190502T103241Z
UID:10004327-1556996400-1557001800@www.losmontesinos.es
SUMMARY:TEATRO INFANTIL: MISS POPPINS
DESCRIPTION:Miss Poppins\, una preciosa y divertida adaptación que necesita de la participación del público\, llena de canciones pegadizas que harán las delicias de grandes y pequeños. \nSábado 4 de mayo\, a las 19.00 horas\, en el Auditorio de la Escuela de Música y Cultura de los Montesinos. \nEntrada libre\, hasta completar aforo. \n 
URL:https://www.losmontesinos.es/event/teatro-infantil-miss-poppins/
LOCATION:Escuela municipal de Música y Cultura (Auditorio municipal)\, C/ Zaragoza\, 5\, Los Montesinos\, Alicante\, 03187\, España
CATEGORIES:Cultura
ATTACH;FMTTYPE=image/jpeg:https://www.losmontesinos.es/wp-content/uploads/2019/05/Teatro-Miss-Poppins-Los-Montesinos-2019.jpg
END:VEVENT
BEGIN:VEVENT
DTSTART;TZID=Europe/Madrid:20190504T190000
DTEND;TZID=Europe/Madrid:20190504T203000
DTSTAMP:20260424T232209
CREATED:20190502T103241Z
LAST-MODIFIED:20190502T103241Z
UID:10004328-1556996400-1557001800@www.losmontesinos.es
SUMMARY:TEATRO INFANTIL: MISS POPPINS
DESCRIPTION:Miss Poppins\, una preciosa y divertida adaptación que necesita de la participación del público\, llena de canciones pegadizas que harán las delicias de grandes y pequeños. \nSábado 4 de mayo\, a las 19.00 horas\, en el Auditorio de la Escuela de Música y Cultura de los Montesinos. \nEntrada libre\, hasta completar aforo. \n 
URL:https://www.losmontesinos.es/event/teatro-infantil-miss-poppins-2/
LOCATION:Escuela municipal de Música y Cultura (Auditorio municipal)\, C/ Zaragoza\, 5\, Los Montesinos\, Alicante\, 03187\, España
CATEGORIES:Cultura
ATTACH;FMTTYPE=image/jpeg:https://www.losmontesinos.es/wp-content/uploads/2019/05/Teatro-Miss-Poppins-Los-Montesinos-2019.jpg
END:VEVENT
BEGIN:VEVENT
DTSTART;TZID=Europe/Madrid:20190504T190000
DTEND;TZID=Europe/Madrid:20190504T203000
DTSTAMP:20260424T232209
CREATED:20190502T103241Z
LAST-MODIFIED:20190502T103241Z
UID:10004329-1556996400-1557001800@www.losmontesinos.es
SUMMARY:TEATRO INFANTIL: MISS POPPINS
DESCRIPTION:Miss Poppins\, una preciosa y divertida adaptación que necesita de la participación del público\, llena de canciones pegadizas que harán las delicias de grandes y pequeños. \nSábado 4 de mayo\, a las 19.00 horas\, en el Auditorio de la Escuela de Música y Cultura de los Montesinos. \nEntrada libre\, hasta completar aforo. \n 
URL:https://www.losmontesinos.es/event/teatro-infantil-miss-poppins-3/
LOCATION:Escuela municipal de Música y Cultura (Auditorio municipal)\, C/ Zaragoza\, 5\, Los Montesinos\, Alicante\, 03187\, España
CATEGORIES:Cultura
ATTACH;FMTTYPE=image/jpeg:https://www.losmontesinos.es/wp-content/uploads/2019/05/Teatro-Miss-Poppins-Los-Montesinos-2019.jpg
END:VEVENT
BEGIN:VEVENT
DTSTART;TZID=Europe/Madrid:20190504T200000
DTEND;TZID=Europe/Madrid:20190504T223000
DTSTAMP:20260424T232209
CREATED:20190502T115612Z
LAST-MODIFIED:20190502T115612Z
UID:10003726-1557000000-1557009000@www.losmontesinos.es
SUMMARY:PRESENTACIÓN DE ACTIVIDADES EN LA MARQUESA\, MES DE MAYO
DESCRIPTION:A las 20.00 horas\, Santa Misa \nA las 21.00 horas\, presentación del material cultural y de promoción de ‘La Marquesa’ y actividades para el mes de mayo. \nA las 21.30 horas\, Concierto-Oración ‘AKATHISTOS’\, Alabanzas a la Madre de Dios\, con las CORAL ALCORES de San Miguel de Salinas y la intervención vocal de Antonio Martínez Prieto\, barítono solista. \n 
URL:https://www.losmontesinos.es/event/presentacion-de-actividades-en-la-marquesa-mes-de-mayo/
LOCATION:Iglesia de La Marquesa (ermita)
CATEGORIES:Eventos
ATTACH;FMTTYPE=image/jpeg:https://www.losmontesinos.es/wp-content/uploads/2019/05/la-marquesa-origines-lOS-Montesinos-2019.jpg
END:VEVENT
BEGIN:VEVENT
DTSTART;TZID=Europe/Madrid:20190504T200000
DTEND;TZID=Europe/Madrid:20190504T223000
DTSTAMP:20260424T232209
CREATED:20190502T115612Z
LAST-MODIFIED:20190502T115612Z
UID:10003727-1557000000-1557009000@www.losmontesinos.es
SUMMARY:PRESENTACIÓN DE ACTIVIDADES EN LA MARQUESA\, MES DE MAYO
DESCRIPTION:A las 20.00 horas\, Santa Misa \nA las 21.00 horas\, presentación del material cultural y de promoción de ‘La Marquesa’ y actividades para el mes de mayo. \nA las 21.30 horas\, Concierto-Oración ‘AKATHISTOS’\, Alabanzas a la Madre de Dios\, con las CORAL ALCORES de San Miguel de Salinas y la intervención vocal de Antonio Martínez Prieto\, barítono solista. \n 
URL:https://www.losmontesinos.es/event/presentacion-de-actividades-en-la-marquesa-mes-de-mayo-2/
LOCATION:Iglesia de La Marquesa (ermita)
CATEGORIES:Eventos
ATTACH;FMTTYPE=image/jpeg:https://www.losmontesinos.es/wp-content/uploads/2019/05/la-marquesa-origines-lOS-Montesinos-2019.jpg
END:VEVENT
BEGIN:VEVENT
DTSTART;TZID=Europe/Madrid:20190504T200000
DTEND;TZID=Europe/Madrid:20190504T223000
DTSTAMP:20260424T232209
CREATED:20190502T115612Z
LAST-MODIFIED:20190502T115612Z
UID:10003728-1557000000-1557009000@www.losmontesinos.es
SUMMARY:PRESENTACIÓN DE ACTIVIDADES EN LA MARQUESA\, MES DE MAYO
DESCRIPTION:A las 20.00 horas\, Santa Misa \nA las 21.00 horas\, presentación del material cultural y de promoción de ‘La Marquesa’ y actividades para el mes de mayo. \nA las 21.30 horas\, Concierto-Oración ‘AKATHISTOS’\, Alabanzas a la Madre de Dios\, con las CORAL ALCORES de San Miguel de Salinas y la intervención vocal de Antonio Martínez Prieto\, barítono solista. \n 
URL:https://www.losmontesinos.es/event/presentacion-de-actividades-en-la-marquesa-mes-de-mayo-3/
LOCATION:Iglesia de La Marquesa (ermita)
CATEGORIES:Eventos
ATTACH;FMTTYPE=image/jpeg:https://www.losmontesinos.es/wp-content/uploads/2019/05/la-marquesa-origines-lOS-Montesinos-2019.jpg
END:VEVENT
END:VCALENDAR