BEGIN:VCALENDAR
VERSION:2.0
PRODID:-//Ayuntamiento - ECPv6.15.15//NONSGML v1.0//EN
CALSCALE:GREGORIAN
METHOD:PUBLISH
X-WR-CALNAME:Ayuntamiento
X-ORIGINAL-URL:https://www.losmontesinos.es
X-WR-CALDESC:Eventos para Ayuntamiento
REFRESH-INTERVAL;VALUE=DURATION:PT1H
X-Robots-Tag:noindex
X-PUBLISHED-TTL:PT1H
BEGIN:VTIMEZONE
TZID:Europe/Madrid
BEGIN:DAYLIGHT
TZOFFSETFROM:+0100
TZOFFSETTO:+0200
TZNAME:CEST
DTSTART:20180325T010000
END:DAYLIGHT
BEGIN:STANDARD
TZOFFSETFROM:+0200
TZOFFSETTO:+0100
TZNAME:CET
DTSTART:20181028T010000
END:STANDARD
BEGIN:DAYLIGHT
TZOFFSETFROM:+0100
TZOFFSETTO:+0200
TZNAME:CEST
DTSTART:20190331T010000
END:DAYLIGHT
BEGIN:STANDARD
TZOFFSETFROM:+0200
TZOFFSETTO:+0100
TZNAME:CET
DTSTART:20191027T010000
END:STANDARD
BEGIN:DAYLIGHT
TZOFFSETFROM:+0100
TZOFFSETTO:+0200
TZNAME:CEST
DTSTART:20200329T010000
END:DAYLIGHT
BEGIN:STANDARD
TZOFFSETFROM:+0200
TZOFFSETTO:+0100
TZNAME:CET
DTSTART:20201025T010000
END:STANDARD
END:VTIMEZONE
BEGIN:VEVENT
DTSTART;TZID=Europe/Madrid:20190427T183000
DTEND;TZID=Europe/Madrid:20190427T213000
DTSTAMP:20260425T010833
CREATED:20190320T102000Z
LAST-MODIFIED:20190320T102000Z
UID:10004297-1556389800-1556400600@www.losmontesinos.es
SUMMARY:HALL ESCAPE LOS MONTESINOS 'MEMENTO MORI'
DESCRIPTION:Llega “Memento Mori”\, un juego de ocio alternativo para pasarlo en grande con vuestras amistades\, organizado desde la Concejalía de Juventud del Ayuntamiento de Los Montesinos.\nDeberéis resolver un enigma lleno de rompecabezas\, pistas y acertijos en el menor tiempo posible aplicando la lógica\, el ingenio y el trabajo en equipo.\n¡Habrá premios para los equipos que resuelvan la trama correctamente y en el menor tiempo posible!\n\n\nGrupos locales de 4 a 6 personas. Inscripciones en el Ayuntamiento o por whatsapp al teléfono 620810590. La actividad es gratuita con cupos limitados.\n\n\nSe desarrollará la tarde noche del 27 de abril (a cada grupo una hora concreta). Tras jugar todos\, habrá una quedada con los equipos participantes para resolver la trama y entregar premios.
URL:https://www.losmontesinos.es/event/hall-escape-los-montesinos-memento-mori/
LOCATION:Centro Cívico y Social (Hogar del Jubilado)\, Plaza del Ayuntamiento\, 2\, Los Montesinos\, Alicante\, 03187\, España
CATEGORIES:Juventud
ATTACH;FMTTYPE=image/png:https://www.losmontesinos.es/wp-content/uploads/2019/03/Juego-memento-mori-Los-Montesinos-2019.png
END:VEVENT
BEGIN:VEVENT
DTSTART;TZID=Europe/Madrid:20190427T183000
DTEND;TZID=Europe/Madrid:20190427T213000
DTSTAMP:20260425T010834
CREATED:20190320T102000Z
LAST-MODIFIED:20190320T102000Z
UID:10004298-1556389800-1556400600@www.losmontesinos.es
SUMMARY:HALL ESCAPE LOS MONTESINOS 'MEMENTO MORI'
DESCRIPTION:Llega “Memento Mori”\, un juego de ocio alternativo para pasarlo en grande con vuestras amistades\, organizado desde la Concejalía de Juventud del Ayuntamiento de Los Montesinos.\nDeberéis resolver un enigma lleno de rompecabezas\, pistas y acertijos en el menor tiempo posible aplicando la lógica\, el ingenio y el trabajo en equipo.\n¡Habrá premios para los equipos que resuelvan la trama correctamente y en el menor tiempo posible!\n\n\nGrupos locales de 4 a 6 personas. Inscripciones en el Ayuntamiento o por whatsapp al teléfono 620810590. La actividad es gratuita con cupos limitados.\n\n\nSe desarrollará la tarde noche del 27 de abril (a cada grupo una hora concreta). Tras jugar todos\, habrá una quedada con los equipos participantes para resolver la trama y entregar premios.
URL:https://www.losmontesinos.es/event/hall-escape-los-montesinos-memento-mori-2/
LOCATION:Centro Cívico y Social (Hogar del Jubilado)\, Plaza del Ayuntamiento\, 2\, Los Montesinos\, Alicante\, 03187\, España
CATEGORIES:Juventud
ATTACH;FMTTYPE=image/png:https://www.losmontesinos.es/wp-content/uploads/2019/03/Juego-memento-mori-Los-Montesinos-2019.png
END:VEVENT
BEGIN:VEVENT
DTSTART;TZID=Europe/Madrid:20190427T183000
DTEND;TZID=Europe/Madrid:20190427T213000
DTSTAMP:20260425T010834
CREATED:20190320T102000Z
LAST-MODIFIED:20190320T102000Z
UID:10004299-1556389800-1556400600@www.losmontesinos.es
SUMMARY:HALL ESCAPE LOS MONTESINOS 'MEMENTO MORI'
DESCRIPTION:Llega “Memento Mori”\, un juego de ocio alternativo para pasarlo en grande con vuestras amistades\, organizado desde la Concejalía de Juventud del Ayuntamiento de Los Montesinos.\nDeberéis resolver un enigma lleno de rompecabezas\, pistas y acertijos en el menor tiempo posible aplicando la lógica\, el ingenio y el trabajo en equipo.\n¡Habrá premios para los equipos que resuelvan la trama correctamente y en el menor tiempo posible!\n\n\nGrupos locales de 4 a 6 personas. Inscripciones en el Ayuntamiento o por whatsapp al teléfono 620810590. La actividad es gratuita con cupos limitados.\n\n\nSe desarrollará la tarde noche del 27 de abril (a cada grupo una hora concreta). Tras jugar todos\, habrá una quedada con los equipos participantes para resolver la trama y entregar premios.
URL:https://www.losmontesinos.es/event/hall-escape-los-montesinos-memento-mori-3/
LOCATION:Centro Cívico y Social (Hogar del Jubilado)\, Plaza del Ayuntamiento\, 2\, Los Montesinos\, Alicante\, 03187\, España
CATEGORIES:Juventud
ATTACH;FMTTYPE=image/png:https://www.losmontesinos.es/wp-content/uploads/2019/03/Juego-memento-mori-Los-Montesinos-2019.png
END:VEVENT
END:VCALENDAR