BEGIN:VCALENDAR
VERSION:2.0
PRODID:-//Ayuntamiento - ECPv6.15.15//NONSGML v1.0//EN
CALSCALE:GREGORIAN
METHOD:PUBLISH
X-WR-CALNAME:Ayuntamiento
X-ORIGINAL-URL:https://www.losmontesinos.es
X-WR-CALDESC:Eventos para Ayuntamiento
REFRESH-INTERVAL;VALUE=DURATION:PT1H
X-Robots-Tag:noindex
X-PUBLISHED-TTL:PT1H
BEGIN:VTIMEZONE
TZID:Europe/Madrid
BEGIN:DAYLIGHT
TZOFFSETFROM:+0100
TZOFFSETTO:+0200
TZNAME:CEST
DTSTART:20180325T010000
END:DAYLIGHT
BEGIN:STANDARD
TZOFFSETFROM:+0200
TZOFFSETTO:+0100
TZNAME:CET
DTSTART:20181028T010000
END:STANDARD
BEGIN:DAYLIGHT
TZOFFSETFROM:+0100
TZOFFSETTO:+0200
TZNAME:CEST
DTSTART:20190331T010000
END:DAYLIGHT
BEGIN:STANDARD
TZOFFSETFROM:+0200
TZOFFSETTO:+0100
TZNAME:CET
DTSTART:20191027T010000
END:STANDARD
BEGIN:DAYLIGHT
TZOFFSETFROM:+0100
TZOFFSETTO:+0200
TZNAME:CEST
DTSTART:20200329T010000
END:DAYLIGHT
BEGIN:STANDARD
TZOFFSETFROM:+0200
TZOFFSETTO:+0100
TZNAME:CET
DTSTART:20201025T010000
END:STANDARD
END:VTIMEZONE
BEGIN:VEVENT
DTSTART;TZID=Europe/Madrid:20190408T100000
DTEND;TZID=Europe/Madrid:20190412T130000
DTSTAMP:20260425T010836
CREATED:20190326T130544Z
LAST-MODIFIED:20190326T130544Z
UID:10003691-1554717600-1555074000@www.losmontesinos.es
SUMMARY:II CURSO INFORMÁTICA BÁSICA PARA PERSONAS ADULTAS
DESCRIPTION:  \n\nSEMANA del    8 al 12 de abril de 2019–> WORD y EXCEL (se requieren conocimientos básicos)\nSEMANA del 23 al 26 de abril de 2019 –> INTERNET (correo electrónico\, buscadores\, redes sociales y procesador de textos) –> No son necesarios conocimientos previos.\n\nInscripciones GRATUITAS en el Ayuntamiento (hasta completar plazas).\n\nHorario de mañanas de 10.00 a 13.00 horas.
URL:https://www.losmontesinos.es/event/ii-curso-informatica-basica-para-personas-adultas-3/
LOCATION:Alicante
CATEGORIES:Formación
ATTACH;FMTTYPE=image/png:https://www.losmontesinos.es/wp-content/uploads/2019/03/segundo-curso-informatica-Los-Montesinos-2019.png
END:VEVENT
BEGIN:VEVENT
DTSTART;TZID=Europe/Madrid:20190408T100000
DTEND;TZID=Europe/Madrid:20190412T130000
DTSTAMP:20260425T010836
CREATED:20190326T130544Z
LAST-MODIFIED:20190326T130544Z
UID:10003692-1554717600-1555074000@www.losmontesinos.es
SUMMARY:II CURSO INFORMÁTICA BÁSICA PARA PERSONAS ADULTAS
DESCRIPTION:  \n\nSEMANA del    8 al 12 de abril de 2019–> WORD y EXCEL (se requieren conocimientos básicos)\nSEMANA del 23 al 26 de abril de 2019 –> INTERNET (correo electrónico\, buscadores\, redes sociales y procesador de textos) –> No son necesarios conocimientos previos.\n\nInscripciones GRATUITAS en el Ayuntamiento (hasta completar plazas).\n\nHorario de mañanas de 10.00 a 13.00 horas.
URL:https://www.losmontesinos.es/event/ii-curso-informatica-basica-para-personas-adultas-4/
LOCATION:Alicante
CATEGORIES:Formación
ATTACH;FMTTYPE=image/png:https://www.losmontesinos.es/wp-content/uploads/2019/03/segundo-curso-informatica-Los-Montesinos-2019.png
END:VEVENT
BEGIN:VEVENT
DTSTART;TZID=Europe/Madrid:20190408T100000
DTEND;TZID=Europe/Madrid:20190412T130000
DTSTAMP:20260425T010836
CREATED:20190326T130544Z
LAST-MODIFIED:20190326T130544Z
UID:10004300-1554717600-1555074000@www.losmontesinos.es
SUMMARY:II CURSO INFORMÁTICA BÁSICA PARA PERSONAS ADULTAS
DESCRIPTION:  \n\nSEMANA del    8 al 12 de abril de 2019–> WORD y EXCEL (se requieren conocimientos básicos)\nSEMANA del 23 al 26 de abril de 2019 –> INTERNET (correo electrónico\, buscadores\, redes sociales y procesador de textos) –> No son necesarios conocimientos previos.\n\nInscripciones GRATUITAS en el Ayuntamiento (hasta completar plazas).\n\nHorario de mañanas de 10.00 a 13.00 horas.
URL:https://www.losmontesinos.es/event/ii-curso-informatica-basica-para-personas-adultas/
LOCATION:Alicante
CATEGORIES:Formación
ATTACH;FMTTYPE=image/png:https://www.losmontesinos.es/wp-content/uploads/2019/03/segundo-curso-informatica-Los-Montesinos-2019.png
END:VEVENT
BEGIN:VEVENT
DTSTART;TZID=Europe/Madrid:20190410T210000
DTEND;TZID=Europe/Madrid:20190410T220000
DTSTAMP:20260425T010836
CREATED:20190308T124722Z
LAST-MODIFIED:20190308T124722Z
UID:10003658-1554930000-1554933600@www.losmontesinos.es
SUMMARY:SEMANA SANTA 2019
DESCRIPTION:A las 21.00 horas –> En la Iglesia Parroquial celebración de la SANTA MISA por los cofrades vivos y difuntos de la Cofradía del Cristo Yacente. Al finalizar se realizará el ‘besa pies’ con la imposición de insignias a los nuevos cofrades.
URL:https://www.losmontesinos.es/event/semana-santa-2019-7/
LOCATION:Iglesia Parroquial de Los Montesinos\, Plaza del Ayuntamiento\, 2\, Los Montesinos\, Alicante\, 03187\, España
CATEGORIES:Semana Santa
ATTACH;FMTTYPE=image/jpeg:https://www.losmontesinos.es/wp-content/uploads/2019/03/Cartel-Semana-Santa-2019.jpg
END:VEVENT
BEGIN:VEVENT
DTSTART;TZID=Europe/Madrid:20190410T210000
DTEND;TZID=Europe/Madrid:20190410T220000
DTSTAMP:20260425T010836
CREATED:20190308T124722Z
LAST-MODIFIED:20190308T124722Z
UID:10003659-1554930000-1554933600@www.losmontesinos.es
SUMMARY:EASTER EVENTS 2019
DESCRIPTION:9.00 pm –> In the Parish Church the celebrations of Holy Mass in honour of the Cristo Yacente and the deceased of the confraternity. To conclude\, a ceremony for the presentation of insignias to the new members of the confraternity. 
URL:https://www.losmontesinos.es/event/semana-santa-2019-7-2/
LOCATION:Iglesia Parroquial de Los Montesinos\, Plaza del Ayuntamiento\, 2\, Los Montesinos\, Alicante\, 03187\, España
ATTACH;FMTTYPE=image/jpeg:https://www.losmontesinos.es/wp-content/uploads/2019/03/Cartel-Semana-Santa-2019.jpg
END:VEVENT
BEGIN:VEVENT
DTSTART;TZID=Europe/Madrid:20190410T210000
DTEND;TZID=Europe/Madrid:20190410T220000
DTSTAMP:20260425T010836
CREATED:20190308T124722Z
LAST-MODIFIED:20190308T124722Z
UID:10003660-1554930000-1554933600@www.losmontesinos.es
SUMMARY:SEMANA SANTA 2019
DESCRIPTION:A las 21.00 horas –> En la Iglesia Parroquial celebración de la SANTA MISA por los cofrades vivos y difuntos de la Cofradía del Cristo Yacente. Al finalizar se realizará el ‘besa pies’ con la imposición de insignias a los nuevos cofrades.
URL:https://www.losmontesinos.es/event/semana-santa-2019-7-3/
LOCATION:Iglesia Parroquial de Los Montesinos\, Plaza del Ayuntamiento\, 2\, Los Montesinos\, Alicante\, 03187\, España
CATEGORIES:Semana Santa
ATTACH;FMTTYPE=image/jpeg:https://www.losmontesinos.es/wp-content/uploads/2019/03/Cartel-Semana-Santa-2019.jpg
END:VEVENT
BEGIN:VEVENT
DTSTART;TZID=Europe/Madrid:20190410T210000
DTEND;TZID=Europe/Madrid:20190410T220000
DTSTAMP:20260425T010836
CREATED:20190308T124722Z
LAST-MODIFIED:20190308T124722Z
UID:10004261-1554930000-1554933600@www.losmontesinos.es
SUMMARY:EASTER EVENTS 2019
DESCRIPTION:9.00 pm –> In the Parish Church the celebrations of Holy Mass in honour of the Cristo Yacente and the deceased of the confraternity. To conclude\, a ceremony for the presentation of insignias to the new members of the confraternity. 
URL:https://www.losmontesinos.es/event/semana-santa-2019-7-4/
LOCATION:Iglesia Parroquial de Los Montesinos\, Plaza del Ayuntamiento\, 2\, Los Montesinos\, Alicante\, 03187\, España
ATTACH;FMTTYPE=image/jpeg:https://www.losmontesinos.es/wp-content/uploads/2019/03/Cartel-Semana-Santa-2019.jpg
END:VEVENT
BEGIN:VEVENT
DTSTART;TZID=Europe/Madrid:20190410T210000
DTEND;TZID=Europe/Madrid:20190410T220000
DTSTAMP:20260425T010836
CREATED:20190308T124722Z
LAST-MODIFIED:20190308T124722Z
UID:10004262-1554930000-1554933600@www.losmontesinos.es
SUMMARY:SEMANA SANTA 2019
DESCRIPTION:A las 21.00 horas –> En la Iglesia Parroquial celebración de la SANTA MISA por los cofrades vivos y difuntos de la Cofradía del Cristo Yacente. Al finalizar se realizará el ‘besa pies’ con la imposición de insignias a los nuevos cofrades.
URL:https://www.losmontesinos.es/event/semana-santa-2019-7-5/
LOCATION:Iglesia Parroquial de Los Montesinos\, Plaza del Ayuntamiento\, 2\, Los Montesinos\, Alicante\, 03187\, España
CATEGORIES:Semana Santa
ATTACH;FMTTYPE=image/jpeg:https://www.losmontesinos.es/wp-content/uploads/2019/03/Cartel-Semana-Santa-2019.jpg
END:VEVENT
BEGIN:VEVENT
DTSTART;TZID=Europe/Madrid:20190410T210000
DTEND;TZID=Europe/Madrid:20190410T220000
DTSTAMP:20260425T010836
CREATED:20190308T124722Z
LAST-MODIFIED:20190308T124722Z
UID:10004263-1554930000-1554933600@www.losmontesinos.es
SUMMARY:EASTER EVENTS 2019
DESCRIPTION:9.00 pm –> In the Parish Church the celebrations of Holy Mass in honour of the Cristo Yacente and the deceased of the confraternity. To conclude\, a ceremony for the presentation of insignias to the new members of the confraternity. 
URL:https://www.losmontesinos.es/event/semana-santa-2019-7-6/
LOCATION:Iglesia Parroquial de Los Montesinos\, Plaza del Ayuntamiento\, 2\, Los Montesinos\, Alicante\, 03187\, España
ATTACH;FMTTYPE=image/jpeg:https://www.losmontesinos.es/wp-content/uploads/2019/03/Cartel-Semana-Santa-2019.jpg
END:VEVENT
END:VCALENDAR