BEGIN:VCALENDAR
VERSION:2.0
PRODID:-//Ayuntamiento - ECPv6.15.15//NONSGML v1.0//EN
CALSCALE:GREGORIAN
METHOD:PUBLISH
X-WR-CALNAME:Ayuntamiento
X-ORIGINAL-URL:https://www.losmontesinos.es
X-WR-CALDESC:Eventos para Ayuntamiento
REFRESH-INTERVAL;VALUE=DURATION:PT1H
X-Robots-Tag:noindex
X-PUBLISHED-TTL:PT1H
BEGIN:VTIMEZONE
TZID:Europe/Madrid
BEGIN:DAYLIGHT
TZOFFSETFROM:+0100
TZOFFSETTO:+0200
TZNAME:CEST
DTSTART:20180325T010000
END:DAYLIGHT
BEGIN:STANDARD
TZOFFSETFROM:+0200
TZOFFSETTO:+0100
TZNAME:CET
DTSTART:20181028T010000
END:STANDARD
BEGIN:DAYLIGHT
TZOFFSETFROM:+0100
TZOFFSETTO:+0200
TZNAME:CEST
DTSTART:20190331T010000
END:DAYLIGHT
BEGIN:STANDARD
TZOFFSETFROM:+0200
TZOFFSETTO:+0100
TZNAME:CET
DTSTART:20191027T010000
END:STANDARD
BEGIN:DAYLIGHT
TZOFFSETFROM:+0100
TZOFFSETTO:+0200
TZNAME:CEST
DTSTART:20200329T010000
END:DAYLIGHT
BEGIN:STANDARD
TZOFFSETFROM:+0200
TZOFFSETTO:+0100
TZNAME:CET
DTSTART:20201025T010000
END:STANDARD
END:VTIMEZONE
BEGIN:VEVENT
DTSTART;TZID=Europe/Madrid:20190406T090000
DTEND;TZID=Europe/Madrid:20190406T183000
DTSTAMP:20260425T010813
CREATED:20190313T125214Z
LAST-MODIFIED:20190313T125214Z
UID:10004294-1554541200-1554575400@www.losmontesinos.es
SUMMARY:'CONOCE TU ENTORNO E INTÉGRATE' (CIUDADANÍA EXTRANJERA)
DESCRIPTION:Actividad gratuita destinada a la ciudadanía extranjera // Free activity for foreign residents\nSábado 6 de abril // Saturday 6th April\nSalida: 9.00 horas Pza. Sagrado Corazón // Llegada aprox. 18.30 horas.\nInscripciones en el Ayuntamiento de Los Montesinos (hasta el 3 de abril o fin de plazas)\n 
URL:https://www.losmontesinos.es/event/conoce-tu-entorno-e-integrate-ciudadania-extranjera/
LOCATION:Plaza Sagrado Corazón de Jesús de Los Montesinos\, Plaza Sagrado Corazón\, 1\, Los Montesinos\, Alicante\, 03187\, España
CATEGORIES:Turismo
ATTACH;FMTTYPE=image/jpeg:https://www.losmontesinos.es/wp-content/uploads/2019/03/CONOCE-TU-ENTORNO-2019-extranjeros.jpg
END:VEVENT
BEGIN:VEVENT
DTSTART;TZID=Europe/Madrid:20190406T090000
DTEND;TZID=Europe/Madrid:20190406T183000
DTSTAMP:20260425T010813
CREATED:20190313T125214Z
LAST-MODIFIED:20190313T125214Z
UID:10004295-1554541200-1554575400@www.losmontesinos.es
SUMMARY:'CONOCE TU ENTORNO E INTÉGRATE' (CIUDADANÍA EXTRANJERA)
DESCRIPTION:Actividad gratuita destinada a la ciudadanía extranjera // Free activity for foreign residents\nSábado 6 de abril // Saturday 6th April\nSalida: 9.00 horas Pza. Sagrado Corazón // Llegada aprox. 18.30 horas.\nInscripciones en el Ayuntamiento de Los Montesinos (hasta el 3 de abril o fin de plazas)\n 
URL:https://www.losmontesinos.es/event/conoce-tu-entorno-e-integrate-ciudadania-extranjera-2/
LOCATION:Plaza Sagrado Corazón de Jesús de Los Montesinos\, Plaza Sagrado Corazón\, 1\, Los Montesinos\, Alicante\, 03187\, España
CATEGORIES:Turismo
ATTACH;FMTTYPE=image/jpeg:https://www.losmontesinos.es/wp-content/uploads/2019/03/CONOCE-TU-ENTORNO-2019-extranjeros.jpg
END:VEVENT
BEGIN:VEVENT
DTSTART;TZID=Europe/Madrid:20190406T090000
DTEND;TZID=Europe/Madrid:20190406T183000
DTSTAMP:20260425T010813
CREATED:20190313T125214Z
LAST-MODIFIED:20190313T125214Z
UID:10004296-1554541200-1554575400@www.losmontesinos.es
SUMMARY:'CONOCE TU ENTORNO E INTÉGRATE' (CIUDADANÍA EXTRANJERA)
DESCRIPTION:Actividad gratuita destinada a la ciudadanía extranjera // Free activity for foreign residents\nSábado 6 de abril // Saturday 6th April\nSalida: 9.00 horas Pza. Sagrado Corazón // Llegada aprox. 18.30 horas.\nInscripciones en el Ayuntamiento de Los Montesinos (hasta el 3 de abril o fin de plazas)\n 
URL:https://www.losmontesinos.es/event/conoce-tu-entorno-e-integrate-ciudadania-extranjera-3/
LOCATION:Plaza Sagrado Corazón de Jesús de Los Montesinos\, Plaza Sagrado Corazón\, 1\, Los Montesinos\, Alicante\, 03187\, España
CATEGORIES:Turismo
ATTACH;FMTTYPE=image/jpeg:https://www.losmontesinos.es/wp-content/uploads/2019/03/CONOCE-TU-ENTORNO-2019-extranjeros.jpg
END:VEVENT
END:VCALENDAR