BEGIN:VCALENDAR
VERSION:2.0
PRODID:-//Ayuntamiento - ECPv6.15.15//NONSGML v1.0//EN
CALSCALE:GREGORIAN
METHOD:PUBLISH
X-ORIGINAL-URL:https://www.losmontesinos.es
X-WR-CALDESC:Eventos para Ayuntamiento
REFRESH-INTERVAL;VALUE=DURATION:PT1H
X-Robots-Tag:noindex
X-PUBLISHED-TTL:PT1H
BEGIN:VTIMEZONE
TZID:Europe/Madrid
BEGIN:DAYLIGHT
TZOFFSETFROM:+0100
TZOFFSETTO:+0200
TZNAME:CEST
DTSTART:20180325T010000
END:DAYLIGHT
BEGIN:STANDARD
TZOFFSETFROM:+0200
TZOFFSETTO:+0100
TZNAME:CET
DTSTART:20181028T010000
END:STANDARD
BEGIN:DAYLIGHT
TZOFFSETFROM:+0100
TZOFFSETTO:+0200
TZNAME:CEST
DTSTART:20190331T010000
END:DAYLIGHT
BEGIN:STANDARD
TZOFFSETFROM:+0200
TZOFFSETTO:+0100
TZNAME:CET
DTSTART:20191027T010000
END:STANDARD
BEGIN:DAYLIGHT
TZOFFSETFROM:+0100
TZOFFSETTO:+0200
TZNAME:CEST
DTSTART:20200329T010000
END:DAYLIGHT
BEGIN:STANDARD
TZOFFSETFROM:+0200
TZOFFSETTO:+0100
TZNAME:CET
DTSTART:20201025T010000
END:STANDARD
END:VTIMEZONE
BEGIN:VEVENT
DTSTART;TZID=Europe/Madrid:20190323T090000
DTEND;TZID=Europe/Madrid:20190324T200000
DTSTAMP:20260425T025935
CREATED:20190306T133705Z
LAST-MODIFIED:20190306T133705Z
UID:10004253-1553331600-1553457600@www.losmontesinos.es
SUMMARY:MASTERCLASS DE CLARINETE (IMPARTE CÉSAR MARTÍN)
DESCRIPTION:Imparte la masterclass: CÉSAR MARTÍN\, Profesor del Conservatorio Profesional de Música de Alicante\, Clarinete Solista de la Orquesta Sinfónica ‘Ciudad de Elche’\, Artista Buffet y Artista D’addario Woodwinds España\, se impartirá los días 23 y 24 de marzo de 2019 en la Escuela de Música y Cultura de Los Montesinos. \nInscripciones: Escuela de Música y Cultura de Los Montesinos (25€ para alumnos de Los Montesinos\, 35€ para el resto del alumnado; Ingresos en Banco Sabadell cuenta nº ES74 0081 1029 2800 0639 1054). \nMail: escuelamusicaycultura@losmontesinos.org      Tfnos. 966721027 // 966721087 \n 
URL:https://www.losmontesinos.es/event/masterclass-de-clarinete-d-cesar-martin/
LOCATION:Escuela municipal de Música y Cultura (Auditorio municipal)\, C/ Zaragoza\, 5\, Los Montesinos\, Alicante\, 03187\, España
CATEGORIES:Cultura
ATTACH;FMTTYPE=image/jpeg:https://www.losmontesinos.es/wp-content/uploads/2019/03/Master-Class-Clarinetes-Los-Montesinos-2019.jpg
END:VEVENT
BEGIN:VEVENT
DTSTART;TZID=Europe/Madrid:20190323T090000
DTEND;TZID=Europe/Madrid:20190324T200000
DTSTAMP:20260425T025935
CREATED:20190306T133705Z
LAST-MODIFIED:20190306T133705Z
UID:10004254-1553331600-1553457600@www.losmontesinos.es
SUMMARY:MASTERCLASS DE CLARINETE (IMPARTE CÉSAR MARTÍN)
DESCRIPTION:Imparte la masterclass: CÉSAR MARTÍN\, Profesor del Conservatorio Profesional de Música de Alicante\, Clarinete Solista de la Orquesta Sinfónica ‘Ciudad de Elche’\, Artista Buffet y Artista D’addario Woodwinds España\, se impartirá los días 23 y 24 de marzo de 2019 en la Escuela de Música y Cultura de Los Montesinos. \nInscripciones: Escuela de Música y Cultura de Los Montesinos (25€ para alumnos de Los Montesinos\, 35€ para el resto del alumnado; Ingresos en Banco Sabadell cuenta nº ES74 0081 1029 2800 0639 1054). \nMail: escuelamusicaycultura@losmontesinos.org      Tfnos. 966721027 // 966721087 \n 
URL:https://www.losmontesinos.es/event/masterclass-de-clarinete-d-cesar-martin-2/
LOCATION:Escuela municipal de Música y Cultura (Auditorio municipal)\, C/ Zaragoza\, 5\, Los Montesinos\, Alicante\, 03187\, España
CATEGORIES:Cultura
ATTACH;FMTTYPE=image/jpeg:https://www.losmontesinos.es/wp-content/uploads/2019/03/Master-Class-Clarinetes-Los-Montesinos-2019.jpg
END:VEVENT
BEGIN:VEVENT
DTSTART;TZID=Europe/Madrid:20190323T090000
DTEND;TZID=Europe/Madrid:20190324T200000
DTSTAMP:20260425T025935
CREATED:20190306T133705Z
LAST-MODIFIED:20190306T133705Z
UID:10004255-1553331600-1553457600@www.losmontesinos.es
SUMMARY:MASTERCLASS DE CLARINETE (IMPARTE CÉSAR MARTÍN)
DESCRIPTION:Imparte la masterclass: CÉSAR MARTÍN\, Profesor del Conservatorio Profesional de Música de Alicante\, Clarinete Solista de la Orquesta Sinfónica ‘Ciudad de Elche’\, Artista Buffet y Artista D’addario Woodwinds España\, se impartirá los días 23 y 24 de marzo de 2019 en la Escuela de Música y Cultura de Los Montesinos. \nInscripciones: Escuela de Música y Cultura de Los Montesinos (25€ para alumnos de Los Montesinos\, 35€ para el resto del alumnado; Ingresos en Banco Sabadell cuenta nº ES74 0081 1029 2800 0639 1054). \nMail: escuelamusicaycultura@losmontesinos.org      Tfnos. 966721027 // 966721087 \n 
URL:https://www.losmontesinos.es/event/masterclass-de-clarinete-d-cesar-martin-3/
LOCATION:Escuela municipal de Música y Cultura (Auditorio municipal)\, C/ Zaragoza\, 5\, Los Montesinos\, Alicante\, 03187\, España
CATEGORIES:Cultura
ATTACH;FMTTYPE=image/jpeg:https://www.losmontesinos.es/wp-content/uploads/2019/03/Master-Class-Clarinetes-Los-Montesinos-2019.jpg
END:VEVENT
END:VCALENDAR